BEGIN:VCALENDAR
VERSION:2.0
PRODID:-//Callahan First Baptist Church - ECPv6.15.20//NONSGML v1.0//EN
CALSCALE:GREGORIAN
METHOD:PUBLISH
X-WR-CALNAME:Callahan First Baptist Church
X-ORIGINAL-URL:https://callahanfbc.com
X-WR-CALDESC:Events for Callahan First Baptist Church
REFRESH-INTERVAL;VALUE=DURATION:PT1H
X-Robots-Tag:noindex
X-PUBLISHED-TTL:PT1H
BEGIN:VTIMEZONE
TZID:UTC
BEGIN:STANDARD
TZOFFSETFROM:+0000
TZOFFSETTO:+0000
TZNAME:UTC
DTSTART:20240101T000000
END:STANDARD
END:VTIMEZONE
BEGIN:VEVENT
DTSTART;TZID=UTC:20251207T101500
DTEND;TZID=UTC:20251207T120000
DTSTAMP:20260423T203611
CREATED:20240430T210534Z
LAST-MODIFIED:20241111T234920Z
UID:10000058-1765102500-1765108800@callahanfbc.com
SUMMARY:Sunday Worship
DESCRIPTION:Join us every Sunday morning for Worship at Callahan First Baptist Church. We can’t wait to see you this Sunday!
URL:https://callahanfbc.com/event/sunday-worship/2025-12-07/
LOCATION:Callahan First Baptist\, 45090 Green Ave\, Callahan\, FL\, 32011\, United States
CATEGORIES:Sunday Worship
ATTACH;FMTTYPE=image/jpeg:https://callahanfbc.com/wp-content/uploads/2024/04/3T6A1789.jpg
END:VEVENT
BEGIN:VEVENT
DTSTART;TZID=UTC:20251207T180000
DTEND;TZID=UTC:20251207T200000
DTSTAMP:20260423T203611
CREATED:20250130T015943Z
LAST-MODIFIED:20251204T183639Z
UID:10003348-1765130400-1765137600@callahanfbc.com
SUMMARY:Christmas in Callahan
DESCRIPTION:Callahan First Baptist Church presents a Christmas Musical. Join us as we celebrate the birth of our Lord and Savior\, Jesus Christ as we ring in the reason for the season.
URL:https://callahanfbc.com/event/christmas-musical/2025-12-07/
LOCATION:Callahan First Baptist\, 45090 Green Ave\, Callahan\, FL\, 32011\, United States
ATTACH;FMTTYPE=image/jpeg:https://callahanfbc.com/wp-content/uploads/2025/01/CIC-check-in-background.jpg
END:VEVENT
END:VCALENDAR