BEGIN:VCALENDAR
VERSION:2.0
PRODID:-//Callahan First Baptist Church - ECPv6.15.20//NONSGML v1.0//EN
CALSCALE:GREGORIAN
METHOD:PUBLISH
X-WR-CALNAME:Callahan First Baptist Church
X-ORIGINAL-URL:https://callahanfbc.com
X-WR-CALDESC:Events for Callahan First Baptist Church
REFRESH-INTERVAL;VALUE=DURATION:PT1H
X-Robots-Tag:noindex
X-PUBLISHED-TTL:PT1H
BEGIN:VTIMEZONE
TZID:America/New_York
BEGIN:DAYLIGHT
TZOFFSETFROM:-0500
TZOFFSETTO:-0400
TZNAME:EDT
DTSTART:20250309T070000
END:DAYLIGHT
BEGIN:STANDARD
TZOFFSETFROM:-0400
TZOFFSETTO:-0500
TZNAME:EST
DTSTART:20251102T060000
END:STANDARD
BEGIN:DAYLIGHT
TZOFFSETFROM:-0500
TZOFFSETTO:-0400
TZNAME:EDT
DTSTART:20260308T070000
END:DAYLIGHT
BEGIN:STANDARD
TZOFFSETFROM:-0400
TZOFFSETTO:-0500
TZNAME:EST
DTSTART:20261101T060000
END:STANDARD
BEGIN:DAYLIGHT
TZOFFSETFROM:-0500
TZOFFSETTO:-0400
TZNAME:EDT
DTSTART:20270314T070000
END:DAYLIGHT
BEGIN:STANDARD
TZOFFSETFROM:-0400
TZOFFSETTO:-0500
TZNAME:EST
DTSTART:20271107T060000
END:STANDARD
END:VTIMEZONE
BEGIN:VEVENT
DTSTART;TZID=America/New_York:20260529T070000
DTEND;TZID=America/New_York:20260529T130000
DTSTAMP:20260423T153642
CREATED:20260421T143529Z
LAST-MODIFIED:20260421T143529Z
UID:10003941-1780038000-1780059600@callahanfbc.com
SUMMARY:Men's Golf Tournament
DESCRIPTION:Our Men’s Ministry is having a Golf Tournament on May 29th. Sign-ups are in the Lobby on Sunday mornings\, and the cost is $40 per person. \nWe ask that you sign up and pay before May 22nd. \nWe will play at The Folkston Golf Club at 186 Country Club Rd\, Folkston\, GA 31537\, beginning at 7 am on Friday\, May 29th.
URL:https://callahanfbc.com/event/mens-golf-tournament/
LOCATION:Offsite
ATTACH;FMTTYPE=image/jpeg:https://callahanfbc.com/wp-content/uploads/2026/04/Golf-Image.jpg
END:VEVENT
END:VCALENDAR