BEGIN:VCALENDAR
VERSION:2.0
PRODID:-//Callahan First Baptist Church - ECPv6.15.20//NONSGML v1.0//EN
CALSCALE:GREGORIAN
METHOD:PUBLISH
X-WR-CALNAME:Callahan First Baptist Church
X-ORIGINAL-URL:https://callahanfbc.com
X-WR-CALDESC:Events for Callahan First Baptist Church
REFRESH-INTERVAL;VALUE=DURATION:PT1H
X-Robots-Tag:noindex
X-PUBLISHED-TTL:PT1H
BEGIN:VTIMEZONE
TZID:America/New_York
BEGIN:DAYLIGHT
TZOFFSETFROM:-0500
TZOFFSETTO:-0400
TZNAME:EDT
DTSTART:20250309T070000
END:DAYLIGHT
BEGIN:STANDARD
TZOFFSETFROM:-0400
TZOFFSETTO:-0500
TZNAME:EST
DTSTART:20251102T060000
END:STANDARD
BEGIN:DAYLIGHT
TZOFFSETFROM:-0500
TZOFFSETTO:-0400
TZNAME:EDT
DTSTART:20260308T070000
END:DAYLIGHT
BEGIN:STANDARD
TZOFFSETFROM:-0400
TZOFFSETTO:-0500
TZNAME:EST
DTSTART:20261101T060000
END:STANDARD
BEGIN:DAYLIGHT
TZOFFSETFROM:-0500
TZOFFSETTO:-0400
TZNAME:EDT
DTSTART:20270314T070000
END:DAYLIGHT
BEGIN:STANDARD
TZOFFSETFROM:-0400
TZOFFSETTO:-0500
TZNAME:EST
DTSTART:20271107T060000
END:STANDARD
END:VTIMEZONE
BEGIN:VTIMEZONE
TZID:UTC
BEGIN:STANDARD
TZOFFSETFROM:+0000
TZOFFSETTO:+0000
TZNAME:UTC
DTSTART:20250101T000000
END:STANDARD
END:VTIMEZONE
BEGIN:VEVENT
DTSTART;TZID=America/New_York:20260604T100000
DTEND;TZID=America/New_York:20260604T120000
DTSTAMP:20260423T172747
CREATED:20260203T131525Z
LAST-MODIFIED:20260203T131525Z
UID:10003751-1780567200-1780574400@callahanfbc.com
SUMMARY:Storehouse Morning Giveaway
DESCRIPTION:Come join us for our free food giveaway this morning from 10 am- 12 pm. Everyone is welcome to receive free groceries hand packed by our volunteers. Limit two families per vehicle.
URL:https://callahanfbc.com/event/storehouse-morning-giveaway/2026-06-04/
LOCATION:Callahan First Baptist\, 45090 Green Ave\, Callahan\, FL\, 32011\, United States
CATEGORIES:Community Impact
ATTACH;FMTTYPE=image/jpeg:https://callahanfbc.com/wp-content/uploads/2024/11/Storehouse-Truck.jpg
END:VEVENT
BEGIN:VEVENT
DTSTART;TZID=UTC:20260604T100000
DTEND;TZID=UTC:20260604T140000
DTSTAMP:20260423T172747
CREATED:20241113T020919Z
LAST-MODIFIED:20241118T235512Z
UID:10000355-1780567200-1780581600@callahanfbc.com
SUMMARY:Grace's House
DESCRIPTION:Discover great finds and support a meaningful cause at Grace’s House! Our church’s thrift store ministry is dedicated to “Making a Difference\, Not a Profit.” Every purchase at Grace’s House helps fund local outreach programs and provides affordable goods to our community. Whether you’re shopping or donating\, you’re contributing to a ministry that brings hope\, support\, and love to those in need. Come visit us to make a difference together!
URL:https://callahanfbc.com/event/graces-house/2026-06-04/
LOCATION:Grace’s House\, 449521 US HWY 301\, Callahan\, FL\, 32011\, United States
CATEGORIES:Community Impact
ATTACH;FMTTYPE=image/jpeg:https://callahanfbc.com/wp-content/uploads/2024/11/3T6A0224.jpg
END:VEVENT
END:VCALENDAR