BEGIN:VCALENDAR
VERSION:2.0
PRODID:-//Callahan First Baptist Church - ECPv6.15.20//NONSGML v1.0//EN
CALSCALE:GREGORIAN
METHOD:PUBLISH
X-ORIGINAL-URL:https://callahanfbc.com
X-WR-CALDESC:Events for Callahan First Baptist Church
REFRESH-INTERVAL;VALUE=DURATION:PT1H
X-Robots-Tag:noindex
X-PUBLISHED-TTL:PT1H
BEGIN:VTIMEZONE
TZID:UTC
BEGIN:STANDARD
TZOFFSETFROM:+0000
TZOFFSETTO:+0000
TZNAME:UTC
DTSTART:20240101T000000
END:STANDARD
END:VTIMEZONE
BEGIN:VTIMEZONE
TZID:America/New_York
BEGIN:DAYLIGHT
TZOFFSETFROM:-0500
TZOFFSETTO:-0400
TZNAME:EDT
DTSTART:20240310T070000
END:DAYLIGHT
BEGIN:STANDARD
TZOFFSETFROM:-0400
TZOFFSETTO:-0500
TZNAME:EST
DTSTART:20241103T060000
END:STANDARD
BEGIN:DAYLIGHT
TZOFFSETFROM:-0500
TZOFFSETTO:-0400
TZNAME:EDT
DTSTART:20250309T070000
END:DAYLIGHT
BEGIN:STANDARD
TZOFFSETFROM:-0400
TZOFFSETTO:-0500
TZNAME:EST
DTSTART:20251102T060000
END:STANDARD
BEGIN:DAYLIGHT
TZOFFSETFROM:-0500
TZOFFSETTO:-0400
TZNAME:EDT
DTSTART:20260308T070000
END:DAYLIGHT
BEGIN:STANDARD
TZOFFSETFROM:-0400
TZOFFSETTO:-0500
TZNAME:EST
DTSTART:20261101T060000
END:STANDARD
END:VTIMEZONE
BEGIN:VEVENT
DTSTART;TZID=UTC:20250828T100000
DTEND;TZID=UTC:20250828T140000
DTSTAMP:20260424T033422
CREATED:20241113T020919Z
LAST-MODIFIED:20241118T235512Z
UID:10000315-1756375200-1756389600@callahanfbc.com
SUMMARY:Grace's House
DESCRIPTION:Discover great finds and support a meaningful cause at Grace’s House! Our church’s thrift store ministry is dedicated to “Making a Difference\, Not a Profit.” Every purchase at Grace’s House helps fund local outreach programs and provides affordable goods to our community. Whether you’re shopping or donating\, you’re contributing to a ministry that brings hope\, support\, and love to those in need. Come visit us to make a difference together!
URL:https://callahanfbc.com/event/graces-house/2025-08-28/
LOCATION:Grace’s House\, 449521 US HWY 301\, Callahan\, FL\, 32011\, United States
CATEGORIES:Community Impact
ATTACH;FMTTYPE=image/jpeg:https://callahanfbc.com/wp-content/uploads/2024/11/3T6A0224.jpg
END:VEVENT
BEGIN:VEVENT
DTSTART;TZID=America/New_York:20250828T180000
DTEND;TZID=America/New_York:20250828T200000
DTSTAMP:20260424T033422
CREATED:20250716T180137Z
LAST-MODIFIED:20250716T180137Z
UID:10003355-1756404000-1756411200@callahanfbc.com
SUMMARY:Pickle Ball Outreach
DESCRIPTION:Pickleball in Callahan 🏓🎉 \n📅 When: Thursday\, August 28th\, 6:00 PM – 9:00 PM \n📍 Where: The Gym at Callahan First Baptist Church (Free event!) \nCallahan First is excited to host a night of fun\, friendship\, and pickleball—open to the entire community! Whether you’re a seasoned player or trying pickleball for the first time\, all are welcome (ages 16+). 😃 \nNever played? No worries! We’ll have a dedicated beginners’ court and friendly folks ready to help you learn the game. Come on out\, meet new people\, and have a blast! \n🟢 Details: \n• 3 indoor courts (including one dedicated Beginners’ Court for the first hour from 6:00–7:00 PM) \n• Mixed doubles play for men & women\, ages 16+ \n• All skill levels welcome — from brand new to intermediate (3.5) \nℹ️ Additional Info: \n• FREE and open to the public \n• Pickleballs will be provided \n• Limited number of paddles available to borrow \n• Basic beginner lessons offered for new players \n✍️ Sign up here: callahanfbc.com/pickleball (Let us know you’re coming!) \n📧 Questions? Contact Josh Revels at jrevels@callahanfbc.org
URL:https://callahanfbc.com/event/pickle-ball-outreach/
LOCATION:Gym\, 45090\, Callahan\, FL\, 32011\, United States
CATEGORIES:Community Impact
ATTACH;FMTTYPE=image/jpeg:https://callahanfbc.com/wp-content/uploads/2025/04/CF-Pickleball-Logo-3@300x-scaled.jpeg
END:VEVENT
END:VCALENDAR