BEGIN:VCALENDAR
VERSION:2.0
PRODID:-//Callahan First Baptist Church - ECPv6.15.20//NONSGML v1.0//EN
CALSCALE:GREGORIAN
METHOD:PUBLISH
X-ORIGINAL-URL:https://callahanfbc.com
X-WR-CALDESC:Events for Callahan First Baptist Church
REFRESH-INTERVAL;VALUE=DURATION:PT1H
X-Robots-Tag:noindex
X-PUBLISHED-TTL:PT1H
BEGIN:VTIMEZONE
TZID:UTC
BEGIN:STANDARD
TZOFFSETFROM:+0000
TZOFFSETTO:+0000
TZNAME:UTC
DTSTART:20240101T000000
END:STANDARD
END:VTIMEZONE
BEGIN:VEVENT
DTSTART;TZID=UTC:20250901T180000
DTEND;TZID=UTC:20250901T200000
DTSTAMP:20260424T065452
CREATED:20241113T205219Z
LAST-MODIFIED:20241113T205219Z
UID:10000838-1756749600-1756756800@callahanfbc.com
SUMMARY:Celebrate Recovery
DESCRIPTION:Looking for a safe space to find healing and freedom? Join us every Monday evening for Celebrate Recovery! This Christ-centered recovery program is designed to help people overcome life’s hurts\, habits\, and hang-ups. We start with a shared meal at 6:00 PM\, followed by an uplifting worship service at 6:30 PM. Come as you are\, and find support\, encouragement\, and the path to true freedom in a welcoming community.
URL:https://callahanfbc.com/event/celebrate-recovery/2025-09-01/
LOCATION:Gym\, 45090\, Callahan\, FL\, 32011\, United States
CATEGORIES:Community Impact
ATTACH;FMTTYPE=image/png:https://callahanfbc.com/wp-content/uploads/2024/11/Celebrate-Recovery-Banner-2021-e1731513092622.png
END:VEVENT
BEGIN:VEVENT
DTSTART;TZID=UTC:20250902T090000
DTEND;TZID=UTC:20250902T110000
DTSTAMP:20260424T065452
CREATED:20241118T234657Z
LAST-MODIFIED:20241118T234657Z
UID:10001504-1756803600-1756810800@callahanfbc.com
SUMMARY:Toddler Time
DESCRIPTION:Join us for a fun and relaxing morning of games\, crafts\, and community for mothers and their toddlers! This event is designed to give moms a chance to connect while their little ones enjoy creative activities and playful fun. Whether you’re looking to meet new friends or simply have some fun with your toddler\, we’d love to see you there!
URL:https://callahanfbc.com/event/toddler-time/2025-09-02/
LOCATION:Chapel
CATEGORIES:Community Impact
ATTACH;FMTTYPE=image/jpeg:https://callahanfbc.com/wp-content/uploads/2024/11/CF-Kids-Check-In.jpg
END:VEVENT
BEGIN:VEVENT
DTSTART;TZID=UTC:20250902T100000
DTEND;TZID=UTC:20250902T140000
DTSTAMP:20260424T065452
CREATED:20241228T005529Z
LAST-MODIFIED:20241228T012507Z
UID:10002450-1756807200-1756821600@callahanfbc.com
SUMMARY:Grace's House
DESCRIPTION:Discover great finds and support a meaningful cause at Grace’s House! Our church’s thrift store ministry is dedicated to “Making a Difference\, Not a Profit.” Every purchase at Grace’s House helps fund local outreach programs and provides affordable goods to our community. Whether you’re shopping or donating\, you’re contributing to a ministry that brings hope\, support\, and love to those in need. Come visit us to make a difference together!
URL:https://callahanfbc.com/event/graces-house-2-3/2025-09-02/
LOCATION:Grace’s House\, 449521 US HWY 301\, Callahan\, FL\, 32011\, United States
CATEGORIES:Community Impact
ATTACH;FMTTYPE=image/jpeg:https://callahanfbc.com/wp-content/uploads/2024/11/3T6A0224.jpg
END:VEVENT
BEGIN:VEVENT
DTSTART;TZID=UTC:20250904T100000
DTEND;TZID=UTC:20250904T120000
DTSTAMP:20260424T065452
CREATED:20241113T205940Z
LAST-MODIFIED:20241113T205940Z
UID:10001187-1756980000-1756987200@callahanfbc.com
SUMMARY:Storehouse Food Distribution
DESCRIPTION:Our Storehouse ministry provides free food distributions on the first and third Thursday of each month to support individuals and families in need within our community. Whether you or someone you know could use a little extra help\, you are welcome here. No appointment is necessary—just stop by and let us serve you. Together\, we’re working to build a stronger\, healthier community through care and compassion.
URL:https://callahanfbc.com/event/storehouse-food-distribution-2/2025-09-04/
LOCATION:The Storehouse\, 45103 Green Avenue\, Callahan\, FL\, 32011\, United States
CATEGORIES:Community Impact
ATTACH;FMTTYPE=image/jpeg:https://callahanfbc.com/wp-content/uploads/2024/11/Storehouse-Exterior.jpg
END:VEVENT
BEGIN:VEVENT
DTSTART;TZID=UTC:20250904T100000
DTEND;TZID=UTC:20250904T140000
DTSTAMP:20260424T065452
CREATED:20241113T020919Z
LAST-MODIFIED:20241118T235512Z
UID:10000316-1756980000-1756994400@callahanfbc.com
SUMMARY:Grace's House
DESCRIPTION:Discover great finds and support a meaningful cause at Grace’s House! Our church’s thrift store ministry is dedicated to “Making a Difference\, Not a Profit.” Every purchase at Grace’s House helps fund local outreach programs and provides affordable goods to our community. Whether you’re shopping or donating\, you’re contributing to a ministry that brings hope\, support\, and love to those in need. Come visit us to make a difference together!
URL:https://callahanfbc.com/event/graces-house/2025-09-04/
LOCATION:Grace’s House\, 449521 US HWY 301\, Callahan\, FL\, 32011\, United States
CATEGORIES:Community Impact
ATTACH;FMTTYPE=image/jpeg:https://callahanfbc.com/wp-content/uploads/2024/11/3T6A0224.jpg
END:VEVENT
BEGIN:VEVENT
DTSTART;TZID=UTC:20250908T180000
DTEND;TZID=UTC:20250908T200000
DTSTAMP:20260424T065452
CREATED:20241113T205219Z
LAST-MODIFIED:20241113T205219Z
UID:10000839-1757354400-1757361600@callahanfbc.com
SUMMARY:Celebrate Recovery
DESCRIPTION:Looking for a safe space to find healing and freedom? Join us every Monday evening for Celebrate Recovery! This Christ-centered recovery program is designed to help people overcome life’s hurts\, habits\, and hang-ups. We start with a shared meal at 6:00 PM\, followed by an uplifting worship service at 6:30 PM. Come as you are\, and find support\, encouragement\, and the path to true freedom in a welcoming community.
URL:https://callahanfbc.com/event/celebrate-recovery/2025-09-08/
LOCATION:Gym\, 45090\, Callahan\, FL\, 32011\, United States
CATEGORIES:Community Impact
ATTACH;FMTTYPE=image/png:https://callahanfbc.com/wp-content/uploads/2024/11/Celebrate-Recovery-Banner-2021-e1731513092622.png
END:VEVENT
BEGIN:VEVENT
DTSTART;TZID=UTC:20250909T100000
DTEND;TZID=UTC:20250909T140000
DTSTAMP:20260424T065452
CREATED:20241228T005529Z
LAST-MODIFIED:20241228T012507Z
UID:10002451-1757412000-1757426400@callahanfbc.com
SUMMARY:Grace's House
DESCRIPTION:Discover great finds and support a meaningful cause at Grace’s House! Our church’s thrift store ministry is dedicated to “Making a Difference\, Not a Profit.” Every purchase at Grace’s House helps fund local outreach programs and provides affordable goods to our community. Whether you’re shopping or donating\, you’re contributing to a ministry that brings hope\, support\, and love to those in need. Come visit us to make a difference together!
URL:https://callahanfbc.com/event/graces-house-2-3/2025-09-09/
LOCATION:Grace’s House\, 449521 US HWY 301\, Callahan\, FL\, 32011\, United States
CATEGORIES:Community Impact
ATTACH;FMTTYPE=image/jpeg:https://callahanfbc.com/wp-content/uploads/2024/11/3T6A0224.jpg
END:VEVENT
BEGIN:VEVENT
DTSTART;TZID=UTC:20250911T100000
DTEND;TZID=UTC:20250911T140000
DTSTAMP:20260424T065452
CREATED:20241113T020919Z
LAST-MODIFIED:20241118T235512Z
UID:10000317-1757584800-1757599200@callahanfbc.com
SUMMARY:Grace's House
DESCRIPTION:Discover great finds and support a meaningful cause at Grace’s House! Our church’s thrift store ministry is dedicated to “Making a Difference\, Not a Profit.” Every purchase at Grace’s House helps fund local outreach programs and provides affordable goods to our community. Whether you’re shopping or donating\, you’re contributing to a ministry that brings hope\, support\, and love to those in need. Come visit us to make a difference together!
URL:https://callahanfbc.com/event/graces-house/2025-09-11/
LOCATION:Grace’s House\, 449521 US HWY 301\, Callahan\, FL\, 32011\, United States
CATEGORIES:Community Impact
ATTACH;FMTTYPE=image/jpeg:https://callahanfbc.com/wp-content/uploads/2024/11/3T6A0224.jpg
END:VEVENT
BEGIN:VEVENT
DTSTART;TZID=UTC:20250915T180000
DTEND;TZID=UTC:20250915T200000
DTSTAMP:20260424T065452
CREATED:20241113T205219Z
LAST-MODIFIED:20241113T205219Z
UID:10000840-1757959200-1757966400@callahanfbc.com
SUMMARY:Celebrate Recovery
DESCRIPTION:Looking for a safe space to find healing and freedom? Join us every Monday evening for Celebrate Recovery! This Christ-centered recovery program is designed to help people overcome life’s hurts\, habits\, and hang-ups. We start with a shared meal at 6:00 PM\, followed by an uplifting worship service at 6:30 PM. Come as you are\, and find support\, encouragement\, and the path to true freedom in a welcoming community.
URL:https://callahanfbc.com/event/celebrate-recovery/2025-09-15/
LOCATION:Gym\, 45090\, Callahan\, FL\, 32011\, United States
CATEGORIES:Community Impact
ATTACH;FMTTYPE=image/png:https://callahanfbc.com/wp-content/uploads/2024/11/Celebrate-Recovery-Banner-2021-e1731513092622.png
END:VEVENT
BEGIN:VEVENT
DTSTART;TZID=UTC:20250916T100000
DTEND;TZID=UTC:20250916T140000
DTSTAMP:20260424T065452
CREATED:20241228T005529Z
LAST-MODIFIED:20241228T012507Z
UID:10002452-1758016800-1758031200@callahanfbc.com
SUMMARY:Grace's House
DESCRIPTION:Discover great finds and support a meaningful cause at Grace’s House! Our church’s thrift store ministry is dedicated to “Making a Difference\, Not a Profit.” Every purchase at Grace’s House helps fund local outreach programs and provides affordable goods to our community. Whether you’re shopping or donating\, you’re contributing to a ministry that brings hope\, support\, and love to those in need. Come visit us to make a difference together!
URL:https://callahanfbc.com/event/graces-house-2-3/2025-09-16/
LOCATION:Grace’s House\, 449521 US HWY 301\, Callahan\, FL\, 32011\, United States
CATEGORIES:Community Impact
ATTACH;FMTTYPE=image/jpeg:https://callahanfbc.com/wp-content/uploads/2024/11/3T6A0224.jpg
END:VEVENT
BEGIN:VEVENT
DTSTART;TZID=UTC:20250918T140000
DTEND;TZID=UTC:20250918T180000
DTSTAMP:20260424T065452
CREATED:20241118T235651Z
LAST-MODIFIED:20241119T000101Z
UID:10002348-1758204000-1758218400@callahanfbc.com
SUMMARY:Grace's House PM
DESCRIPTION:Discover great finds and support a meaningful cause at Grace’s House! Our church’s thrift store ministry is dedicated to “Making a Difference\, Not a Profit.” Every purchase at Grace’s House helps fund local outreach programs and provides affordable goods to our community. Whether you’re shopping or donating\, you’re contributing to a ministry that brings hope\, support\, and love to those in need. Come visit us to make a difference together!
URL:https://callahanfbc.com/event/graces-house-pm/2025-09-18/
LOCATION:Grace’s House\, 449521 US HWY 301\, Callahan\, FL\, 32011\, United States
CATEGORIES:Community Impact
ATTACH;FMTTYPE=image/jpeg:https://callahanfbc.com/wp-content/uploads/2024/11/3T6A0224.jpg
END:VEVENT
BEGIN:VEVENT
DTSTART;TZID=UTC:20250922T180000
DTEND;TZID=UTC:20250922T200000
DTSTAMP:20260424T065452
CREATED:20241113T205219Z
LAST-MODIFIED:20241113T205219Z
UID:10000841-1758564000-1758571200@callahanfbc.com
SUMMARY:Celebrate Recovery
DESCRIPTION:Looking for a safe space to find healing and freedom? Join us every Monday evening for Celebrate Recovery! This Christ-centered recovery program is designed to help people overcome life’s hurts\, habits\, and hang-ups. We start with a shared meal at 6:00 PM\, followed by an uplifting worship service at 6:30 PM. Come as you are\, and find support\, encouragement\, and the path to true freedom in a welcoming community.
URL:https://callahanfbc.com/event/celebrate-recovery/2025-09-22/
LOCATION:Gym\, 45090\, Callahan\, FL\, 32011\, United States
CATEGORIES:Community Impact
ATTACH;FMTTYPE=image/png:https://callahanfbc.com/wp-content/uploads/2024/11/Celebrate-Recovery-Banner-2021-e1731513092622.png
END:VEVENT
BEGIN:VEVENT
DTSTART;TZID=UTC:20250923T100000
DTEND;TZID=UTC:20250923T140000
DTSTAMP:20260424T065452
CREATED:20241228T005529Z
LAST-MODIFIED:20241228T012507Z
UID:10002453-1758621600-1758636000@callahanfbc.com
SUMMARY:Grace's House
DESCRIPTION:Discover great finds and support a meaningful cause at Grace’s House! Our church’s thrift store ministry is dedicated to “Making a Difference\, Not a Profit.” Every purchase at Grace’s House helps fund local outreach programs and provides affordable goods to our community. Whether you’re shopping or donating\, you’re contributing to a ministry that brings hope\, support\, and love to those in need. Come visit us to make a difference together!
URL:https://callahanfbc.com/event/graces-house-2-3/2025-09-23/
LOCATION:Grace’s House\, 449521 US HWY 301\, Callahan\, FL\, 32011\, United States
CATEGORIES:Community Impact
ATTACH;FMTTYPE=image/jpeg:https://callahanfbc.com/wp-content/uploads/2024/11/3T6A0224.jpg
END:VEVENT
BEGIN:VEVENT
DTSTART;TZID=UTC:20250925T100000
DTEND;TZID=UTC:20250925T140000
DTSTAMP:20260424T065452
CREATED:20241113T020919Z
LAST-MODIFIED:20241118T235512Z
UID:10000319-1758794400-1758808800@callahanfbc.com
SUMMARY:Grace's House
DESCRIPTION:Discover great finds and support a meaningful cause at Grace’s House! Our church’s thrift store ministry is dedicated to “Making a Difference\, Not a Profit.” Every purchase at Grace’s House helps fund local outreach programs and provides affordable goods to our community. Whether you’re shopping or donating\, you’re contributing to a ministry that brings hope\, support\, and love to those in need. Come visit us to make a difference together!
URL:https://callahanfbc.com/event/graces-house/2025-09-25/
LOCATION:Grace’s House\, 449521 US HWY 301\, Callahan\, FL\, 32011\, United States
CATEGORIES:Community Impact
ATTACH;FMTTYPE=image/jpeg:https://callahanfbc.com/wp-content/uploads/2024/11/3T6A0224.jpg
END:VEVENT
BEGIN:VEVENT
DTSTART;TZID=UTC:20250929T180000
DTEND;TZID=UTC:20250929T200000
DTSTAMP:20260424T065452
CREATED:20241113T205219Z
LAST-MODIFIED:20241113T205219Z
UID:10000842-1759168800-1759176000@callahanfbc.com
SUMMARY:Celebrate Recovery
DESCRIPTION:Looking for a safe space to find healing and freedom? Join us every Monday evening for Celebrate Recovery! This Christ-centered recovery program is designed to help people overcome life’s hurts\, habits\, and hang-ups. We start with a shared meal at 6:00 PM\, followed by an uplifting worship service at 6:30 PM. Come as you are\, and find support\, encouragement\, and the path to true freedom in a welcoming community.
URL:https://callahanfbc.com/event/celebrate-recovery/2025-09-29/
LOCATION:Gym\, 45090\, Callahan\, FL\, 32011\, United States
CATEGORIES:Community Impact
ATTACH;FMTTYPE=image/png:https://callahanfbc.com/wp-content/uploads/2024/11/Celebrate-Recovery-Banner-2021-e1731513092622.png
END:VEVENT
BEGIN:VEVENT
DTSTART;TZID=UTC:20250930T100000
DTEND;TZID=UTC:20250930T140000
DTSTAMP:20260424T065452
CREATED:20241228T005529Z
LAST-MODIFIED:20241228T012507Z
UID:10002454-1759226400-1759240800@callahanfbc.com
SUMMARY:Grace's House
DESCRIPTION:Discover great finds and support a meaningful cause at Grace’s House! Our church’s thrift store ministry is dedicated to “Making a Difference\, Not a Profit.” Every purchase at Grace’s House helps fund local outreach programs and provides affordable goods to our community. Whether you’re shopping or donating\, you’re contributing to a ministry that brings hope\, support\, and love to those in need. Come visit us to make a difference together!
URL:https://callahanfbc.com/event/graces-house-2-3/2025-09-30/
LOCATION:Grace’s House\, 449521 US HWY 301\, Callahan\, FL\, 32011\, United States
CATEGORIES:Community Impact
ATTACH;FMTTYPE=image/jpeg:https://callahanfbc.com/wp-content/uploads/2024/11/3T6A0224.jpg
END:VEVENT
BEGIN:VEVENT
DTSTART;TZID=UTC:20251002T100000
DTEND;TZID=UTC:20251002T120000
DTSTAMP:20260424T065452
CREATED:20241113T205940Z
LAST-MODIFIED:20241113T205940Z
UID:10001188-1759399200-1759406400@callahanfbc.com
SUMMARY:Storehouse Food Distribution
DESCRIPTION:Our Storehouse ministry provides free food distributions on the first and third Thursday of each month to support individuals and families in need within our community. Whether you or someone you know could use a little extra help\, you are welcome here. No appointment is necessary—just stop by and let us serve you. Together\, we’re working to build a stronger\, healthier community through care and compassion.
URL:https://callahanfbc.com/event/storehouse-food-distribution-2/2025-10-02/
LOCATION:The Storehouse\, 45103 Green Avenue\, Callahan\, FL\, 32011\, United States
CATEGORIES:Community Impact
ATTACH;FMTTYPE=image/jpeg:https://callahanfbc.com/wp-content/uploads/2024/11/Storehouse-Exterior.jpg
END:VEVENT
BEGIN:VEVENT
DTSTART;TZID=UTC:20251002T100000
DTEND;TZID=UTC:20251002T140000
DTSTAMP:20260424T065452
CREATED:20241113T020919Z
LAST-MODIFIED:20241118T235512Z
UID:10000320-1759399200-1759413600@callahanfbc.com
SUMMARY:Grace's House
DESCRIPTION:Discover great finds and support a meaningful cause at Grace’s House! Our church’s thrift store ministry is dedicated to “Making a Difference\, Not a Profit.” Every purchase at Grace’s House helps fund local outreach programs and provides affordable goods to our community. Whether you’re shopping or donating\, you’re contributing to a ministry that brings hope\, support\, and love to those in need. Come visit us to make a difference together!
URL:https://callahanfbc.com/event/graces-house/2025-10-02/
LOCATION:Grace’s House\, 449521 US HWY 301\, Callahan\, FL\, 32011\, United States
CATEGORIES:Community Impact
ATTACH;FMTTYPE=image/jpeg:https://callahanfbc.com/wp-content/uploads/2024/11/3T6A0224.jpg
END:VEVENT
BEGIN:VEVENT
DTSTART;TZID=UTC:20251006T180000
DTEND;TZID=UTC:20251006T200000
DTSTAMP:20260424T065452
CREATED:20241113T205219Z
LAST-MODIFIED:20241113T205219Z
UID:10000843-1759773600-1759780800@callahanfbc.com
SUMMARY:Celebrate Recovery
DESCRIPTION:Looking for a safe space to find healing and freedom? Join us every Monday evening for Celebrate Recovery! This Christ-centered recovery program is designed to help people overcome life’s hurts\, habits\, and hang-ups. We start with a shared meal at 6:00 PM\, followed by an uplifting worship service at 6:30 PM. Come as you are\, and find support\, encouragement\, and the path to true freedom in a welcoming community.
URL:https://callahanfbc.com/event/celebrate-recovery/2025-10-06/
LOCATION:Gym\, 45090\, Callahan\, FL\, 32011\, United States
CATEGORIES:Community Impact
ATTACH;FMTTYPE=image/png:https://callahanfbc.com/wp-content/uploads/2024/11/Celebrate-Recovery-Banner-2021-e1731513092622.png
END:VEVENT
BEGIN:VEVENT
DTSTART;TZID=UTC:20251007T090000
DTEND;TZID=UTC:20251007T110000
DTSTAMP:20260424T065452
CREATED:20241118T234657Z
LAST-MODIFIED:20241118T234657Z
UID:10001505-1759827600-1759834800@callahanfbc.com
SUMMARY:Toddler Time
DESCRIPTION:Join us for a fun and relaxing morning of games\, crafts\, and community for mothers and their toddlers! This event is designed to give moms a chance to connect while their little ones enjoy creative activities and playful fun. Whether you’re looking to meet new friends or simply have some fun with your toddler\, we’d love to see you there!
URL:https://callahanfbc.com/event/toddler-time/2025-10-07/
LOCATION:Chapel
CATEGORIES:Community Impact
ATTACH;FMTTYPE=image/jpeg:https://callahanfbc.com/wp-content/uploads/2024/11/CF-Kids-Check-In.jpg
END:VEVENT
BEGIN:VEVENT
DTSTART;TZID=UTC:20251007T100000
DTEND;TZID=UTC:20251007T140000
DTSTAMP:20260424T065452
CREATED:20241228T005529Z
LAST-MODIFIED:20241228T012507Z
UID:10002455-1759831200-1759845600@callahanfbc.com
SUMMARY:Grace's House
DESCRIPTION:Discover great finds and support a meaningful cause at Grace’s House! Our church’s thrift store ministry is dedicated to “Making a Difference\, Not a Profit.” Every purchase at Grace’s House helps fund local outreach programs and provides affordable goods to our community. Whether you’re shopping or donating\, you’re contributing to a ministry that brings hope\, support\, and love to those in need. Come visit us to make a difference together!
URL:https://callahanfbc.com/event/graces-house-2-3/2025-10-07/
LOCATION:Grace’s House\, 449521 US HWY 301\, Callahan\, FL\, 32011\, United States
CATEGORIES:Community Impact
ATTACH;FMTTYPE=image/jpeg:https://callahanfbc.com/wp-content/uploads/2024/11/3T6A0224.jpg
END:VEVENT
BEGIN:VEVENT
DTSTART;TZID=UTC:20251009T100000
DTEND;TZID=UTC:20251009T140000
DTSTAMP:20260424T065452
CREATED:20241113T020919Z
LAST-MODIFIED:20241118T235512Z
UID:10000321-1760004000-1760018400@callahanfbc.com
SUMMARY:Grace's House
DESCRIPTION:Discover great finds and support a meaningful cause at Grace’s House! Our church’s thrift store ministry is dedicated to “Making a Difference\, Not a Profit.” Every purchase at Grace’s House helps fund local outreach programs and provides affordable goods to our community. Whether you’re shopping or donating\, you’re contributing to a ministry that brings hope\, support\, and love to those in need. Come visit us to make a difference together!
URL:https://callahanfbc.com/event/graces-house/2025-10-09/
LOCATION:Grace’s House\, 449521 US HWY 301\, Callahan\, FL\, 32011\, United States
CATEGORIES:Community Impact
ATTACH;FMTTYPE=image/jpeg:https://callahanfbc.com/wp-content/uploads/2024/11/3T6A0224.jpg
END:VEVENT
BEGIN:VEVENT
DTSTART;TZID=UTC:20251013T180000
DTEND;TZID=UTC:20251013T200000
DTSTAMP:20260424T065452
CREATED:20241113T205219Z
LAST-MODIFIED:20241113T205219Z
UID:10000844-1760378400-1760385600@callahanfbc.com
SUMMARY:Celebrate Recovery
DESCRIPTION:Looking for a safe space to find healing and freedom? Join us every Monday evening for Celebrate Recovery! This Christ-centered recovery program is designed to help people overcome life’s hurts\, habits\, and hang-ups. We start with a shared meal at 6:00 PM\, followed by an uplifting worship service at 6:30 PM. Come as you are\, and find support\, encouragement\, and the path to true freedom in a welcoming community.
URL:https://callahanfbc.com/event/celebrate-recovery/2025-10-13/
LOCATION:Gym\, 45090\, Callahan\, FL\, 32011\, United States
CATEGORIES:Community Impact
ATTACH;FMTTYPE=image/png:https://callahanfbc.com/wp-content/uploads/2024/11/Celebrate-Recovery-Banner-2021-e1731513092622.png
END:VEVENT
BEGIN:VEVENT
DTSTART;TZID=UTC:20251014T100000
DTEND;TZID=UTC:20251014T140000
DTSTAMP:20260424T065452
CREATED:20241228T005529Z
LAST-MODIFIED:20241228T012507Z
UID:10002456-1760436000-1760450400@callahanfbc.com
SUMMARY:Grace's House
DESCRIPTION:Discover great finds and support a meaningful cause at Grace’s House! Our church’s thrift store ministry is dedicated to “Making a Difference\, Not a Profit.” Every purchase at Grace’s House helps fund local outreach programs and provides affordable goods to our community. Whether you’re shopping or donating\, you’re contributing to a ministry that brings hope\, support\, and love to those in need. Come visit us to make a difference together!
URL:https://callahanfbc.com/event/graces-house-2-3/2025-10-14/
LOCATION:Grace’s House\, 449521 US HWY 301\, Callahan\, FL\, 32011\, United States
CATEGORIES:Community Impact
ATTACH;FMTTYPE=image/jpeg:https://callahanfbc.com/wp-content/uploads/2024/11/3T6A0224.jpg
END:VEVENT
BEGIN:VEVENT
DTSTART;TZID=UTC:20251016T140000
DTEND;TZID=UTC:20251016T180000
DTSTAMP:20260424T065452
CREATED:20241118T235651Z
LAST-MODIFIED:20241119T000101Z
UID:10002349-1760623200-1760637600@callahanfbc.com
SUMMARY:Grace's House PM
DESCRIPTION:Discover great finds and support a meaningful cause at Grace’s House! Our church’s thrift store ministry is dedicated to “Making a Difference\, Not a Profit.” Every purchase at Grace’s House helps fund local outreach programs and provides affordable goods to our community. Whether you’re shopping or donating\, you’re contributing to a ministry that brings hope\, support\, and love to those in need. Come visit us to make a difference together!
URL:https://callahanfbc.com/event/graces-house-pm/2025-10-16/
LOCATION:Grace’s House\, 449521 US HWY 301\, Callahan\, FL\, 32011\, United States
CATEGORIES:Community Impact
ATTACH;FMTTYPE=image/jpeg:https://callahanfbc.com/wp-content/uploads/2024/11/3T6A0224.jpg
END:VEVENT
BEGIN:VEVENT
DTSTART;TZID=UTC:20251020T180000
DTEND;TZID=UTC:20251020T200000
DTSTAMP:20260424T065452
CREATED:20241113T205219Z
LAST-MODIFIED:20241113T205219Z
UID:10000845-1760983200-1760990400@callahanfbc.com
SUMMARY:Celebrate Recovery
DESCRIPTION:Looking for a safe space to find healing and freedom? Join us every Monday evening for Celebrate Recovery! This Christ-centered recovery program is designed to help people overcome life’s hurts\, habits\, and hang-ups. We start with a shared meal at 6:00 PM\, followed by an uplifting worship service at 6:30 PM. Come as you are\, and find support\, encouragement\, and the path to true freedom in a welcoming community.
URL:https://callahanfbc.com/event/celebrate-recovery/2025-10-20/
LOCATION:Gym\, 45090\, Callahan\, FL\, 32011\, United States
CATEGORIES:Community Impact
ATTACH;FMTTYPE=image/png:https://callahanfbc.com/wp-content/uploads/2024/11/Celebrate-Recovery-Banner-2021-e1731513092622.png
END:VEVENT
BEGIN:VEVENT
DTSTART;TZID=UTC:20251021T100000
DTEND;TZID=UTC:20251021T140000
DTSTAMP:20260424T065452
CREATED:20241228T005529Z
LAST-MODIFIED:20241228T012507Z
UID:10002457-1761040800-1761055200@callahanfbc.com
SUMMARY:Grace's House
DESCRIPTION:Discover great finds and support a meaningful cause at Grace’s House! Our church’s thrift store ministry is dedicated to “Making a Difference\, Not a Profit.” Every purchase at Grace’s House helps fund local outreach programs and provides affordable goods to our community. Whether you’re shopping or donating\, you’re contributing to a ministry that brings hope\, support\, and love to those in need. Come visit us to make a difference together!
URL:https://callahanfbc.com/event/graces-house-2-3/2025-10-21/
LOCATION:Grace’s House\, 449521 US HWY 301\, Callahan\, FL\, 32011\, United States
CATEGORIES:Community Impact
ATTACH;FMTTYPE=image/jpeg:https://callahanfbc.com/wp-content/uploads/2024/11/3T6A0224.jpg
END:VEVENT
BEGIN:VEVENT
DTSTART;TZID=UTC:20251023T100000
DTEND;TZID=UTC:20251023T140000
DTSTAMP:20260424T065452
CREATED:20241113T020919Z
LAST-MODIFIED:20241118T235512Z
UID:10000323-1761213600-1761228000@callahanfbc.com
SUMMARY:Grace's House
DESCRIPTION:Discover great finds and support a meaningful cause at Grace’s House! Our church’s thrift store ministry is dedicated to “Making a Difference\, Not a Profit.” Every purchase at Grace’s House helps fund local outreach programs and provides affordable goods to our community. Whether you’re shopping or donating\, you’re contributing to a ministry that brings hope\, support\, and love to those in need. Come visit us to make a difference together!
URL:https://callahanfbc.com/event/graces-house/2025-10-23/
LOCATION:Grace’s House\, 449521 US HWY 301\, Callahan\, FL\, 32011\, United States
CATEGORIES:Community Impact
ATTACH;FMTTYPE=image/jpeg:https://callahanfbc.com/wp-content/uploads/2024/11/3T6A0224.jpg
END:VEVENT
BEGIN:VEVENT
DTSTART;TZID=UTC:20251027T180000
DTEND;TZID=UTC:20251027T200000
DTSTAMP:20260424T065452
CREATED:20241113T205219Z
LAST-MODIFIED:20241113T205219Z
UID:10000846-1761588000-1761595200@callahanfbc.com
SUMMARY:Celebrate Recovery
DESCRIPTION:Looking for a safe space to find healing and freedom? Join us every Monday evening for Celebrate Recovery! This Christ-centered recovery program is designed to help people overcome life’s hurts\, habits\, and hang-ups. We start with a shared meal at 6:00 PM\, followed by an uplifting worship service at 6:30 PM. Come as you are\, and find support\, encouragement\, and the path to true freedom in a welcoming community.
URL:https://callahanfbc.com/event/celebrate-recovery/2025-10-27/
LOCATION:Gym\, 45090\, Callahan\, FL\, 32011\, United States
CATEGORIES:Community Impact
ATTACH;FMTTYPE=image/png:https://callahanfbc.com/wp-content/uploads/2024/11/Celebrate-Recovery-Banner-2021-e1731513092622.png
END:VEVENT
BEGIN:VEVENT
DTSTART;TZID=UTC:20251028T100000
DTEND;TZID=UTC:20251028T140000
DTSTAMP:20260424T065452
CREATED:20241228T005529Z
LAST-MODIFIED:20241228T012507Z
UID:10002458-1761645600-1761660000@callahanfbc.com
SUMMARY:Grace's House
DESCRIPTION:Discover great finds and support a meaningful cause at Grace’s House! Our church’s thrift store ministry is dedicated to “Making a Difference\, Not a Profit.” Every purchase at Grace’s House helps fund local outreach programs and provides affordable goods to our community. Whether you’re shopping or donating\, you’re contributing to a ministry that brings hope\, support\, and love to those in need. Come visit us to make a difference together!
URL:https://callahanfbc.com/event/graces-house-2-3/2025-10-28/
LOCATION:Grace’s House\, 449521 US HWY 301\, Callahan\, FL\, 32011\, United States
CATEGORIES:Community Impact
ATTACH;FMTTYPE=image/jpeg:https://callahanfbc.com/wp-content/uploads/2024/11/3T6A0224.jpg
END:VEVENT
END:VCALENDAR