BEGIN:VCALENDAR
VERSION:2.0
PRODID:-//Callahan First Baptist Church - ECPv6.15.20//NONSGML v1.0//EN
CALSCALE:GREGORIAN
METHOD:PUBLISH
X-ORIGINAL-URL:https://callahanfbc.com
X-WR-CALDESC:Events for Callahan First Baptist Church
REFRESH-INTERVAL;VALUE=DURATION:PT1H
X-Robots-Tag:noindex
X-PUBLISHED-TTL:PT1H
BEGIN:VTIMEZONE
TZID:UTC
BEGIN:STANDARD
TZOFFSETFROM:+0000
TZOFFSETTO:+0000
TZNAME:UTC
DTSTART:20240101T000000
END:STANDARD
END:VTIMEZONE
BEGIN:VEVENT
DTSTART;TZID=UTC:20250224T180000
DTEND;TZID=UTC:20250224T200000
DTSTAMP:20260425T063450
CREATED:20241113T205219Z
LAST-MODIFIED:20241113T205219Z
UID:10000811-1740420000-1740427200@callahanfbc.com
SUMMARY:Celebrate Recovery
DESCRIPTION:Looking for a safe space to find healing and freedom? Join us every Monday evening for Celebrate Recovery! This Christ-centered recovery program is designed to help people overcome life’s hurts\, habits\, and hang-ups. We start with a shared meal at 6:00 PM\, followed by an uplifting worship service at 6:30 PM. Come as you are\, and find support\, encouragement\, and the path to true freedom in a welcoming community.
URL:https://callahanfbc.com/event/celebrate-recovery/2025-02-24/
LOCATION:Gym\, 45090\, Callahan\, FL\, 32011\, United States
CATEGORIES:Community Impact
ATTACH;FMTTYPE=image/png:https://callahanfbc.com/wp-content/uploads/2024/11/Celebrate-Recovery-Banner-2021-e1731513092622.png
END:VEVENT
BEGIN:VEVENT
DTSTART;TZID=UTC:20250225T100000
DTEND;TZID=UTC:20250225T140000
DTSTAMP:20260425T063450
CREATED:20241228T005529Z
LAST-MODIFIED:20241228T012507Z
UID:10002423-1740477600-1740492000@callahanfbc.com
SUMMARY:Grace's House
DESCRIPTION:Discover great finds and support a meaningful cause at Grace’s House! Our church’s thrift store ministry is dedicated to “Making a Difference\, Not a Profit.” Every purchase at Grace’s House helps fund local outreach programs and provides affordable goods to our community. Whether you’re shopping or donating\, you’re contributing to a ministry that brings hope\, support\, and love to those in need. Come visit us to make a difference together!
URL:https://callahanfbc.com/event/graces-house-2-3/2025-02-25/
LOCATION:Grace’s House\, 449521 US HWY 301\, Callahan\, FL\, 32011\, United States
CATEGORIES:Community Impact
ATTACH;FMTTYPE=image/jpeg:https://callahanfbc.com/wp-content/uploads/2024/11/3T6A0224.jpg
END:VEVENT
BEGIN:VEVENT
DTSTART;TZID=UTC:20250227T100000
DTEND;TZID=UTC:20250227T140000
DTSTAMP:20260425T063450
CREATED:20241113T020919Z
LAST-MODIFIED:20241118T235512Z
UID:10000289-1740650400-1740664800@callahanfbc.com
SUMMARY:Grace's House
DESCRIPTION:Discover great finds and support a meaningful cause at Grace’s House! Our church’s thrift store ministry is dedicated to “Making a Difference\, Not a Profit.” Every purchase at Grace’s House helps fund local outreach programs and provides affordable goods to our community. Whether you’re shopping or donating\, you’re contributing to a ministry that brings hope\, support\, and love to those in need. Come visit us to make a difference together!
URL:https://callahanfbc.com/event/graces-house/2025-02-27/
LOCATION:Grace’s House\, 449521 US HWY 301\, Callahan\, FL\, 32011\, United States
CATEGORIES:Community Impact
ATTACH;FMTTYPE=image/jpeg:https://callahanfbc.com/wp-content/uploads/2024/11/3T6A0224.jpg
END:VEVENT
BEGIN:VEVENT
DTSTART;TZID=UTC:20250303T180000
DTEND;TZID=UTC:20250303T200000
DTSTAMP:20260425T063450
CREATED:20241113T205219Z
LAST-MODIFIED:20241113T205219Z
UID:10000812-1741024800-1741032000@callahanfbc.com
SUMMARY:Celebrate Recovery
DESCRIPTION:Looking for a safe space to find healing and freedom? Join us every Monday evening for Celebrate Recovery! This Christ-centered recovery program is designed to help people overcome life’s hurts\, habits\, and hang-ups. We start with a shared meal at 6:00 PM\, followed by an uplifting worship service at 6:30 PM. Come as you are\, and find support\, encouragement\, and the path to true freedom in a welcoming community.
URL:https://callahanfbc.com/event/celebrate-recovery/2025-03-03/
LOCATION:Gym\, 45090\, Callahan\, FL\, 32011\, United States
CATEGORIES:Community Impact
ATTACH;FMTTYPE=image/png:https://callahanfbc.com/wp-content/uploads/2024/11/Celebrate-Recovery-Banner-2021-e1731513092622.png
END:VEVENT
BEGIN:VEVENT
DTSTART;TZID=UTC:20250304T090000
DTEND;TZID=UTC:20250304T110000
DTSTAMP:20260425T063450
CREATED:20241118T234657Z
LAST-MODIFIED:20241118T234657Z
UID:10001499-1741078800-1741086000@callahanfbc.com
SUMMARY:Toddler Time
DESCRIPTION:Join us for a fun and relaxing morning of games\, crafts\, and community for mothers and their toddlers! This event is designed to give moms a chance to connect while their little ones enjoy creative activities and playful fun. Whether you’re looking to meet new friends or simply have some fun with your toddler\, we’d love to see you there!
URL:https://callahanfbc.com/event/toddler-time/2025-03-04/
LOCATION:Chapel
CATEGORIES:Community Impact
ATTACH;FMTTYPE=image/jpeg:https://callahanfbc.com/wp-content/uploads/2024/11/CF-Kids-Check-In.jpg
END:VEVENT
BEGIN:VEVENT
DTSTART;TZID=UTC:20250304T100000
DTEND;TZID=UTC:20250304T140000
DTSTAMP:20260425T063450
CREATED:20241228T005529Z
LAST-MODIFIED:20241228T012507Z
UID:10002424-1741082400-1741096800@callahanfbc.com
SUMMARY:Grace's House
DESCRIPTION:Discover great finds and support a meaningful cause at Grace’s House! Our church’s thrift store ministry is dedicated to “Making a Difference\, Not a Profit.” Every purchase at Grace’s House helps fund local outreach programs and provides affordable goods to our community. Whether you’re shopping or donating\, you’re contributing to a ministry that brings hope\, support\, and love to those in need. Come visit us to make a difference together!
URL:https://callahanfbc.com/event/graces-house-2-3/2025-03-04/
LOCATION:Grace’s House\, 449521 US HWY 301\, Callahan\, FL\, 32011\, United States
CATEGORIES:Community Impact
ATTACH;FMTTYPE=image/jpeg:https://callahanfbc.com/wp-content/uploads/2024/11/3T6A0224.jpg
END:VEVENT
BEGIN:VEVENT
DTSTART;TZID=UTC:20250306T100000
DTEND;TZID=UTC:20250306T120000
DTSTAMP:20260425T063450
CREATED:20241113T205940Z
LAST-MODIFIED:20241113T205940Z
UID:10001181-1741255200-1741262400@callahanfbc.com
SUMMARY:Storehouse Food Distribution
DESCRIPTION:Our Storehouse ministry provides free food distributions on the first and third Thursday of each month to support individuals and families in need within our community. Whether you or someone you know could use a little extra help\, you are welcome here. No appointment is necessary—just stop by and let us serve you. Together\, we’re working to build a stronger\, healthier community through care and compassion.
URL:https://callahanfbc.com/event/storehouse-food-distribution-2/2025-03-06/
LOCATION:The Storehouse\, 45103 Green Avenue\, Callahan\, FL\, 32011\, United States
CATEGORIES:Community Impact
ATTACH;FMTTYPE=image/jpeg:https://callahanfbc.com/wp-content/uploads/2024/11/Storehouse-Exterior.jpg
END:VEVENT
BEGIN:VEVENT
DTSTART;TZID=UTC:20250306T100000
DTEND;TZID=UTC:20250306T140000
DTSTAMP:20260425T063450
CREATED:20241113T020919Z
LAST-MODIFIED:20241118T235512Z
UID:10000290-1741255200-1741269600@callahanfbc.com
SUMMARY:Grace's House
DESCRIPTION:Discover great finds and support a meaningful cause at Grace’s House! Our church’s thrift store ministry is dedicated to “Making a Difference\, Not a Profit.” Every purchase at Grace’s House helps fund local outreach programs and provides affordable goods to our community. Whether you’re shopping or donating\, you’re contributing to a ministry that brings hope\, support\, and love to those in need. Come visit us to make a difference together!
URL:https://callahanfbc.com/event/graces-house/2025-03-06/
LOCATION:Grace’s House\, 449521 US HWY 301\, Callahan\, FL\, 32011\, United States
CATEGORIES:Community Impact
ATTACH;FMTTYPE=image/jpeg:https://callahanfbc.com/wp-content/uploads/2024/11/3T6A0224.jpg
END:VEVENT
BEGIN:VEVENT
DTSTART;TZID=UTC:20250310T180000
DTEND;TZID=UTC:20250310T200000
DTSTAMP:20260425T063450
CREATED:20241113T205219Z
LAST-MODIFIED:20241113T205219Z
UID:10000813-1741629600-1741636800@callahanfbc.com
SUMMARY:Celebrate Recovery
DESCRIPTION:Looking for a safe space to find healing and freedom? Join us every Monday evening for Celebrate Recovery! This Christ-centered recovery program is designed to help people overcome life’s hurts\, habits\, and hang-ups. We start with a shared meal at 6:00 PM\, followed by an uplifting worship service at 6:30 PM. Come as you are\, and find support\, encouragement\, and the path to true freedom in a welcoming community.
URL:https://callahanfbc.com/event/celebrate-recovery/2025-03-10/
LOCATION:Gym\, 45090\, Callahan\, FL\, 32011\, United States
CATEGORIES:Community Impact
ATTACH;FMTTYPE=image/png:https://callahanfbc.com/wp-content/uploads/2024/11/Celebrate-Recovery-Banner-2021-e1731513092622.png
END:VEVENT
BEGIN:VEVENT
DTSTART;TZID=UTC:20250311T100000
DTEND;TZID=UTC:20250311T140000
DTSTAMP:20260425T063450
CREATED:20241228T005529Z
LAST-MODIFIED:20241228T012507Z
UID:10002425-1741687200-1741701600@callahanfbc.com
SUMMARY:Grace's House
DESCRIPTION:Discover great finds and support a meaningful cause at Grace’s House! Our church’s thrift store ministry is dedicated to “Making a Difference\, Not a Profit.” Every purchase at Grace’s House helps fund local outreach programs and provides affordable goods to our community. Whether you’re shopping or donating\, you’re contributing to a ministry that brings hope\, support\, and love to those in need. Come visit us to make a difference together!
URL:https://callahanfbc.com/event/graces-house-2-3/2025-03-11/
LOCATION:Grace’s House\, 449521 US HWY 301\, Callahan\, FL\, 32011\, United States
CATEGORIES:Community Impact
ATTACH;FMTTYPE=image/jpeg:https://callahanfbc.com/wp-content/uploads/2024/11/3T6A0224.jpg
END:VEVENT
BEGIN:VEVENT
DTSTART;TZID=UTC:20250313T100000
DTEND;TZID=UTC:20250313T140000
DTSTAMP:20260425T063450
CREATED:20241113T020919Z
LAST-MODIFIED:20241118T235512Z
UID:10000291-1741860000-1741874400@callahanfbc.com
SUMMARY:Grace's House
DESCRIPTION:Discover great finds and support a meaningful cause at Grace’s House! Our church’s thrift store ministry is dedicated to “Making a Difference\, Not a Profit.” Every purchase at Grace’s House helps fund local outreach programs and provides affordable goods to our community. Whether you’re shopping or donating\, you’re contributing to a ministry that brings hope\, support\, and love to those in need. Come visit us to make a difference together!
URL:https://callahanfbc.com/event/graces-house/2025-03-13/
LOCATION:Grace’s House\, 449521 US HWY 301\, Callahan\, FL\, 32011\, United States
CATEGORIES:Community Impact
ATTACH;FMTTYPE=image/jpeg:https://callahanfbc.com/wp-content/uploads/2024/11/3T6A0224.jpg
END:VEVENT
BEGIN:VEVENT
DTSTART;TZID=UTC:20250317T180000
DTEND;TZID=UTC:20250317T200000
DTSTAMP:20260425T063450
CREATED:20241113T205219Z
LAST-MODIFIED:20241113T205219Z
UID:10000814-1742234400-1742241600@callahanfbc.com
SUMMARY:Celebrate Recovery
DESCRIPTION:Looking for a safe space to find healing and freedom? Join us every Monday evening for Celebrate Recovery! This Christ-centered recovery program is designed to help people overcome life’s hurts\, habits\, and hang-ups. We start with a shared meal at 6:00 PM\, followed by an uplifting worship service at 6:30 PM. Come as you are\, and find support\, encouragement\, and the path to true freedom in a welcoming community.
URL:https://callahanfbc.com/event/celebrate-recovery/2025-03-17/
LOCATION:Gym\, 45090\, Callahan\, FL\, 32011\, United States
CATEGORIES:Community Impact
ATTACH;FMTTYPE=image/png:https://callahanfbc.com/wp-content/uploads/2024/11/Celebrate-Recovery-Banner-2021-e1731513092622.png
END:VEVENT
BEGIN:VEVENT
DTSTART;TZID=UTC:20250318T100000
DTEND;TZID=UTC:20250318T140000
DTSTAMP:20260425T063450
CREATED:20241228T005529Z
LAST-MODIFIED:20241228T012507Z
UID:10002426-1742292000-1742306400@callahanfbc.com
SUMMARY:Grace's House
DESCRIPTION:Discover great finds and support a meaningful cause at Grace’s House! Our church’s thrift store ministry is dedicated to “Making a Difference\, Not a Profit.” Every purchase at Grace’s House helps fund local outreach programs and provides affordable goods to our community. Whether you’re shopping or donating\, you’re contributing to a ministry that brings hope\, support\, and love to those in need. Come visit us to make a difference together!
URL:https://callahanfbc.com/event/graces-house-2-3/2025-03-18/
LOCATION:Grace’s House\, 449521 US HWY 301\, Callahan\, FL\, 32011\, United States
CATEGORIES:Community Impact
ATTACH;FMTTYPE=image/jpeg:https://callahanfbc.com/wp-content/uploads/2024/11/3T6A0224.jpg
END:VEVENT
BEGIN:VEVENT
DTSTART;TZID=UTC:20250320T140000
DTEND;TZID=UTC:20250320T180000
DTSTAMP:20260425T063450
CREATED:20241118T235651Z
LAST-MODIFIED:20241119T000101Z
UID:10002342-1742479200-1742493600@callahanfbc.com
SUMMARY:Grace's House PM
DESCRIPTION:Discover great finds and support a meaningful cause at Grace’s House! Our church’s thrift store ministry is dedicated to “Making a Difference\, Not a Profit.” Every purchase at Grace’s House helps fund local outreach programs and provides affordable goods to our community. Whether you’re shopping or donating\, you’re contributing to a ministry that brings hope\, support\, and love to those in need. Come visit us to make a difference together!
URL:https://callahanfbc.com/event/graces-house-pm/2025-03-20/
LOCATION:Grace’s House\, 449521 US HWY 301\, Callahan\, FL\, 32011\, United States
CATEGORIES:Community Impact
ATTACH;FMTTYPE=image/jpeg:https://callahanfbc.com/wp-content/uploads/2024/11/3T6A0224.jpg
END:VEVENT
BEGIN:VEVENT
DTSTART;TZID=UTC:20250324T180000
DTEND;TZID=UTC:20250324T200000
DTSTAMP:20260425T063450
CREATED:20241113T205219Z
LAST-MODIFIED:20241113T205219Z
UID:10000815-1742839200-1742846400@callahanfbc.com
SUMMARY:Celebrate Recovery
DESCRIPTION:Looking for a safe space to find healing and freedom? Join us every Monday evening for Celebrate Recovery! This Christ-centered recovery program is designed to help people overcome life’s hurts\, habits\, and hang-ups. We start with a shared meal at 6:00 PM\, followed by an uplifting worship service at 6:30 PM. Come as you are\, and find support\, encouragement\, and the path to true freedom in a welcoming community.
URL:https://callahanfbc.com/event/celebrate-recovery/2025-03-24/
LOCATION:Gym\, 45090\, Callahan\, FL\, 32011\, United States
CATEGORIES:Community Impact
ATTACH;FMTTYPE=image/png:https://callahanfbc.com/wp-content/uploads/2024/11/Celebrate-Recovery-Banner-2021-e1731513092622.png
END:VEVENT
BEGIN:VEVENT
DTSTART;TZID=UTC:20250325T100000
DTEND;TZID=UTC:20250325T140000
DTSTAMP:20260425T063450
CREATED:20241228T005529Z
LAST-MODIFIED:20241228T012507Z
UID:10002427-1742896800-1742911200@callahanfbc.com
SUMMARY:Grace's House
DESCRIPTION:Discover great finds and support a meaningful cause at Grace’s House! Our church’s thrift store ministry is dedicated to “Making a Difference\, Not a Profit.” Every purchase at Grace’s House helps fund local outreach programs and provides affordable goods to our community. Whether you’re shopping or donating\, you’re contributing to a ministry that brings hope\, support\, and love to those in need. Come visit us to make a difference together!
URL:https://callahanfbc.com/event/graces-house-2-3/2025-03-25/
LOCATION:Grace’s House\, 449521 US HWY 301\, Callahan\, FL\, 32011\, United States
CATEGORIES:Community Impact
ATTACH;FMTTYPE=image/jpeg:https://callahanfbc.com/wp-content/uploads/2024/11/3T6A0224.jpg
END:VEVENT
BEGIN:VEVENT
DTSTART;TZID=UTC:20250327T100000
DTEND;TZID=UTC:20250327T140000
DTSTAMP:20260425T063450
CREATED:20241113T020919Z
LAST-MODIFIED:20241118T235512Z
UID:10000293-1743069600-1743084000@callahanfbc.com
SUMMARY:Grace's House
DESCRIPTION:Discover great finds and support a meaningful cause at Grace’s House! Our church’s thrift store ministry is dedicated to “Making a Difference\, Not a Profit.” Every purchase at Grace’s House helps fund local outreach programs and provides affordable goods to our community. Whether you’re shopping or donating\, you’re contributing to a ministry that brings hope\, support\, and love to those in need. Come visit us to make a difference together!
URL:https://callahanfbc.com/event/graces-house/2025-03-27/
LOCATION:Grace’s House\, 449521 US HWY 301\, Callahan\, FL\, 32011\, United States
CATEGORIES:Community Impact
ATTACH;FMTTYPE=image/jpeg:https://callahanfbc.com/wp-content/uploads/2024/11/3T6A0224.jpg
END:VEVENT
BEGIN:VEVENT
DTSTART;TZID=UTC:20250331T180000
DTEND;TZID=UTC:20250331T200000
DTSTAMP:20260425T063450
CREATED:20241113T205219Z
LAST-MODIFIED:20241113T205219Z
UID:10000816-1743444000-1743451200@callahanfbc.com
SUMMARY:Celebrate Recovery
DESCRIPTION:Looking for a safe space to find healing and freedom? Join us every Monday evening for Celebrate Recovery! This Christ-centered recovery program is designed to help people overcome life’s hurts\, habits\, and hang-ups. We start with a shared meal at 6:00 PM\, followed by an uplifting worship service at 6:30 PM. Come as you are\, and find support\, encouragement\, and the path to true freedom in a welcoming community.
URL:https://callahanfbc.com/event/celebrate-recovery/2025-03-31/
LOCATION:Gym\, 45090\, Callahan\, FL\, 32011\, United States
CATEGORIES:Community Impact
ATTACH;FMTTYPE=image/png:https://callahanfbc.com/wp-content/uploads/2024/11/Celebrate-Recovery-Banner-2021-e1731513092622.png
END:VEVENT
BEGIN:VEVENT
DTSTART;TZID=UTC:20250401T090000
DTEND;TZID=UTC:20250401T110000
DTSTAMP:20260425T063450
CREATED:20241118T234657Z
LAST-MODIFIED:20241118T234657Z
UID:10001500-1743498000-1743505200@callahanfbc.com
SUMMARY:Toddler Time
DESCRIPTION:Join us for a fun and relaxing morning of games\, crafts\, and community for mothers and their toddlers! This event is designed to give moms a chance to connect while their little ones enjoy creative activities and playful fun. Whether you’re looking to meet new friends or simply have some fun with your toddler\, we’d love to see you there!
URL:https://callahanfbc.com/event/toddler-time/2025-04-01/
LOCATION:Chapel
CATEGORIES:Community Impact
ATTACH;FMTTYPE=image/jpeg:https://callahanfbc.com/wp-content/uploads/2024/11/CF-Kids-Check-In.jpg
END:VEVENT
BEGIN:VEVENT
DTSTART;TZID=UTC:20250401T100000
DTEND;TZID=UTC:20250401T140000
DTSTAMP:20260425T063450
CREATED:20241228T005529Z
LAST-MODIFIED:20241228T012507Z
UID:10002428-1743501600-1743516000@callahanfbc.com
SUMMARY:Grace's House
DESCRIPTION:Discover great finds and support a meaningful cause at Grace’s House! Our church’s thrift store ministry is dedicated to “Making a Difference\, Not a Profit.” Every purchase at Grace’s House helps fund local outreach programs and provides affordable goods to our community. Whether you’re shopping or donating\, you’re contributing to a ministry that brings hope\, support\, and love to those in need. Come visit us to make a difference together!
URL:https://callahanfbc.com/event/graces-house-2-3/2025-04-01/
LOCATION:Grace’s House\, 449521 US HWY 301\, Callahan\, FL\, 32011\, United States
CATEGORIES:Community Impact
ATTACH;FMTTYPE=image/jpeg:https://callahanfbc.com/wp-content/uploads/2024/11/3T6A0224.jpg
END:VEVENT
BEGIN:VEVENT
DTSTART;TZID=UTC:20250403T100000
DTEND;TZID=UTC:20250403T120000
DTSTAMP:20260425T063450
CREATED:20241113T205940Z
LAST-MODIFIED:20241113T205940Z
UID:10001182-1743674400-1743681600@callahanfbc.com
SUMMARY:Storehouse Food Distribution
DESCRIPTION:Our Storehouse ministry provides free food distributions on the first and third Thursday of each month to support individuals and families in need within our community. Whether you or someone you know could use a little extra help\, you are welcome here. No appointment is necessary—just stop by and let us serve you. Together\, we’re working to build a stronger\, healthier community through care and compassion.
URL:https://callahanfbc.com/event/storehouse-food-distribution-2/2025-04-03/
LOCATION:The Storehouse\, 45103 Green Avenue\, Callahan\, FL\, 32011\, United States
CATEGORIES:Community Impact
ATTACH;FMTTYPE=image/jpeg:https://callahanfbc.com/wp-content/uploads/2024/11/Storehouse-Exterior.jpg
END:VEVENT
BEGIN:VEVENT
DTSTART;TZID=UTC:20250403T100000
DTEND;TZID=UTC:20250403T140000
DTSTAMP:20260425T063450
CREATED:20241113T020919Z
LAST-MODIFIED:20241118T235512Z
UID:10000294-1743674400-1743688800@callahanfbc.com
SUMMARY:Grace's House
DESCRIPTION:Discover great finds and support a meaningful cause at Grace’s House! Our church’s thrift store ministry is dedicated to “Making a Difference\, Not a Profit.” Every purchase at Grace’s House helps fund local outreach programs and provides affordable goods to our community. Whether you’re shopping or donating\, you’re contributing to a ministry that brings hope\, support\, and love to those in need. Come visit us to make a difference together!
URL:https://callahanfbc.com/event/graces-house/2025-04-03/
LOCATION:Grace’s House\, 449521 US HWY 301\, Callahan\, FL\, 32011\, United States
CATEGORIES:Community Impact
ATTACH;FMTTYPE=image/jpeg:https://callahanfbc.com/wp-content/uploads/2024/11/3T6A0224.jpg
END:VEVENT
BEGIN:VEVENT
DTSTART;TZID=UTC:20250407T180000
DTEND;TZID=UTC:20250407T200000
DTSTAMP:20260425T063450
CREATED:20241113T205219Z
LAST-MODIFIED:20241113T205219Z
UID:10000817-1744048800-1744056000@callahanfbc.com
SUMMARY:Celebrate Recovery
DESCRIPTION:Looking for a safe space to find healing and freedom? Join us every Monday evening for Celebrate Recovery! This Christ-centered recovery program is designed to help people overcome life’s hurts\, habits\, and hang-ups. We start with a shared meal at 6:00 PM\, followed by an uplifting worship service at 6:30 PM. Come as you are\, and find support\, encouragement\, and the path to true freedom in a welcoming community.
URL:https://callahanfbc.com/event/celebrate-recovery/2025-04-07/
LOCATION:Gym\, 45090\, Callahan\, FL\, 32011\, United States
CATEGORIES:Community Impact
ATTACH;FMTTYPE=image/png:https://callahanfbc.com/wp-content/uploads/2024/11/Celebrate-Recovery-Banner-2021-e1731513092622.png
END:VEVENT
BEGIN:VEVENT
DTSTART;TZID=UTC:20250408T100000
DTEND;TZID=UTC:20250408T140000
DTSTAMP:20260425T063450
CREATED:20241228T005529Z
LAST-MODIFIED:20241228T012507Z
UID:10002429-1744106400-1744120800@callahanfbc.com
SUMMARY:Grace's House
DESCRIPTION:Discover great finds and support a meaningful cause at Grace’s House! Our church’s thrift store ministry is dedicated to “Making a Difference\, Not a Profit.” Every purchase at Grace’s House helps fund local outreach programs and provides affordable goods to our community. Whether you’re shopping or donating\, you’re contributing to a ministry that brings hope\, support\, and love to those in need. Come visit us to make a difference together!
URL:https://callahanfbc.com/event/graces-house-2-3/2025-04-08/
LOCATION:Grace’s House\, 449521 US HWY 301\, Callahan\, FL\, 32011\, United States
CATEGORIES:Community Impact
ATTACH;FMTTYPE=image/jpeg:https://callahanfbc.com/wp-content/uploads/2024/11/3T6A0224.jpg
END:VEVENT
BEGIN:VEVENT
DTSTART;TZID=UTC:20250410T100000
DTEND;TZID=UTC:20250410T140000
DTSTAMP:20260425T063450
CREATED:20241113T020919Z
LAST-MODIFIED:20241118T235512Z
UID:10000295-1744279200-1744293600@callahanfbc.com
SUMMARY:Grace's House
DESCRIPTION:Discover great finds and support a meaningful cause at Grace’s House! Our church’s thrift store ministry is dedicated to “Making a Difference\, Not a Profit.” Every purchase at Grace’s House helps fund local outreach programs and provides affordable goods to our community. Whether you’re shopping or donating\, you’re contributing to a ministry that brings hope\, support\, and love to those in need. Come visit us to make a difference together!
URL:https://callahanfbc.com/event/graces-house/2025-04-10/
LOCATION:Grace’s House\, 449521 US HWY 301\, Callahan\, FL\, 32011\, United States
CATEGORIES:Community Impact
ATTACH;FMTTYPE=image/jpeg:https://callahanfbc.com/wp-content/uploads/2024/11/3T6A0224.jpg
END:VEVENT
BEGIN:VEVENT
DTSTART;TZID=UTC:20250414T180000
DTEND;TZID=UTC:20250414T200000
DTSTAMP:20260425T063450
CREATED:20241113T205219Z
LAST-MODIFIED:20241113T205219Z
UID:10000818-1744653600-1744660800@callahanfbc.com
SUMMARY:Celebrate Recovery
DESCRIPTION:Looking for a safe space to find healing and freedom? Join us every Monday evening for Celebrate Recovery! This Christ-centered recovery program is designed to help people overcome life’s hurts\, habits\, and hang-ups. We start with a shared meal at 6:00 PM\, followed by an uplifting worship service at 6:30 PM. Come as you are\, and find support\, encouragement\, and the path to true freedom in a welcoming community.
URL:https://callahanfbc.com/event/celebrate-recovery/2025-04-14/
LOCATION:Gym\, 45090\, Callahan\, FL\, 32011\, United States
CATEGORIES:Community Impact
ATTACH;FMTTYPE=image/png:https://callahanfbc.com/wp-content/uploads/2024/11/Celebrate-Recovery-Banner-2021-e1731513092622.png
END:VEVENT
BEGIN:VEVENT
DTSTART;TZID=UTC:20250415T100000
DTEND;TZID=UTC:20250415T140000
DTSTAMP:20260425T063450
CREATED:20241228T005529Z
LAST-MODIFIED:20241228T012507Z
UID:10002430-1744711200-1744725600@callahanfbc.com
SUMMARY:Grace's House
DESCRIPTION:Discover great finds and support a meaningful cause at Grace’s House! Our church’s thrift store ministry is dedicated to “Making a Difference\, Not a Profit.” Every purchase at Grace’s House helps fund local outreach programs and provides affordable goods to our community. Whether you’re shopping or donating\, you’re contributing to a ministry that brings hope\, support\, and love to those in need. Come visit us to make a difference together!
URL:https://callahanfbc.com/event/graces-house-2-3/2025-04-15/
LOCATION:Grace’s House\, 449521 US HWY 301\, Callahan\, FL\, 32011\, United States
CATEGORIES:Community Impact
ATTACH;FMTTYPE=image/jpeg:https://callahanfbc.com/wp-content/uploads/2024/11/3T6A0224.jpg
END:VEVENT
BEGIN:VEVENT
DTSTART;TZID=UTC:20250417T140000
DTEND;TZID=UTC:20250417T180000
DTSTAMP:20260425T063450
CREATED:20241118T235651Z
LAST-MODIFIED:20241119T000101Z
UID:10002343-1744898400-1744912800@callahanfbc.com
SUMMARY:Grace's House PM
DESCRIPTION:Discover great finds and support a meaningful cause at Grace’s House! Our church’s thrift store ministry is dedicated to “Making a Difference\, Not a Profit.” Every purchase at Grace’s House helps fund local outreach programs and provides affordable goods to our community. Whether you’re shopping or donating\, you’re contributing to a ministry that brings hope\, support\, and love to those in need. Come visit us to make a difference together!
URL:https://callahanfbc.com/event/graces-house-pm/2025-04-17/
LOCATION:Grace’s House\, 449521 US HWY 301\, Callahan\, FL\, 32011\, United States
CATEGORIES:Community Impact
ATTACH;FMTTYPE=image/jpeg:https://callahanfbc.com/wp-content/uploads/2024/11/3T6A0224.jpg
END:VEVENT
BEGIN:VEVENT
DTSTART;TZID=UTC:20250421T180000
DTEND;TZID=UTC:20250421T200000
DTSTAMP:20260425T063450
CREATED:20241113T205219Z
LAST-MODIFIED:20241113T205219Z
UID:10000819-1745258400-1745265600@callahanfbc.com
SUMMARY:Celebrate Recovery
DESCRIPTION:Looking for a safe space to find healing and freedom? Join us every Monday evening for Celebrate Recovery! This Christ-centered recovery program is designed to help people overcome life’s hurts\, habits\, and hang-ups. We start with a shared meal at 6:00 PM\, followed by an uplifting worship service at 6:30 PM. Come as you are\, and find support\, encouragement\, and the path to true freedom in a welcoming community.
URL:https://callahanfbc.com/event/celebrate-recovery/2025-04-21/
LOCATION:Gym\, 45090\, Callahan\, FL\, 32011\, United States
CATEGORIES:Community Impact
ATTACH;FMTTYPE=image/png:https://callahanfbc.com/wp-content/uploads/2024/11/Celebrate-Recovery-Banner-2021-e1731513092622.png
END:VEVENT
BEGIN:VEVENT
DTSTART;TZID=UTC:20250422T100000
DTEND;TZID=UTC:20250422T140000
DTSTAMP:20260425T063450
CREATED:20241228T005529Z
LAST-MODIFIED:20241228T012507Z
UID:10002431-1745316000-1745330400@callahanfbc.com
SUMMARY:Grace's House
DESCRIPTION:Discover great finds and support a meaningful cause at Grace’s House! Our church’s thrift store ministry is dedicated to “Making a Difference\, Not a Profit.” Every purchase at Grace’s House helps fund local outreach programs and provides affordable goods to our community. Whether you’re shopping or donating\, you’re contributing to a ministry that brings hope\, support\, and love to those in need. Come visit us to make a difference together!
URL:https://callahanfbc.com/event/graces-house-2-3/2025-04-22/
LOCATION:Grace’s House\, 449521 US HWY 301\, Callahan\, FL\, 32011\, United States
CATEGORIES:Community Impact
ATTACH;FMTTYPE=image/jpeg:https://callahanfbc.com/wp-content/uploads/2024/11/3T6A0224.jpg
END:VEVENT
END:VCALENDAR