BEGIN:VCALENDAR
VERSION:2.0
PRODID:-//Callahan First Baptist Church - ECPv6.15.20//NONSGML v1.0//EN
CALSCALE:GREGORIAN
METHOD:PUBLISH
X-ORIGINAL-URL:https://callahanfbc.com
X-WR-CALDESC:Events for Callahan First Baptist Church
REFRESH-INTERVAL;VALUE=DURATION:PT1H
X-Robots-Tag:noindex
X-PUBLISHED-TTL:PT1H
BEGIN:VTIMEZONE
TZID:UTC
BEGIN:STANDARD
TZOFFSETFROM:+0000
TZOFFSETTO:+0000
TZNAME:UTC
DTSTART:20240101T000000
END:STANDARD
END:VTIMEZONE
BEGIN:VEVENT
DTSTART;TZID=UTC:20250406T160000
DTEND;TZID=UTC:20250406T190000
DTSTAMP:20260425T095317
CREATED:20250128T213615Z
LAST-MODIFIED:20250128T213615Z
UID:10002964-1743955200-1743966000@callahanfbc.com
SUMMARY:First Moves 101
DESCRIPTION:Join us for First Moves 101\, our class for new or potential members of the church. Learn about our mission\, beliefs\, and how to get connected. Whether you’re ready to commit or just exploring\, this class is the perfect first step in becoming part of our church family.
URL:https://callahanfbc.com/event/first-moves-101-2/
LOCATION:Gym\, 45090\, Callahan\, FL\, 32011\, United States
CATEGORIES:First Moves
ATTACH;FMTTYPE=image/jpeg:https://callahanfbc.com/wp-content/uploads/2024/11/Gym-Outside.jpg
END:VEVENT
END:VCALENDAR