BEGIN:VCALENDAR
VERSION:2.0
PRODID:-//Callahan First Baptist Church - ECPv6.15.20//NONSGML v1.0//EN
CALSCALE:GREGORIAN
METHOD:PUBLISH
X-ORIGINAL-URL:https://callahanfbc.com
X-WR-CALDESC:Events for Callahan First Baptist Church
REFRESH-INTERVAL;VALUE=DURATION:PT1H
X-Robots-Tag:noindex
X-PUBLISHED-TTL:PT1H
BEGIN:VTIMEZONE
TZID:America/New_York
BEGIN:DAYLIGHT
TZOFFSETFROM:-0500
TZOFFSETTO:-0400
TZNAME:EDT
DTSTART:20250309T070000
END:DAYLIGHT
BEGIN:STANDARD
TZOFFSETFROM:-0400
TZOFFSETTO:-0500
TZNAME:EST
DTSTART:20251102T060000
END:STANDARD
BEGIN:DAYLIGHT
TZOFFSETFROM:-0500
TZOFFSETTO:-0400
TZNAME:EDT
DTSTART:20260308T070000
END:DAYLIGHT
BEGIN:STANDARD
TZOFFSETFROM:-0400
TZOFFSETTO:-0500
TZNAME:EST
DTSTART:20261101T060000
END:STANDARD
BEGIN:DAYLIGHT
TZOFFSETFROM:-0500
TZOFFSETTO:-0400
TZNAME:EDT
DTSTART:20270314T070000
END:DAYLIGHT
BEGIN:STANDARD
TZOFFSETFROM:-0400
TZOFFSETTO:-0500
TZNAME:EST
DTSTART:20271107T060000
END:STANDARD
END:VTIMEZONE
BEGIN:VTIMEZONE
TZID:UTC
BEGIN:STANDARD
TZOFFSETFROM:+0000
TZOFFSETTO:+0000
TZNAME:UTC
DTSTART:20230101T000000
END:STANDARD
END:VTIMEZONE
BEGIN:VEVENT
DTSTART;TZID=America/New_York:20260423T100000
DTEND;TZID=America/New_York:20260423T120000
DTSTAMP:20260423T165712
CREATED:20260203T151527Z
LAST-MODIFIED:20260203T151527Z
UID:10003873-1776938400-1776945600@callahanfbc.com
SUMMARY:FAM Closet Open
DESCRIPTION:Foster and Adoption Ministry \nWelcome all families who are currently fostering or in the process of adopting. We’d love the opportunity to bless you and your family with your own food giveaway\, and open up our FAM Closet for you to come ‘shop’ around for the needs of your house. Peruse the clothes\, items\, and other equipment you might need to help you and the children in your home.
URL:https://callahanfbc.com/event/fam-closet-open/2026-04-23/
LOCATION:Callahan First Baptist\, 45090 Green Ave\, Callahan\, FL\, 32011\, United States
CATEGORIES:Community Impact,Missions
ATTACH;FMTTYPE=image/jpeg:https://callahanfbc.com/wp-content/uploads/2024/11/3T6A0226.jpg
END:VEVENT
BEGIN:VEVENT
DTSTART;TZID=America/New_York:20260326T100000
DTEND;TZID=America/New_York:20260326T120000
DTSTAMP:20260423T165712
CREATED:20260203T151527Z
LAST-MODIFIED:20260203T151527Z
UID:10003872-1774519200-1774526400@callahanfbc.com
SUMMARY:FAM Closet Open
DESCRIPTION:Foster and Adoption Ministry \nWelcome all families who are currently fostering or in the process of adopting. We’d love the opportunity to bless you and your family with your own food giveaway\, and open up our FAM Closet for you to come ‘shop’ around for the needs of your house. Peruse the clothes\, items\, and other equipment you might need to help you and the children in your home.
URL:https://callahanfbc.com/event/fam-closet-open/2026-03-26/
LOCATION:Callahan First Baptist\, 45090 Green Ave\, Callahan\, FL\, 32011\, United States
CATEGORIES:Community Impact,Missions
ATTACH;FMTTYPE=image/jpeg:https://callahanfbc.com/wp-content/uploads/2024/11/3T6A0226.jpg
END:VEVENT
BEGIN:VEVENT
DTSTART;TZID=America/New_York:20260226T100000
DTEND;TZID=America/New_York:20260226T120000
DTSTAMP:20260423T165712
CREATED:20260203T151527Z
LAST-MODIFIED:20260203T151527Z
UID:10003871-1772100000-1772107200@callahanfbc.com
SUMMARY:FAM Closet Open
DESCRIPTION:Foster and Adoption Ministry \nWelcome all families who are currently fostering or in the process of adopting. We’d love the opportunity to bless you and your family with your own food giveaway\, and open up our FAM Closet for you to come ‘shop’ around for the needs of your house. Peruse the clothes\, items\, and other equipment you might need to help you and the children in your home.
URL:https://callahanfbc.com/event/fam-closet-open/2026-02-26/
LOCATION:Callahan First Baptist\, 45090 Green Ave\, Callahan\, FL\, 32011\, United States
CATEGORIES:Community Impact,Missions
ATTACH;FMTTYPE=image/jpeg:https://callahanfbc.com/wp-content/uploads/2024/11/3T6A0226.jpg
END:VEVENT
BEGIN:VEVENT
DTSTART;TZID=America/New_York:20260117T080000
DTEND;TZID=America/New_York:20260117T170000
DTSTAMP:20260423T165712
CREATED:20251204T192714Z
LAST-MODIFIED:20251204T194103Z
UID:10003724-1768636800-1768669200@callahanfbc.com
SUMMARY:Project Impact- Youth Missions
DESCRIPTION:A full day of various service projects led by student small groups all over Callahan.
URL:https://callahanfbc.com/event/project-impact-youth-missions/
LOCATION:FL
CATEGORIES:Missions,Students
ATTACH;FMTTYPE=image/jpeg:https://callahanfbc.com/wp-content/uploads/2024/09/3T6A1668.jpg
END:VEVENT
BEGIN:VEVENT
DTSTART;TZID=UTC:20251117T160000
DTEND;TZID=UTC:20251123T110000
DTSTAMP:20260423T165712
CREATED:20250130T015905Z
LAST-MODIFIED:20250130T015905Z
UID:10003346-1763395200-1763895600@callahanfbc.com
SUMMARY:Operation Christmas Child - Collection Week
DESCRIPTION:Join us in spreading joy and sharing the love of Christ around the world! During Operation Christmas Child Collection Week\, we’ll be gathering gift-filled shoeboxes packed with toys\, school supplies\, and hygiene items for children in need. Your shoebox gift will be delivered to a child who may have never received a gift before\, along with the message of God’s love. Drop off your filled shoeboxes in the Preschool Lobby during collection hours and be a part of this global mission!
URL:https://callahanfbc.com/event/operation-christmas-child-collection-week-2/
LOCATION:Preschool Lobby
CATEGORIES:Missions
ATTACH;FMTTYPE=image/jpeg:https://callahanfbc.com/wp-content/uploads/2024/11/24180-OCC24-Overview-Media-Slides_1080x720_BOY_Final.jpg
END:VEVENT
BEGIN:VEVENT
DTSTART;TZID=UTC:20250727T080000
DTEND;TZID=UTC:20250731T200000
DTSTAMP:20260423T165712
CREATED:20250117T183700Z
LAST-MODIFIED:20250117T183700Z
UID:10002949-1753603200-1753992000@callahanfbc.com
SUMMARY:Global Impact Celebration 2025
DESCRIPTION:Global Impact Celebration is one of our biggest events every year at Callahan First. It is an incredible opportunity to meet and hear from many of our partners in the mission of sharing Christ with the world\, and encourage them in their work through Praying\, Giving and Going. \nGlobal Impact Celebration 2025 will be the 21st year of our annual missions celebration\, where we will give glory and praise to God for all He has done and is doing in and through the ministries with which we partner. Please make these 5 days a priority and plan to participate in one of the most exciting weeks of the year.
URL:https://callahanfbc.com/event/global-impact-celebration-2025/2025-07-27/
LOCATION:Callahan First Baptist\, 45090 Green Ave\, Callahan\, FL\, 32011\, United States
CATEGORIES:Missions
ATTACH;FMTTYPE=image/png:https://callahanfbc.com/wp-content/uploads/2024/06/GOING-Icon@300x-8.png
END:VEVENT
BEGIN:VEVENT
DTSTART;TZID=UTC:20250726T080000
DTEND;TZID=UTC:20250730T200000
DTSTAMP:20260423T165712
CREATED:20250117T183700Z
LAST-MODIFIED:20250117T183700Z
UID:10002948-1753516800-1753905600@callahanfbc.com
SUMMARY:Global Impact Celebration 2025
DESCRIPTION:Global Impact Celebration is one of our biggest events every year at Callahan First. It is an incredible opportunity to meet and hear from many of our partners in the mission of sharing Christ with the world\, and encourage them in their work through Praying\, Giving and Going. \nGlobal Impact Celebration 2025 will be the 21st year of our annual missions celebration\, where we will give glory and praise to God for all He has done and is doing in and through the ministries with which we partner. Please make these 5 days a priority and plan to participate in one of the most exciting weeks of the year.
URL:https://callahanfbc.com/event/global-impact-celebration-2025/2025-07-26/
LOCATION:Callahan First Baptist\, 45090 Green Ave\, Callahan\, FL\, 32011\, United States
CATEGORIES:Missions
ATTACH;FMTTYPE=image/png:https://callahanfbc.com/wp-content/uploads/2024/06/GOING-Icon@300x-8.png
END:VEVENT
BEGIN:VEVENT
DTSTART;TZID=UTC:20250725T080000
DTEND;TZID=UTC:20250729T200000
DTSTAMP:20260423T165712
CREATED:20250117T183700Z
LAST-MODIFIED:20250117T183700Z
UID:10002947-1753430400-1753819200@callahanfbc.com
SUMMARY:Global Impact Celebration 2025
DESCRIPTION:Global Impact Celebration is one of our biggest events every year at Callahan First. It is an incredible opportunity to meet and hear from many of our partners in the mission of sharing Christ with the world\, and encourage them in their work through Praying\, Giving and Going. \nGlobal Impact Celebration 2025 will be the 21st year of our annual missions celebration\, where we will give glory and praise to God for all He has done and is doing in and through the ministries with which we partner. Please make these 5 days a priority and plan to participate in one of the most exciting weeks of the year.
URL:https://callahanfbc.com/event/global-impact-celebration-2025/2025-07-25/
LOCATION:Callahan First Baptist\, 45090 Green Ave\, Callahan\, FL\, 32011\, United States
CATEGORIES:Missions
ATTACH;FMTTYPE=image/png:https://callahanfbc.com/wp-content/uploads/2024/06/GOING-Icon@300x-8.png
END:VEVENT
BEGIN:VEVENT
DTSTART;TZID=UTC:20250724T080000
DTEND;TZID=UTC:20250728T200000
DTSTAMP:20260423T165712
CREATED:20250117T183700Z
LAST-MODIFIED:20250117T183700Z
UID:10002946-1753344000-1753732800@callahanfbc.com
SUMMARY:Global Impact Celebration 2025
DESCRIPTION:Global Impact Celebration is one of our biggest events every year at Callahan First. It is an incredible opportunity to meet and hear from many of our partners in the mission of sharing Christ with the world\, and encourage them in their work through Praying\, Giving and Going. \nGlobal Impact Celebration 2025 will be the 21st year of our annual missions celebration\, where we will give glory and praise to God for all He has done and is doing in and through the ministries with which we partner. Please make these 5 days a priority and plan to participate in one of the most exciting weeks of the year.
URL:https://callahanfbc.com/event/global-impact-celebration-2025/2025-07-24/
LOCATION:Callahan First Baptist\, 45090 Green Ave\, Callahan\, FL\, 32011\, United States
CATEGORIES:Missions
ATTACH;FMTTYPE=image/png:https://callahanfbc.com/wp-content/uploads/2024/06/GOING-Icon@300x-8.png
END:VEVENT
BEGIN:VEVENT
DTSTART;TZID=UTC:20250723T080000
DTEND;TZID=UTC:20250727T200000
DTSTAMP:20260423T165712
CREATED:20250117T183700Z
LAST-MODIFIED:20250117T183700Z
UID:10002945-1753257600-1753646400@callahanfbc.com
SUMMARY:Global Impact Celebration 2025
DESCRIPTION:Global Impact Celebration is one of our biggest events every year at Callahan First. It is an incredible opportunity to meet and hear from many of our partners in the mission of sharing Christ with the world\, and encourage them in their work through Praying\, Giving and Going. \nGlobal Impact Celebration 2025 will be the 21st year of our annual missions celebration\, where we will give glory and praise to God for all He has done and is doing in and through the ministries with which we partner. Please make these 5 days a priority and plan to participate in one of the most exciting weeks of the year.
URL:https://callahanfbc.com/event/global-impact-celebration-2025/2025-07-23/
LOCATION:Callahan First Baptist\, 45090 Green Ave\, Callahan\, FL\, 32011\, United States
CATEGORIES:Missions
ATTACH;FMTTYPE=image/png:https://callahanfbc.com/wp-content/uploads/2024/06/GOING-Icon@300x-8.png
END:VEVENT
BEGIN:VEVENT
DTSTART;TZID=UTC:20241118T160000
DTEND;TZID=UTC:20241125T110000
DTSTAMP:20260423T165712
CREATED:20241112T213606Z
LAST-MODIFIED:20241112T233506Z
UID:10000266-1731945600-1732532400@callahanfbc.com
SUMMARY:Operation Christmas Child - Collection Week
DESCRIPTION:Join us in spreading joy and sharing the love of Christ around the world! During Operation Christmas Child Collection Week\, we’ll be gathering gift-filled shoeboxes packed with toys\, school supplies\, and hygiene items for children in need. Your shoebox gift will be delivered to a child who may have never received a gift before\, along with the message of God’s love. Drop off your filled shoeboxes in the Preschool Lobby during collection hours and be a part of this global mission! \nDrop-off hours: \n\nMonday\, November 18 | 4:00-6:00pm\nTuesday\, November 19 | 9:00-11:00am\nWednesday\, November 20 | 4:00-6:00pm\nThursday\, November 21 | 9:00-11:00am\nFriday\, November 22 | 4:00-6:00pm\nSaturday\, November 23 | 10:00am-12:00pm\nSunday\, November 24 | 1:00-3:00pm\nMonday\, November 25 | 9:00-11:00am
URL:https://callahanfbc.com/event/operation-christmas-child-collection-week/
LOCATION:Preschool Lobby
CATEGORIES:Missions
ATTACH;FMTTYPE=image/jpeg:https://callahanfbc.com/wp-content/uploads/2024/11/24180-OCC24-Overview-Media-Slides_1080x720_BOY_Final.jpg
END:VEVENT
BEGIN:VEVENT
DTSTART;TZID=UTC:20241114T180000
DTEND;TZID=UTC:20241114T200000
DTSTAMP:20260423T165712
CREATED:20241112T210245Z
LAST-MODIFIED:20241112T210454Z
UID:10000264-1731607200-1731614400@callahanfbc.com
SUMMARY:Cards and Coffee
DESCRIPTION:Join us for a cozy evening of fellowship and encouragement as we write uplifting messages to our Ministry partners! Bring a dessert to share and blank cards with envelopes. Coffee\, tea\, and water will be provided. This is a wonderful opportunity to connect\, reflect\, and support others through heartfelt words. We hope to see you there!
URL:https://callahanfbc.com/event/cards-and-coffee/
LOCATION:Gym\, 45090\, Callahan\, FL\, 32011\, United States
CATEGORIES:Missions
ATTACH;FMTTYPE=image/jpeg:https://callahanfbc.com/wp-content/uploads/2024/11/AdobeStock_471253133.jpg
END:VEVENT
END:VCALENDAR