BEGIN:VCALENDAR
VERSION:2.0
PRODID:-//Callahan First Baptist Church - ECPv6.15.20//NONSGML v1.0//EN
CALSCALE:GREGORIAN
METHOD:PUBLISH
X-WR-CALNAME:Callahan First Baptist Church
X-ORIGINAL-URL:https://callahanfbc.com
X-WR-CALDESC:Events for Callahan First Baptist Church
REFRESH-INTERVAL;VALUE=DURATION:PT1H
X-Robots-Tag:noindex
X-PUBLISHED-TTL:PT1H
BEGIN:VTIMEZONE
TZID:UTC
BEGIN:STANDARD
TZOFFSETFROM:+0000
TZOFFSETTO:+0000
TZNAME:UTC
DTSTART:20250101T000000
END:STANDARD
END:VTIMEZONE
BEGIN:VTIMEZONE
TZID:America/New_York
BEGIN:DAYLIGHT
TZOFFSETFROM:-0500
TZOFFSETTO:-0400
TZNAME:EDT
DTSTART:20250309T070000
END:DAYLIGHT
BEGIN:STANDARD
TZOFFSETFROM:-0400
TZOFFSETTO:-0500
TZNAME:EST
DTSTART:20251102T060000
END:STANDARD
BEGIN:DAYLIGHT
TZOFFSETFROM:-0500
TZOFFSETTO:-0400
TZNAME:EDT
DTSTART:20260308T070000
END:DAYLIGHT
BEGIN:STANDARD
TZOFFSETFROM:-0400
TZOFFSETTO:-0500
TZNAME:EST
DTSTART:20261101T060000
END:STANDARD
BEGIN:DAYLIGHT
TZOFFSETFROM:-0500
TZOFFSETTO:-0400
TZNAME:EDT
DTSTART:20270314T070000
END:DAYLIGHT
BEGIN:STANDARD
TZOFFSETFROM:-0400
TZOFFSETTO:-0500
TZNAME:EST
DTSTART:20271107T060000
END:STANDARD
END:VTIMEZONE
BEGIN:VEVENT
DTSTART;TZID=UTC:20260305T100000
DTEND;TZID=UTC:20260305T140000
DTSTAMP:20260423T184048
CREATED:20241113T020919Z
LAST-MODIFIED:20241118T235512Z
UID:10000342-1772704800-1772719200@callahanfbc.com
SUMMARY:Grace's House
DESCRIPTION:Discover great finds and support a meaningful cause at Grace’s House! Our church’s thrift store ministry is dedicated to “Making a Difference\, Not a Profit.” Every purchase at Grace’s House helps fund local outreach programs and provides affordable goods to our community. Whether you’re shopping or donating\, you’re contributing to a ministry that brings hope\, support\, and love to those in need. Come visit us to make a difference together!
URL:https://callahanfbc.com/event/graces-house/2026-03-05/
LOCATION:Grace’s House\, 449521 US HWY 301\, Callahan\, FL\, 32011\, United States
CATEGORIES:Community Impact
ATTACH;FMTTYPE=image/jpeg:https://callahanfbc.com/wp-content/uploads/2024/11/3T6A0224.jpg
END:VEVENT
BEGIN:VEVENT
DTSTART;TZID=America/New_York:20260305T100000
DTEND;TZID=America/New_York:20260305T120000
DTSTAMP:20260423T184048
CREATED:20260203T131525Z
LAST-MODIFIED:20260203T131525Z
UID:10003748-1772704800-1772712000@callahanfbc.com
SUMMARY:Storehouse Morning Giveaway
DESCRIPTION:Come join us for our free food giveaway this morning from 10 am- 12 pm. Everyone is welcome to receive free groceries hand packed by our volunteers. Limit two families per vehicle.
URL:https://callahanfbc.com/event/storehouse-morning-giveaway/2026-03-05/
LOCATION:Callahan First Baptist\, 45090 Green Ave\, Callahan\, FL\, 32011\, United States
CATEGORIES:Community Impact
ATTACH;FMTTYPE=image/jpeg:https://callahanfbc.com/wp-content/uploads/2024/11/Storehouse-Truck.jpg
END:VEVENT
BEGIN:VEVENT
DTSTART;TZID=UTC:20260304T184500
DTEND;TZID=UTC:20260304T200000
DTSTAMP:20260423T184048
CREATED:20241228T005006Z
LAST-MODIFIED:20241228T005410Z
UID:10001303-1772649900-1772654400@callahanfbc.com
SUMMARY:Wednesday Activities
DESCRIPTION:Join us on Wednesdays for a full evening of connection\, worship\, and growth for all ages! We start with a delicious\, family-style dinner at 5:15 PM in the gym\, followed by activities and small groups for every age. Whether you’re looking for a Bible study\, youth group\, or a fun\, faith-filled program for kids\, there’s something for everyone. Come be a part of our midweek gathering as we grow in faith and fellowship together! \nCheck out our current Bible studies here.
URL:https://callahanfbc.com/event/ladies-bible-study-2/2026-03-04/
LOCATION:Callahan First Baptist\, 45090 Green Ave\, Callahan\, FL\, 32011\, United States
ATTACH;FMTTYPE=image/jpeg:https://callahanfbc.com/wp-content/uploads/2024/04/Drone-shot-1.jpg
END:VEVENT
BEGIN:VEVENT
DTSTART;TZID=UTC:20260303T100000
DTEND;TZID=UTC:20260303T140000
DTSTAMP:20260423T184048
CREATED:20241228T005529Z
LAST-MODIFIED:20241228T012507Z
UID:10002476-1772532000-1772546400@callahanfbc.com
SUMMARY:Grace's House
DESCRIPTION:Discover great finds and support a meaningful cause at Grace’s House! Our church’s thrift store ministry is dedicated to “Making a Difference\, Not a Profit.” Every purchase at Grace’s House helps fund local outreach programs and provides affordable goods to our community. Whether you’re shopping or donating\, you’re contributing to a ministry that brings hope\, support\, and love to those in need. Come visit us to make a difference together!
URL:https://callahanfbc.com/event/graces-house-2-3/2026-03-03/
LOCATION:Grace’s House\, 449521 US HWY 301\, Callahan\, FL\, 32011\, United States
CATEGORIES:Community Impact
ATTACH;FMTTYPE=image/jpeg:https://callahanfbc.com/wp-content/uploads/2024/11/3T6A0224.jpg
END:VEVENT
BEGIN:VEVENT
DTSTART;TZID=UTC:20260303T090000
DTEND;TZID=UTC:20260303T110000
DTSTAMP:20260423T184048
CREATED:20241118T234657Z
LAST-MODIFIED:20241118T234657Z
UID:10001510-1772528400-1772535600@callahanfbc.com
SUMMARY:Toddler Time
DESCRIPTION:Join us for a fun and relaxing morning of games\, crafts\, and community for mothers and their toddlers! This event is designed to give moms a chance to connect while their little ones enjoy creative activities and playful fun. Whether you’re looking to meet new friends or simply have some fun with your toddler\, we’d love to see you there!
URL:https://callahanfbc.com/event/toddler-time/2026-03-03/
LOCATION:Chapel
CATEGORIES:Community Impact
ATTACH;FMTTYPE=image/jpeg:https://callahanfbc.com/wp-content/uploads/2024/11/CF-Kids-Check-In.jpg
END:VEVENT
BEGIN:VEVENT
DTSTART;TZID=UTC:20260302T180000
DTEND;TZID=UTC:20260302T200000
DTSTAMP:20260423T184048
CREATED:20241113T205219Z
LAST-MODIFIED:20241113T205219Z
UID:10000864-1772474400-1772481600@callahanfbc.com
SUMMARY:Celebrate Recovery
DESCRIPTION:Looking for a safe space to find healing and freedom? Join us every Monday evening for Celebrate Recovery! This Christ-centered recovery program is designed to help people overcome life’s hurts\, habits\, and hang-ups. We start with a shared meal at 6:00 PM\, followed by an uplifting worship service at 6:30 PM. Come as you are\, and find support\, encouragement\, and the path to true freedom in a welcoming community.
URL:https://callahanfbc.com/event/celebrate-recovery/2026-03-02/
LOCATION:Gym\, 45090\, Callahan\, FL\, 32011\, United States
CATEGORIES:Community Impact
ATTACH;FMTTYPE=image/png:https://callahanfbc.com/wp-content/uploads/2024/11/Celebrate-Recovery-Banner-2021-e1731513092622.png
END:VEVENT
BEGIN:VEVENT
DTSTART;TZID=UTC:20260301T101500
DTEND;TZID=UTC:20260301T120000
DTSTAMP:20260423T184048
CREATED:20240430T210534Z
LAST-MODIFIED:20241111T234920Z
UID:10000070-1772360100-1772366400@callahanfbc.com
SUMMARY:Sunday Worship
DESCRIPTION:Join us every Sunday morning for Worship at Callahan First Baptist Church. We can’t wait to see you this Sunday!
URL:https://callahanfbc.com/event/sunday-worship/2026-03-01/
LOCATION:Callahan First Baptist\, 45090 Green Ave\, Callahan\, FL\, 32011\, United States
CATEGORIES:Sunday Worship
ATTACH;FMTTYPE=image/jpeg:https://callahanfbc.com/wp-content/uploads/2024/04/3T6A1789.jpg
END:VEVENT
BEGIN:VEVENT
DTSTART;TZID=America/New_York:20260301T100000
DTEND;TZID=America/New_York:20260301T113000
DTSTAMP:20260423T184048
CREATED:20260203T163227Z
LAST-MODIFIED:20260203T163227Z
UID:10003935-1772359200-1772364600@callahanfbc.com
SUMMARY:Kids Choir Singing
DESCRIPTION:Join us in worship as our Kids Choir shows us songs they’ve been practicing
URL:https://callahanfbc.com/event/kids-choir-singing/
LOCATION:Callahan First Baptist\, 45090 Green Ave\, Callahan\, FL\, 32011\, United States
CATEGORIES:Sunday Worship
ATTACH;FMTTYPE=image/png:https://callahanfbc.com/wp-content/uploads/2024/05/Screenshot-2024-05-07-at-3.07.51-PM.png
END:VEVENT
BEGIN:VEVENT
DTSTART;TZID=America/New_York:20260301T100000
DTEND;TZID=America/New_York:20260301T113000
DTSTAMP:20260423T184048
CREATED:20260203T162518Z
LAST-MODIFIED:20260203T162518Z
UID:10003934-1772359200-1772364600@callahanfbc.com
SUMMARY:Chest of Joash Giving Day
DESCRIPTION:As we prepare to embark on more of our Vision Project at the Brandies property\, please join us for a day to give and to pray.
URL:https://callahanfbc.com/event/chest-of-joash-giving-day/
LOCATION:Callahan First Baptist\, 45090 Green Ave\, Callahan\, FL\, 32011\, United States
CATEGORIES:Sunday Worship
ATTACH;FMTTYPE=image/jpeg:https://callahanfbc.com/wp-content/uploads/2024/04/Lynn-Preaching-3.jpg
END:VEVENT
BEGIN:VEVENT
DTSTART;TZID=UTC:20260226T100000
DTEND;TZID=UTC:20260226T140000
DTSTAMP:20260423T184048
CREATED:20241113T020919Z
LAST-MODIFIED:20241118T235512Z
UID:10000341-1772100000-1772114400@callahanfbc.com
SUMMARY:Grace's House
DESCRIPTION:Discover great finds and support a meaningful cause at Grace’s House! Our church’s thrift store ministry is dedicated to “Making a Difference\, Not a Profit.” Every purchase at Grace’s House helps fund local outreach programs and provides affordable goods to our community. Whether you’re shopping or donating\, you’re contributing to a ministry that brings hope\, support\, and love to those in need. Come visit us to make a difference together!
URL:https://callahanfbc.com/event/graces-house/2026-02-26/
LOCATION:Grace’s House\, 449521 US HWY 301\, Callahan\, FL\, 32011\, United States
CATEGORIES:Community Impact
ATTACH;FMTTYPE=image/jpeg:https://callahanfbc.com/wp-content/uploads/2024/11/3T6A0224.jpg
END:VEVENT
BEGIN:VEVENT
DTSTART;TZID=America/New_York:20260226T100000
DTEND;TZID=America/New_York:20260226T120000
DTSTAMP:20260423T184048
CREATED:20260203T151527Z
LAST-MODIFIED:20260203T151527Z
UID:10003871-1772100000-1772107200@callahanfbc.com
SUMMARY:FAM Closet Open
DESCRIPTION:Foster and Adoption Ministry \nWelcome all families who are currently fostering or in the process of adopting. We’d love the opportunity to bless you and your family with your own food giveaway\, and open up our FAM Closet for you to come ‘shop’ around for the needs of your house. Peruse the clothes\, items\, and other equipment you might need to help you and the children in your home.
URL:https://callahanfbc.com/event/fam-closet-open/2026-02-26/
LOCATION:Callahan First Baptist\, 45090 Green Ave\, Callahan\, FL\, 32011\, United States
CATEGORIES:Community Impact,Missions
ATTACH;FMTTYPE=image/jpeg:https://callahanfbc.com/wp-content/uploads/2024/11/3T6A0226.jpg
END:VEVENT
BEGIN:VEVENT
DTSTART;TZID=UTC:20260225T184500
DTEND;TZID=UTC:20260225T200000
DTSTAMP:20260423T184048
CREATED:20241228T005006Z
LAST-MODIFIED:20241228T005410Z
UID:10001302-1772045100-1772049600@callahanfbc.com
SUMMARY:Wednesday Activities
DESCRIPTION:Join us on Wednesdays for a full evening of connection\, worship\, and growth for all ages! We start with a delicious\, family-style dinner at 5:15 PM in the gym\, followed by activities and small groups for every age. Whether you’re looking for a Bible study\, youth group\, or a fun\, faith-filled program for kids\, there’s something for everyone. Come be a part of our midweek gathering as we grow in faith and fellowship together! \nCheck out our current Bible studies here.
URL:https://callahanfbc.com/event/ladies-bible-study-2/2026-02-25/
LOCATION:Callahan First Baptist\, 45090 Green Ave\, Callahan\, FL\, 32011\, United States
ATTACH;FMTTYPE=image/jpeg:https://callahanfbc.com/wp-content/uploads/2024/04/Drone-shot-1.jpg
END:VEVENT
BEGIN:VEVENT
DTSTART;TZID=UTC:20260224T100000
DTEND;TZID=UTC:20260224T140000
DTSTAMP:20260423T184048
CREATED:20241228T005529Z
LAST-MODIFIED:20241228T012507Z
UID:10002475-1771927200-1771941600@callahanfbc.com
SUMMARY:Grace's House
DESCRIPTION:Discover great finds and support a meaningful cause at Grace’s House! Our church’s thrift store ministry is dedicated to “Making a Difference\, Not a Profit.” Every purchase at Grace’s House helps fund local outreach programs and provides affordable goods to our community. Whether you’re shopping or donating\, you’re contributing to a ministry that brings hope\, support\, and love to those in need. Come visit us to make a difference together!
URL:https://callahanfbc.com/event/graces-house-2-3/2026-02-24/
LOCATION:Grace’s House\, 449521 US HWY 301\, Callahan\, FL\, 32011\, United States
CATEGORIES:Community Impact
ATTACH;FMTTYPE=image/jpeg:https://callahanfbc.com/wp-content/uploads/2024/11/3T6A0224.jpg
END:VEVENT
BEGIN:VEVENT
DTSTART;TZID=UTC:20260223T180000
DTEND;TZID=UTC:20260223T200000
DTSTAMP:20260423T184048
CREATED:20241113T205219Z
LAST-MODIFIED:20241113T205219Z
UID:10000863-1771869600-1771876800@callahanfbc.com
SUMMARY:Celebrate Recovery
DESCRIPTION:Looking for a safe space to find healing and freedom? Join us every Monday evening for Celebrate Recovery! This Christ-centered recovery program is designed to help people overcome life’s hurts\, habits\, and hang-ups. We start with a shared meal at 6:00 PM\, followed by an uplifting worship service at 6:30 PM. Come as you are\, and find support\, encouragement\, and the path to true freedom in a welcoming community.
URL:https://callahanfbc.com/event/celebrate-recovery/2026-02-23/
LOCATION:Gym\, 45090\, Callahan\, FL\, 32011\, United States
CATEGORIES:Community Impact
ATTACH;FMTTYPE=image/png:https://callahanfbc.com/wp-content/uploads/2024/11/Celebrate-Recovery-Banner-2021-e1731513092622.png
END:VEVENT
BEGIN:VEVENT
DTSTART;TZID=UTC:20260222T101500
DTEND;TZID=UTC:20260222T120000
DTSTAMP:20260423T184048
CREATED:20240430T210534Z
LAST-MODIFIED:20241111T234920Z
UID:10000069-1771755300-1771761600@callahanfbc.com
SUMMARY:Sunday Worship
DESCRIPTION:Join us every Sunday morning for Worship at Callahan First Baptist Church. We can’t wait to see you this Sunday!
URL:https://callahanfbc.com/event/sunday-worship/2026-02-22/
LOCATION:Callahan First Baptist\, 45090 Green Ave\, Callahan\, FL\, 32011\, United States
CATEGORIES:Sunday Worship
ATTACH;FMTTYPE=image/jpeg:https://callahanfbc.com/wp-content/uploads/2024/04/3T6A1789.jpg
END:VEVENT
BEGIN:VEVENT
DTSTART;TZID=America/New_York:20260219T163000
DTEND;TZID=America/New_York:20260219T183000
DTSTAMP:20260423T184048
CREATED:20260203T131705Z
LAST-MODIFIED:20260203T131705Z
UID:10003807-1771518600-1771525800@callahanfbc.com
SUMMARY:Storehouse Afternoon Giveaway
DESCRIPTION:Come join us for our free food giveaway this afternoon from 4:30-6:30 PM. Everyone is welcome to receive free groceries hand packed by our volunteers. Limit two families per vehicle.
URL:https://callahanfbc.com/event/storehouse-afternoon-giveaway/2026-02-19/
LOCATION:Callahan First Baptist\, 45090 Green Ave\, Callahan\, FL\, 32011\, United States
ATTACH;FMTTYPE=image/jpeg:https://callahanfbc.com/wp-content/uploads/2024/11/Storehouse-Truck.jpg
END:VEVENT
BEGIN:VEVENT
DTSTART;TZID=UTC:20260219T140000
DTEND;TZID=UTC:20260219T180000
DTSTAMP:20260423T184048
CREATED:20241118T235651Z
LAST-MODIFIED:20241119T000101Z
UID:10002353-1771509600-1771524000@callahanfbc.com
SUMMARY:Grace's House PM
DESCRIPTION:Discover great finds and support a meaningful cause at Grace’s House! Our church’s thrift store ministry is dedicated to “Making a Difference\, Not a Profit.” Every purchase at Grace’s House helps fund local outreach programs and provides affordable goods to our community. Whether you’re shopping or donating\, you’re contributing to a ministry that brings hope\, support\, and love to those in need. Come visit us to make a difference together!
URL:https://callahanfbc.com/event/graces-house-pm/2026-02-19/
LOCATION:Grace’s House\, 449521 US HWY 301\, Callahan\, FL\, 32011\, United States
CATEGORIES:Community Impact
ATTACH;FMTTYPE=image/jpeg:https://callahanfbc.com/wp-content/uploads/2024/11/3T6A0224.jpg
END:VEVENT
BEGIN:VEVENT
DTSTART;TZID=UTC:20260218T184500
DTEND;TZID=UTC:20260218T200000
DTSTAMP:20260423T184048
CREATED:20241228T005006Z
LAST-MODIFIED:20241228T005410Z
UID:10001301-1771440300-1771444800@callahanfbc.com
SUMMARY:Wednesday Activities
DESCRIPTION:Join us on Wednesdays for a full evening of connection\, worship\, and growth for all ages! We start with a delicious\, family-style dinner at 5:15 PM in the gym\, followed by activities and small groups for every age. Whether you’re looking for a Bible study\, youth group\, or a fun\, faith-filled program for kids\, there’s something for everyone. Come be a part of our midweek gathering as we grow in faith and fellowship together! \nCheck out our current Bible studies here.
URL:https://callahanfbc.com/event/ladies-bible-study-2/2026-02-18/
LOCATION:Callahan First Baptist\, 45090 Green Ave\, Callahan\, FL\, 32011\, United States
ATTACH;FMTTYPE=image/jpeg:https://callahanfbc.com/wp-content/uploads/2024/04/Drone-shot-1.jpg
END:VEVENT
BEGIN:VEVENT
DTSTART;TZID=UTC:20260217T100000
DTEND;TZID=UTC:20260217T140000
DTSTAMP:20260423T184048
CREATED:20241228T005529Z
LAST-MODIFIED:20241228T012507Z
UID:10002474-1771322400-1771336800@callahanfbc.com
SUMMARY:Grace's House
DESCRIPTION:Discover great finds and support a meaningful cause at Grace’s House! Our church’s thrift store ministry is dedicated to “Making a Difference\, Not a Profit.” Every purchase at Grace’s House helps fund local outreach programs and provides affordable goods to our community. Whether you’re shopping or donating\, you’re contributing to a ministry that brings hope\, support\, and love to those in need. Come visit us to make a difference together!
URL:https://callahanfbc.com/event/graces-house-2-3/2026-02-17/
LOCATION:Grace’s House\, 449521 US HWY 301\, Callahan\, FL\, 32011\, United States
CATEGORIES:Community Impact
ATTACH;FMTTYPE=image/jpeg:https://callahanfbc.com/wp-content/uploads/2024/11/3T6A0224.jpg
END:VEVENT
BEGIN:VEVENT
DTSTART;TZID=UTC:20260216T180000
DTEND;TZID=UTC:20260216T200000
DTSTAMP:20260423T184048
CREATED:20241113T205219Z
LAST-MODIFIED:20241113T205219Z
UID:10000862-1771264800-1771272000@callahanfbc.com
SUMMARY:Celebrate Recovery
DESCRIPTION:Looking for a safe space to find healing and freedom? Join us every Monday evening for Celebrate Recovery! This Christ-centered recovery program is designed to help people overcome life’s hurts\, habits\, and hang-ups. We start with a shared meal at 6:00 PM\, followed by an uplifting worship service at 6:30 PM. Come as you are\, and find support\, encouragement\, and the path to true freedom in a welcoming community.
URL:https://callahanfbc.com/event/celebrate-recovery/2026-02-16/
LOCATION:Gym\, 45090\, Callahan\, FL\, 32011\, United States
CATEGORIES:Community Impact
ATTACH;FMTTYPE=image/png:https://callahanfbc.com/wp-content/uploads/2024/11/Celebrate-Recovery-Banner-2021-e1731513092622.png
END:VEVENT
BEGIN:VEVENT
DTSTART;TZID=America/New_York:20260215T160000
DTEND;TZID=America/New_York:20260215T190000
DTSTAMP:20260423T184048
CREATED:20260203T132702Z
LAST-MODIFIED:20260203T132738Z
UID:10003867-1771171200-1771182000@callahanfbc.com
SUMMARY:First Moves 101
DESCRIPTION:Join us for First Moves 101\, our class for new or potential members of the church. Learn about our mission\, beliefs\, and how to get connected. Whether you’re ready to commit or just exploring\, this class is the perfect first step in becoming part of our church family.
URL:https://callahanfbc.com/event/first-moves-101-5/
LOCATION:Callahan First Baptist\, 45090 Green Ave\, Callahan\, FL\, 32011\, United States
CATEGORIES:First Moves
ATTACH;FMTTYPE=image/jpeg:https://callahanfbc.com/wp-content/uploads/2024/11/Gym-Outside.jpg
END:VEVENT
BEGIN:VEVENT
DTSTART;TZID=UTC:20260215T101500
DTEND;TZID=UTC:20260215T120000
DTSTAMP:20260423T184048
CREATED:20240430T210534Z
LAST-MODIFIED:20241111T234920Z
UID:10000068-1771150500-1771156800@callahanfbc.com
SUMMARY:Sunday Worship
DESCRIPTION:Join us every Sunday morning for Worship at Callahan First Baptist Church. We can’t wait to see you this Sunday!
URL:https://callahanfbc.com/event/sunday-worship/2026-02-15/
LOCATION:Callahan First Baptist\, 45090 Green Ave\, Callahan\, FL\, 32011\, United States
CATEGORIES:Sunday Worship
ATTACH;FMTTYPE=image/jpeg:https://callahanfbc.com/wp-content/uploads/2024/04/3T6A1789.jpg
END:VEVENT
BEGIN:VEVENT
DTSTART;TZID=America/New_York:20260213T180000
DTEND;TZID=America/New_York:20260213T200000
DTSTAMP:20260423T184048
CREATED:20260203T131120Z
LAST-MODIFIED:20260203T131120Z
UID:10003746-1771005600-1771012800@callahanfbc.com
SUMMARY:Senior Valentine's Day Banquet
DESCRIPTION:Valentine banquet – Prepare for a romantic evening as the youth prepare dinner for our amazing seniors! Come ready to be served\, win prizes and hear amazing testimonies! FEB 13th  from 6-8PM.
URL:https://callahanfbc.com/event/senior-valentines-day-banquet/
LOCATION:Callahan First Baptist\, 45090 Green Ave\, Callahan\, FL\, 32011\, United States
ATTACH;FMTTYPE=image/jpeg:https://callahanfbc.com/wp-content/uploads/2026/02/Valentines-image.jpg
END:VEVENT
BEGIN:VEVENT
DTSTART;TZID=UTC:20260212T100000
DTEND;TZID=UTC:20260212T140000
DTSTAMP:20260423T184048
CREATED:20241113T020919Z
LAST-MODIFIED:20241118T235512Z
UID:10000339-1770890400-1770904800@callahanfbc.com
SUMMARY:Grace's House
DESCRIPTION:Discover great finds and support a meaningful cause at Grace’s House! Our church’s thrift store ministry is dedicated to “Making a Difference\, Not a Profit.” Every purchase at Grace’s House helps fund local outreach programs and provides affordable goods to our community. Whether you’re shopping or donating\, you’re contributing to a ministry that brings hope\, support\, and love to those in need. Come visit us to make a difference together!
URL:https://callahanfbc.com/event/graces-house/2026-02-12/
LOCATION:Grace’s House\, 449521 US HWY 301\, Callahan\, FL\, 32011\, United States
CATEGORIES:Community Impact
ATTACH;FMTTYPE=image/jpeg:https://callahanfbc.com/wp-content/uploads/2024/11/3T6A0224.jpg
END:VEVENT
BEGIN:VEVENT
DTSTART;TZID=UTC:20260211T184500
DTEND;TZID=UTC:20260211T200000
DTSTAMP:20260423T184048
CREATED:20241228T005006Z
LAST-MODIFIED:20241228T005410Z
UID:10001300-1770835500-1770840000@callahanfbc.com
SUMMARY:Wednesday Activities
DESCRIPTION:Join us on Wednesdays for a full evening of connection\, worship\, and growth for all ages! We start with a delicious\, family-style dinner at 5:15 PM in the gym\, followed by activities and small groups for every age. Whether you’re looking for a Bible study\, youth group\, or a fun\, faith-filled program for kids\, there’s something for everyone. Come be a part of our midweek gathering as we grow in faith and fellowship together! \nCheck out our current Bible studies here.
URL:https://callahanfbc.com/event/ladies-bible-study-2/2026-02-11/
LOCATION:Callahan First Baptist\, 45090 Green Ave\, Callahan\, FL\, 32011\, United States
ATTACH;FMTTYPE=image/jpeg:https://callahanfbc.com/wp-content/uploads/2024/04/Drone-shot-1.jpg
END:VEVENT
BEGIN:VEVENT
DTSTART;TZID=UTC:20260210T100000
DTEND;TZID=UTC:20260210T140000
DTSTAMP:20260423T184048
CREATED:20241228T005529Z
LAST-MODIFIED:20241228T012507Z
UID:10002473-1770717600-1770732000@callahanfbc.com
SUMMARY:Grace's House
DESCRIPTION:Discover great finds and support a meaningful cause at Grace’s House! Our church’s thrift store ministry is dedicated to “Making a Difference\, Not a Profit.” Every purchase at Grace’s House helps fund local outreach programs and provides affordable goods to our community. Whether you’re shopping or donating\, you’re contributing to a ministry that brings hope\, support\, and love to those in need. Come visit us to make a difference together!
URL:https://callahanfbc.com/event/graces-house-2-3/2026-02-10/
LOCATION:Grace’s House\, 449521 US HWY 301\, Callahan\, FL\, 32011\, United States
CATEGORIES:Community Impact
ATTACH;FMTTYPE=image/jpeg:https://callahanfbc.com/wp-content/uploads/2024/11/3T6A0224.jpg
END:VEVENT
BEGIN:VEVENT
DTSTART;TZID=UTC:20260209T180000
DTEND;TZID=UTC:20260209T200000
DTSTAMP:20260423T184048
CREATED:20241113T205219Z
LAST-MODIFIED:20241113T205219Z
UID:10000861-1770660000-1770667200@callahanfbc.com
SUMMARY:Celebrate Recovery
DESCRIPTION:Looking for a safe space to find healing and freedom? Join us every Monday evening for Celebrate Recovery! This Christ-centered recovery program is designed to help people overcome life’s hurts\, habits\, and hang-ups. We start with a shared meal at 6:00 PM\, followed by an uplifting worship service at 6:30 PM. Come as you are\, and find support\, encouragement\, and the path to true freedom in a welcoming community.
URL:https://callahanfbc.com/event/celebrate-recovery/2026-02-09/
LOCATION:Gym\, 45090\, Callahan\, FL\, 32011\, United States
CATEGORIES:Community Impact
ATTACH;FMTTYPE=image/png:https://callahanfbc.com/wp-content/uploads/2024/11/Celebrate-Recovery-Banner-2021-e1731513092622.png
END:VEVENT
BEGIN:VEVENT
DTSTART;TZID=America/New_York:20260208T170000
DTEND;TZID=America/New_York:20260208T210000
DTSTAMP:20260423T184048
CREATED:20251204T193620Z
LAST-MODIFIED:20260203T131934Z
UID:10003725-1770570000-1770584400@callahanfbc.com
SUMMARY:Superbowl Outreach
DESCRIPTION:Calling all Students! \nCome join us for a Super Bowl party geared towards students to enjoy the game and uplift the gospel. Come watch the Superbowl with us in the gym\, as we also play fun games\, eat great food\, and have a chance to win fun prizes!
URL:https://callahanfbc.com/event/superbowl-outreach/
LOCATION:Gym\, 45090\, Callahan\, FL\, 32011\, United States
CATEGORIES:Students
ATTACH;FMTTYPE=image/jpeg:https://callahanfbc.com/wp-content/uploads/2024/05/CF-Students-Worship.jpg
END:VEVENT
BEGIN:VEVENT
DTSTART;TZID=UTC:20260208T101500
DTEND;TZID=UTC:20260208T120000
DTSTAMP:20260423T184048
CREATED:20240430T210534Z
LAST-MODIFIED:20241111T234920Z
UID:10000067-1770545700-1770552000@callahanfbc.com
SUMMARY:Sunday Worship
DESCRIPTION:Join us every Sunday morning for Worship at Callahan First Baptist Church. We can’t wait to see you this Sunday!
URL:https://callahanfbc.com/event/sunday-worship/2026-02-08/
LOCATION:Callahan First Baptist\, 45090 Green Ave\, Callahan\, FL\, 32011\, United States
CATEGORIES:Sunday Worship
ATTACH;FMTTYPE=image/jpeg:https://callahanfbc.com/wp-content/uploads/2024/04/3T6A1789.jpg
END:VEVENT
BEGIN:VEVENT
DTSTART;TZID=UTC:20260205T100000
DTEND;TZID=UTC:20260205T140000
DTSTAMP:20260423T184048
CREATED:20241113T020919Z
LAST-MODIFIED:20241118T235512Z
UID:10000338-1770285600-1770300000@callahanfbc.com
SUMMARY:Grace's House
DESCRIPTION:Discover great finds and support a meaningful cause at Grace’s House! Our church’s thrift store ministry is dedicated to “Making a Difference\, Not a Profit.” Every purchase at Grace’s House helps fund local outreach programs and provides affordable goods to our community. Whether you’re shopping or donating\, you’re contributing to a ministry that brings hope\, support\, and love to those in need. Come visit us to make a difference together!
URL:https://callahanfbc.com/event/graces-house/2026-02-05/
LOCATION:Grace’s House\, 449521 US HWY 301\, Callahan\, FL\, 32011\, United States
CATEGORIES:Community Impact
ATTACH;FMTTYPE=image/jpeg:https://callahanfbc.com/wp-content/uploads/2024/11/3T6A0224.jpg
END:VEVENT
END:VCALENDAR