BEGIN:VCALENDAR
VERSION:2.0
PRODID:-//Callahan First Baptist Church - ECPv6.15.20//NONSGML v1.0//EN
CALSCALE:GREGORIAN
METHOD:PUBLISH
X-WR-CALNAME:Callahan First Baptist Church
X-ORIGINAL-URL:https://callahanfbc.com
X-WR-CALDESC:Events for Callahan First Baptist Church
REFRESH-INTERVAL;VALUE=DURATION:PT1H
X-Robots-Tag:noindex
X-PUBLISHED-TTL:PT1H
BEGIN:VTIMEZONE
TZID:UTC
BEGIN:STANDARD
TZOFFSETFROM:+0000
TZOFFSETTO:+0000
TZNAME:UTC
DTSTART:20250101T000000
END:STANDARD
END:VTIMEZONE
BEGIN:VTIMEZONE
TZID:America/New_York
BEGIN:DAYLIGHT
TZOFFSETFROM:-0500
TZOFFSETTO:-0400
TZNAME:EDT
DTSTART:20250309T070000
END:DAYLIGHT
BEGIN:STANDARD
TZOFFSETFROM:-0400
TZOFFSETTO:-0500
TZNAME:EST
DTSTART:20251102T060000
END:STANDARD
BEGIN:DAYLIGHT
TZOFFSETFROM:-0500
TZOFFSETTO:-0400
TZNAME:EDT
DTSTART:20260308T070000
END:DAYLIGHT
BEGIN:STANDARD
TZOFFSETFROM:-0400
TZOFFSETTO:-0500
TZNAME:EST
DTSTART:20261101T060000
END:STANDARD
BEGIN:DAYLIGHT
TZOFFSETFROM:-0500
TZOFFSETTO:-0400
TZNAME:EDT
DTSTART:20270314T070000
END:DAYLIGHT
BEGIN:STANDARD
TZOFFSETFROM:-0400
TZOFFSETTO:-0500
TZNAME:EST
DTSTART:20271107T060000
END:STANDARD
END:VTIMEZONE
BEGIN:VEVENT
DTSTART;TZID=UTC:20260407T090000
DTEND;TZID=UTC:20260407T110000
DTSTAMP:20260423T190132
CREATED:20241118T234657Z
LAST-MODIFIED:20241118T234657Z
UID:10001511-1775552400-1775559600@callahanfbc.com
SUMMARY:Toddler Time
DESCRIPTION:Join us for a fun and relaxing morning of games\, crafts\, and community for mothers and their toddlers! This event is designed to give moms a chance to connect while their little ones enjoy creative activities and playful fun. Whether you’re looking to meet new friends or simply have some fun with your toddler\, we’d love to see you there!
URL:https://callahanfbc.com/event/toddler-time/2026-04-07/
LOCATION:Chapel
CATEGORIES:Community Impact
ATTACH;FMTTYPE=image/jpeg:https://callahanfbc.com/wp-content/uploads/2024/11/CF-Kids-Check-In.jpg
END:VEVENT
BEGIN:VEVENT
DTSTART;TZID=UTC:20260407T100000
DTEND;TZID=UTC:20260407T140000
DTSTAMP:20260423T190132
CREATED:20241228T005529Z
LAST-MODIFIED:20241228T012507Z
UID:10002481-1775556000-1775570400@callahanfbc.com
SUMMARY:Grace's House
DESCRIPTION:Discover great finds and support a meaningful cause at Grace’s House! Our church’s thrift store ministry is dedicated to “Making a Difference\, Not a Profit.” Every purchase at Grace’s House helps fund local outreach programs and provides affordable goods to our community. Whether you’re shopping or donating\, you’re contributing to a ministry that brings hope\, support\, and love to those in need. Come visit us to make a difference together!
URL:https://callahanfbc.com/event/graces-house-2-3/2026-04-07/
LOCATION:Grace’s House\, 449521 US HWY 301\, Callahan\, FL\, 32011\, United States
CATEGORIES:Community Impact
ATTACH;FMTTYPE=image/jpeg:https://callahanfbc.com/wp-content/uploads/2024/11/3T6A0224.jpg
END:VEVENT
BEGIN:VEVENT
DTSTART;TZID=UTC:20260408T184500
DTEND;TZID=UTC:20260408T200000
DTSTAMP:20260423T190132
CREATED:20241228T005006Z
LAST-MODIFIED:20241228T005410Z
UID:10001308-1775673900-1775678400@callahanfbc.com
SUMMARY:Wednesday Activities
DESCRIPTION:Join us on Wednesdays for a full evening of connection\, worship\, and growth for all ages! We start with a delicious\, family-style dinner at 5:15 PM in the gym\, followed by activities and small groups for every age. Whether you’re looking for a Bible study\, youth group\, or a fun\, faith-filled program for kids\, there’s something for everyone. Come be a part of our midweek gathering as we grow in faith and fellowship together! \nCheck out our current Bible studies here.
URL:https://callahanfbc.com/event/ladies-bible-study-2/2026-04-08/
LOCATION:Callahan First Baptist\, 45090 Green Ave\, Callahan\, FL\, 32011\, United States
ATTACH;FMTTYPE=image/jpeg:https://callahanfbc.com/wp-content/uploads/2024/04/Drone-shot-1.jpg
END:VEVENT
BEGIN:VEVENT
DTSTART;TZID=UTC:20260409T100000
DTEND;TZID=UTC:20260409T140000
DTSTAMP:20260423T190132
CREATED:20241113T020919Z
LAST-MODIFIED:20241118T235512Z
UID:10000347-1775728800-1775743200@callahanfbc.com
SUMMARY:Grace's House
DESCRIPTION:Discover great finds and support a meaningful cause at Grace’s House! Our church’s thrift store ministry is dedicated to “Making a Difference\, Not a Profit.” Every purchase at Grace’s House helps fund local outreach programs and provides affordable goods to our community. Whether you’re shopping or donating\, you’re contributing to a ministry that brings hope\, support\, and love to those in need. Come visit us to make a difference together!
URL:https://callahanfbc.com/event/graces-house/2026-04-09/
LOCATION:Grace’s House\, 449521 US HWY 301\, Callahan\, FL\, 32011\, United States
CATEGORIES:Community Impact
ATTACH;FMTTYPE=image/jpeg:https://callahanfbc.com/wp-content/uploads/2024/11/3T6A0224.jpg
END:VEVENT
BEGIN:VEVENT
DTSTART;TZID=UTC:20260412T101500
DTEND;TZID=UTC:20260412T120000
DTSTAMP:20260423T190132
CREATED:20240430T210534Z
LAST-MODIFIED:20241111T234920Z
UID:10000076-1775988900-1775995200@callahanfbc.com
SUMMARY:Sunday Worship
DESCRIPTION:Join us every Sunday morning for Worship at Callahan First Baptist Church. We can’t wait to see you this Sunday!
URL:https://callahanfbc.com/event/sunday-worship/2026-04-12/
LOCATION:Callahan First Baptist\, 45090 Green Ave\, Callahan\, FL\, 32011\, United States
CATEGORIES:Sunday Worship
ATTACH;FMTTYPE=image/jpeg:https://callahanfbc.com/wp-content/uploads/2024/04/3T6A1789.jpg
END:VEVENT
BEGIN:VEVENT
DTSTART;TZID=UTC:20260413T180000
DTEND;TZID=UTC:20260413T200000
DTSTAMP:20260423T190132
CREATED:20241113T205219Z
LAST-MODIFIED:20241113T205219Z
UID:10000870-1776103200-1776110400@callahanfbc.com
SUMMARY:Celebrate Recovery
DESCRIPTION:Looking for a safe space to find healing and freedom? Join us every Monday evening for Celebrate Recovery! This Christ-centered recovery program is designed to help people overcome life’s hurts\, habits\, and hang-ups. We start with a shared meal at 6:00 PM\, followed by an uplifting worship service at 6:30 PM. Come as you are\, and find support\, encouragement\, and the path to true freedom in a welcoming community.
URL:https://callahanfbc.com/event/celebrate-recovery/2026-04-13/
LOCATION:Gym\, 45090\, Callahan\, FL\, 32011\, United States
CATEGORIES:Community Impact
ATTACH;FMTTYPE=image/png:https://callahanfbc.com/wp-content/uploads/2024/11/Celebrate-Recovery-Banner-2021-e1731513092622.png
END:VEVENT
BEGIN:VEVENT
DTSTART;TZID=UTC:20260414T100000
DTEND;TZID=UTC:20260414T140000
DTSTAMP:20260423T190132
CREATED:20241228T005529Z
LAST-MODIFIED:20241228T012507Z
UID:10002482-1776160800-1776175200@callahanfbc.com
SUMMARY:Grace's House
DESCRIPTION:Discover great finds and support a meaningful cause at Grace’s House! Our church’s thrift store ministry is dedicated to “Making a Difference\, Not a Profit.” Every purchase at Grace’s House helps fund local outreach programs and provides affordable goods to our community. Whether you’re shopping or donating\, you’re contributing to a ministry that brings hope\, support\, and love to those in need. Come visit us to make a difference together!
URL:https://callahanfbc.com/event/graces-house-2-3/2026-04-14/
LOCATION:Grace’s House\, 449521 US HWY 301\, Callahan\, FL\, 32011\, United States
CATEGORIES:Community Impact
ATTACH;FMTTYPE=image/jpeg:https://callahanfbc.com/wp-content/uploads/2024/11/3T6A0224.jpg
END:VEVENT
BEGIN:VEVENT
DTSTART;TZID=UTC:20260415T184500
DTEND;TZID=UTC:20260415T200000
DTSTAMP:20260423T190132
CREATED:20241228T005006Z
LAST-MODIFIED:20241228T005410Z
UID:10001309-1776278700-1776283200@callahanfbc.com
SUMMARY:Wednesday Activities
DESCRIPTION:Join us on Wednesdays for a full evening of connection\, worship\, and growth for all ages! We start with a delicious\, family-style dinner at 5:15 PM in the gym\, followed by activities and small groups for every age. Whether you’re looking for a Bible study\, youth group\, or a fun\, faith-filled program for kids\, there’s something for everyone. Come be a part of our midweek gathering as we grow in faith and fellowship together! \nCheck out our current Bible studies here.
URL:https://callahanfbc.com/event/ladies-bible-study-2/2026-04-15/
LOCATION:Callahan First Baptist\, 45090 Green Ave\, Callahan\, FL\, 32011\, United States
ATTACH;FMTTYPE=image/jpeg:https://callahanfbc.com/wp-content/uploads/2024/04/Drone-shot-1.jpg
END:VEVENT
BEGIN:VEVENT
DTSTART;TZID=UTC:20260416T140000
DTEND;TZID=UTC:20260416T180000
DTSTAMP:20260423T190132
CREATED:20241118T235651Z
LAST-MODIFIED:20241119T000101Z
UID:10002355-1776348000-1776362400@callahanfbc.com
SUMMARY:Grace's House PM
DESCRIPTION:Discover great finds and support a meaningful cause at Grace’s House! Our church’s thrift store ministry is dedicated to “Making a Difference\, Not a Profit.” Every purchase at Grace’s House helps fund local outreach programs and provides affordable goods to our community. Whether you’re shopping or donating\, you’re contributing to a ministry that brings hope\, support\, and love to those in need. Come visit us to make a difference together!
URL:https://callahanfbc.com/event/graces-house-pm/2026-04-16/
LOCATION:Grace’s House\, 449521 US HWY 301\, Callahan\, FL\, 32011\, United States
CATEGORIES:Community Impact
ATTACH;FMTTYPE=image/jpeg:https://callahanfbc.com/wp-content/uploads/2024/11/3T6A0224.jpg
END:VEVENT
BEGIN:VEVENT
DTSTART;TZID=America/New_York:20260416T163000
DTEND;TZID=America/New_York:20260416T183000
DTSTAMP:20260423T190132
CREATED:20260203T131705Z
LAST-MODIFIED:20260203T131705Z
UID:10003809-1776357000-1776364200@callahanfbc.com
SUMMARY:Storehouse Afternoon Giveaway
DESCRIPTION:Come join us for our free food giveaway this afternoon from 4:30-6:30 PM. Everyone is welcome to receive free groceries hand packed by our volunteers. Limit two families per vehicle.
URL:https://callahanfbc.com/event/storehouse-afternoon-giveaway/2026-04-16/
LOCATION:Callahan First Baptist\, 45090 Green Ave\, Callahan\, FL\, 32011\, United States
ATTACH;FMTTYPE=image/jpeg:https://callahanfbc.com/wp-content/uploads/2024/11/Storehouse-Truck.jpg
END:VEVENT
BEGIN:VEVENT
DTSTART;TZID=America/New_York:20260418T110000
DTEND;TZID=America/New_York:20260418T130000
DTSTAMP:20260423T190132
CREATED:20260323T132109Z
LAST-MODIFIED:20260323T132109Z
UID:10003938-1776510000-1776517200@callahanfbc.com
SUMMARY:Ladies' Spring Picnic
DESCRIPTION:“Come to the Table” \nPsalm 23:5 \nWe are excited to announce our upcoming Ladies’ Fellowship picnic. Ticket sales and sign-ups are in the foyer on Sunday Mornings.
URL:https://callahanfbc.com/event/ladies-spring-picnic/
LOCATION:Callahan First Baptist\, 45090 Green Ave\, Callahan\, FL\, 32011\, United States
ATTACH;FMTTYPE=image/jpeg:https://callahanfbc.com/wp-content/uploads/2026/03/Ladies-Spring-Picnic-image.jpg
END:VEVENT
BEGIN:VEVENT
DTSTART;TZID=UTC:20260419T101500
DTEND;TZID=UTC:20260419T120000
DTSTAMP:20260423T190132
CREATED:20240430T210534Z
LAST-MODIFIED:20241111T234920Z
UID:10000077-1776593700-1776600000@callahanfbc.com
SUMMARY:Sunday Worship
DESCRIPTION:Join us every Sunday morning for Worship at Callahan First Baptist Church. We can’t wait to see you this Sunday!
URL:https://callahanfbc.com/event/sunday-worship/2026-04-19/
LOCATION:Callahan First Baptist\, 45090 Green Ave\, Callahan\, FL\, 32011\, United States
CATEGORIES:Sunday Worship
ATTACH;FMTTYPE=image/jpeg:https://callahanfbc.com/wp-content/uploads/2024/04/3T6A1789.jpg
END:VEVENT
BEGIN:VEVENT
DTSTART;TZID=UTC:20260420T180000
DTEND;TZID=UTC:20260420T200000
DTSTAMP:20260423T190132
CREATED:20241113T205219Z
LAST-MODIFIED:20241113T205219Z
UID:10000871-1776708000-1776715200@callahanfbc.com
SUMMARY:Celebrate Recovery
DESCRIPTION:Looking for a safe space to find healing and freedom? Join us every Monday evening for Celebrate Recovery! This Christ-centered recovery program is designed to help people overcome life’s hurts\, habits\, and hang-ups. We start with a shared meal at 6:00 PM\, followed by an uplifting worship service at 6:30 PM. Come as you are\, and find support\, encouragement\, and the path to true freedom in a welcoming community.
URL:https://callahanfbc.com/event/celebrate-recovery/2026-04-20/
LOCATION:Gym\, 45090\, Callahan\, FL\, 32011\, United States
CATEGORIES:Community Impact
ATTACH;FMTTYPE=image/png:https://callahanfbc.com/wp-content/uploads/2024/11/Celebrate-Recovery-Banner-2021-e1731513092622.png
END:VEVENT
BEGIN:VEVENT
DTSTART;TZID=UTC:20260421T100000
DTEND;TZID=UTC:20260421T140000
DTSTAMP:20260423T190132
CREATED:20241228T005529Z
LAST-MODIFIED:20241228T012507Z
UID:10002483-1776765600-1776780000@callahanfbc.com
SUMMARY:Grace's House
DESCRIPTION:Discover great finds and support a meaningful cause at Grace’s House! Our church’s thrift store ministry is dedicated to “Making a Difference\, Not a Profit.” Every purchase at Grace’s House helps fund local outreach programs and provides affordable goods to our community. Whether you’re shopping or donating\, you’re contributing to a ministry that brings hope\, support\, and love to those in need. Come visit us to make a difference together!
URL:https://callahanfbc.com/event/graces-house-2-3/2026-04-21/
LOCATION:Grace’s House\, 449521 US HWY 301\, Callahan\, FL\, 32011\, United States
CATEGORIES:Community Impact
ATTACH;FMTTYPE=image/jpeg:https://callahanfbc.com/wp-content/uploads/2024/11/3T6A0224.jpg
END:VEVENT
BEGIN:VEVENT
DTSTART;TZID=UTC:20260422T184500
DTEND;TZID=UTC:20260422T200000
DTSTAMP:20260423T190132
CREATED:20241228T005006Z
LAST-MODIFIED:20241228T005410Z
UID:10001310-1776883500-1776888000@callahanfbc.com
SUMMARY:Wednesday Activities
DESCRIPTION:Join us on Wednesdays for a full evening of connection\, worship\, and growth for all ages! We start with a delicious\, family-style dinner at 5:15 PM in the gym\, followed by activities and small groups for every age. Whether you’re looking for a Bible study\, youth group\, or a fun\, faith-filled program for kids\, there’s something for everyone. Come be a part of our midweek gathering as we grow in faith and fellowship together! \nCheck out our current Bible studies here.
URL:https://callahanfbc.com/event/ladies-bible-study-2/2026-04-22/
LOCATION:Callahan First Baptist\, 45090 Green Ave\, Callahan\, FL\, 32011\, United States
ATTACH;FMTTYPE=image/jpeg:https://callahanfbc.com/wp-content/uploads/2024/04/Drone-shot-1.jpg
END:VEVENT
BEGIN:VEVENT
DTSTART;TZID=America/New_York:20260423T100000
DTEND;TZID=America/New_York:20260423T120000
DTSTAMP:20260423T190132
CREATED:20260203T151527Z
LAST-MODIFIED:20260203T151527Z
UID:10003873-1776938400-1776945600@callahanfbc.com
SUMMARY:FAM Closet Open
DESCRIPTION:Foster and Adoption Ministry \nWelcome all families who are currently fostering or in the process of adopting. We’d love the opportunity to bless you and your family with your own food giveaway\, and open up our FAM Closet for you to come ‘shop’ around for the needs of your house. Peruse the clothes\, items\, and other equipment you might need to help you and the children in your home.
URL:https://callahanfbc.com/event/fam-closet-open/2026-04-23/
LOCATION:Callahan First Baptist\, 45090 Green Ave\, Callahan\, FL\, 32011\, United States
CATEGORIES:Community Impact,Missions
ATTACH;FMTTYPE=image/jpeg:https://callahanfbc.com/wp-content/uploads/2024/11/3T6A0226.jpg
END:VEVENT
BEGIN:VEVENT
DTSTART;TZID=UTC:20260423T100000
DTEND;TZID=UTC:20260423T140000
DTSTAMP:20260423T190132
CREATED:20241113T020919Z
LAST-MODIFIED:20241118T235512Z
UID:10000349-1776938400-1776952800@callahanfbc.com
SUMMARY:Grace's House
DESCRIPTION:Discover great finds and support a meaningful cause at Grace’s House! Our church’s thrift store ministry is dedicated to “Making a Difference\, Not a Profit.” Every purchase at Grace’s House helps fund local outreach programs and provides affordable goods to our community. Whether you’re shopping or donating\, you’re contributing to a ministry that brings hope\, support\, and love to those in need. Come visit us to make a difference together!
URL:https://callahanfbc.com/event/graces-house/2026-04-23/
LOCATION:Grace’s House\, 449521 US HWY 301\, Callahan\, FL\, 32011\, United States
CATEGORIES:Community Impact
ATTACH;FMTTYPE=image/jpeg:https://callahanfbc.com/wp-content/uploads/2024/11/3T6A0224.jpg
END:VEVENT
BEGIN:VEVENT
DTSTART;TZID=UTC:20260426T101500
DTEND;TZID=UTC:20260426T120000
DTSTAMP:20260423T190132
CREATED:20240430T210534Z
LAST-MODIFIED:20241111T234920Z
UID:10000078-1777198500-1777204800@callahanfbc.com
SUMMARY:Sunday Worship
DESCRIPTION:Join us every Sunday morning for Worship at Callahan First Baptist Church. We can’t wait to see you this Sunday!
URL:https://callahanfbc.com/event/sunday-worship/2026-04-26/
LOCATION:Callahan First Baptist\, 45090 Green Ave\, Callahan\, FL\, 32011\, United States
CATEGORIES:Sunday Worship
ATTACH;FMTTYPE=image/jpeg:https://callahanfbc.com/wp-content/uploads/2024/04/3T6A1789.jpg
END:VEVENT
BEGIN:VEVENT
DTSTART;TZID=America/New_York:20260426T180000
DTEND;TZID=America/New_York:20260426T190000
DTSTAMP:20260423T190132
CREATED:20260203T162003Z
LAST-MODIFIED:20260323T132255Z
UID:10003933-1777226400-1777230000@callahanfbc.com
SUMMARY:Holy Moses: Kids Choir Play
DESCRIPTION:Kids will perform the play\, Trading Places: A musical about the story of Moses through choir\, drama\, and dance. The performance is April 26th at 6 PM.
URL:https://callahanfbc.com/event/kids-choir-play/
LOCATION:Callahan First Baptist\, 45090 Green Ave\, Callahan\, FL\, 32011\, United States
ATTACH;FMTTYPE=image/jpeg:https://callahanfbc.com/wp-content/uploads/2024/11/CF-Kids-Check-In.jpg
END:VEVENT
BEGIN:VEVENT
DTSTART;TZID=UTC:20260427T180000
DTEND;TZID=UTC:20260427T200000
DTSTAMP:20260423T190132
CREATED:20241113T205219Z
LAST-MODIFIED:20241113T205219Z
UID:10000872-1777312800-1777320000@callahanfbc.com
SUMMARY:Celebrate Recovery
DESCRIPTION:Looking for a safe space to find healing and freedom? Join us every Monday evening for Celebrate Recovery! This Christ-centered recovery program is designed to help people overcome life’s hurts\, habits\, and hang-ups. We start with a shared meal at 6:00 PM\, followed by an uplifting worship service at 6:30 PM. Come as you are\, and find support\, encouragement\, and the path to true freedom in a welcoming community.
URL:https://callahanfbc.com/event/celebrate-recovery/2026-04-27/
LOCATION:Gym\, 45090\, Callahan\, FL\, 32011\, United States
CATEGORIES:Community Impact
ATTACH;FMTTYPE=image/png:https://callahanfbc.com/wp-content/uploads/2024/11/Celebrate-Recovery-Banner-2021-e1731513092622.png
END:VEVENT
BEGIN:VEVENT
DTSTART;TZID=UTC:20260428T100000
DTEND;TZID=UTC:20260428T140000
DTSTAMP:20260423T190132
CREATED:20241228T005529Z
LAST-MODIFIED:20241228T012507Z
UID:10002484-1777370400-1777384800@callahanfbc.com
SUMMARY:Grace's House
DESCRIPTION:Discover great finds and support a meaningful cause at Grace’s House! Our church’s thrift store ministry is dedicated to “Making a Difference\, Not a Profit.” Every purchase at Grace’s House helps fund local outreach programs and provides affordable goods to our community. Whether you’re shopping or donating\, you’re contributing to a ministry that brings hope\, support\, and love to those in need. Come visit us to make a difference together!
URL:https://callahanfbc.com/event/graces-house-2-3/2026-04-28/
LOCATION:Grace’s House\, 449521 US HWY 301\, Callahan\, FL\, 32011\, United States
CATEGORIES:Community Impact
ATTACH;FMTTYPE=image/jpeg:https://callahanfbc.com/wp-content/uploads/2024/11/3T6A0224.jpg
END:VEVENT
BEGIN:VEVENT
DTSTART;TZID=UTC:20260429T100000
DTEND;TZID=UTC:20260429T120000
DTSTAMP:20260423T190132
CREATED:20251204T194153Z
LAST-MODIFIED:20251204T194153Z
UID:10003726-1777456800-1777464000@callahanfbc.com
SUMMARY:Storehouse Food Distribution
DESCRIPTION:Our Storehouse ministry provides free food distributions on the first and third Thursday of each month to support individuals and families in need within our community. Whether you or someone you know could use a little extra help\, you are welcome here. No appointment is necessary—just stop by and let us serve you. Together\, we’re working to build a stronger\, healthier community through care and compassion.
URL:https://callahanfbc.com/event/storehouse-food-distribution-2-2/2026-04-29/
LOCATION:The Storehouse\, 45103 Green Avenue\, Callahan\, FL\, 32011\, United States
CATEGORIES:Community Impact
ATTACH;FMTTYPE=image/jpeg:https://callahanfbc.com/wp-content/uploads/2024/11/Storehouse-Exterior.jpg
END:VEVENT
BEGIN:VEVENT
DTSTART;TZID=UTC:20260429T184500
DTEND;TZID=UTC:20260429T200000
DTSTAMP:20260423T190132
CREATED:20241228T005006Z
LAST-MODIFIED:20241228T005410Z
UID:10001311-1777488300-1777492800@callahanfbc.com
SUMMARY:Wednesday Activities
DESCRIPTION:Join us on Wednesdays for a full evening of connection\, worship\, and growth for all ages! We start with a delicious\, family-style dinner at 5:15 PM in the gym\, followed by activities and small groups for every age. Whether you’re looking for a Bible study\, youth group\, or a fun\, faith-filled program for kids\, there’s something for everyone. Come be a part of our midweek gathering as we grow in faith and fellowship together! \nCheck out our current Bible studies here.
URL:https://callahanfbc.com/event/ladies-bible-study-2/2026-04-29/
LOCATION:Callahan First Baptist\, 45090 Green Ave\, Callahan\, FL\, 32011\, United States
ATTACH;FMTTYPE=image/jpeg:https://callahanfbc.com/wp-content/uploads/2024/04/Drone-shot-1.jpg
END:VEVENT
BEGIN:VEVENT
DTSTART;TZID=UTC:20260430T100000
DTEND;TZID=UTC:20260430T140000
DTSTAMP:20260423T190132
CREATED:20241113T020919Z
LAST-MODIFIED:20241118T235512Z
UID:10000350-1777543200-1777557600@callahanfbc.com
SUMMARY:Grace's House
DESCRIPTION:Discover great finds and support a meaningful cause at Grace’s House! Our church’s thrift store ministry is dedicated to “Making a Difference\, Not a Profit.” Every purchase at Grace’s House helps fund local outreach programs and provides affordable goods to our community. Whether you’re shopping or donating\, you’re contributing to a ministry that brings hope\, support\, and love to those in need. Come visit us to make a difference together!
URL:https://callahanfbc.com/event/graces-house/2026-04-30/
LOCATION:Grace’s House\, 449521 US HWY 301\, Callahan\, FL\, 32011\, United States
CATEGORIES:Community Impact
ATTACH;FMTTYPE=image/jpeg:https://callahanfbc.com/wp-content/uploads/2024/11/3T6A0224.jpg
END:VEVENT
BEGIN:VEVENT
DTSTART;TZID=America/New_York:20260430T180000
DTEND;TZID=America/New_York:20260430T210000
DTSTAMP:20260423T190132
CREATED:20260323T132516Z
LAST-MODIFIED:20260323T133221Z
UID:10003939-1777572000-1777582800@callahanfbc.com
SUMMARY:Pickleball
DESCRIPTION:Join us in the Gym for Pickleball from 6-9 PM.
URL:https://callahanfbc.com/event/pickleball/
LOCATION:Callahan First Baptist\, 45090 Green Ave\, Callahan\, FL\, 32011\, United States
ATTACH;FMTTYPE=image/jpeg:https://callahanfbc.com/wp-content/uploads/2025/04/CF-Pickleball-Logo-3@300x-scaled.jpeg
END:VEVENT
BEGIN:VEVENT
DTSTART;TZID=America/New_York:20260501T180000
DTEND;TZID=America/New_York:20260501T200000
DTSTAMP:20260423T190132
CREATED:20260422T124234Z
LAST-MODIFIED:20260422T124234Z
UID:10003942-1777658400-1777665600@callahanfbc.com
SUMMARY:Parent's Night Out- Callahan Elementary School
DESCRIPTION:CES students and their K-5th-grade siblings are invited to attend this FREE event hosted by Callahan First. \nWe will have Dinner\, Games\, Lessons\, and lots of FUN! \nThis event will be held at Callahan Elementary School from 6-8:30 PM
URL:https://callahanfbc.com/event/parents-night-out-callahan-elementary-school/
LOCATION:Offsite
ATTACH;FMTTYPE=image/jpeg:https://callahanfbc.com/wp-content/uploads/2026/04/PNO-May-2026-flyer.jpg
END:VEVENT
BEGIN:VEVENT
DTSTART;TZID=UTC:20260503T101500
DTEND;TZID=UTC:20260503T120000
DTSTAMP:20260423T190132
CREATED:20240430T210534Z
LAST-MODIFIED:20241111T234920Z
UID:10000079-1777803300-1777809600@callahanfbc.com
SUMMARY:Sunday Worship
DESCRIPTION:Join us every Sunday morning for Worship at Callahan First Baptist Church. We can’t wait to see you this Sunday!
URL:https://callahanfbc.com/event/sunday-worship/2026-05-03/
LOCATION:Callahan First Baptist\, 45090 Green Ave\, Callahan\, FL\, 32011\, United States
CATEGORIES:Sunday Worship
ATTACH;FMTTYPE=image/jpeg:https://callahanfbc.com/wp-content/uploads/2024/04/3T6A1789.jpg
END:VEVENT
BEGIN:VEVENT
DTSTART;TZID=America/New_York:20260503T160000
DTEND;TZID=America/New_York:20260503T190000
DTSTAMP:20260423T190132
CREATED:20260203T132853Z
LAST-MODIFIED:20260203T132853Z
UID:10003868-1777824000-1777834800@callahanfbc.com
SUMMARY:First Moves 101
DESCRIPTION:Join us for First Moves 101\, our class for new or potential members of the church. Learn about our mission\, beliefs\, and how to get connected. Whether you’re ready to commit or just exploring\, this class is the perfect first step in becoming part of our church family.
URL:https://callahanfbc.com/event/first-moves-101-6/
LOCATION:Callahan First Baptist\, 45090 Green Ave\, Callahan\, FL\, 32011\, United States
CATEGORIES:First Moves
ATTACH;FMTTYPE=image/jpeg:https://callahanfbc.com/wp-content/uploads/2024/11/Gym-Outside.jpg
END:VEVENT
BEGIN:VEVENT
DTSTART;TZID=UTC:20260504T180000
DTEND;TZID=UTC:20260504T200000
DTSTAMP:20260423T190132
CREATED:20241113T205219Z
LAST-MODIFIED:20241113T205219Z
UID:10000873-1777917600-1777924800@callahanfbc.com
SUMMARY:Celebrate Recovery
DESCRIPTION:Looking for a safe space to find healing and freedom? Join us every Monday evening for Celebrate Recovery! This Christ-centered recovery program is designed to help people overcome life’s hurts\, habits\, and hang-ups. We start with a shared meal at 6:00 PM\, followed by an uplifting worship service at 6:30 PM. Come as you are\, and find support\, encouragement\, and the path to true freedom in a welcoming community.
URL:https://callahanfbc.com/event/celebrate-recovery/2026-05-04/
LOCATION:Gym\, 45090\, Callahan\, FL\, 32011\, United States
CATEGORIES:Community Impact
ATTACH;FMTTYPE=image/png:https://callahanfbc.com/wp-content/uploads/2024/11/Celebrate-Recovery-Banner-2021-e1731513092622.png
END:VEVENT
BEGIN:VEVENT
DTSTART;TZID=UTC:20260505T090000
DTEND;TZID=UTC:20260505T110000
DTSTAMP:20260423T190132
CREATED:20241118T234657Z
LAST-MODIFIED:20241118T234657Z
UID:10001512-1777971600-1777978800@callahanfbc.com
SUMMARY:Toddler Time
DESCRIPTION:Join us for a fun and relaxing morning of games\, crafts\, and community for mothers and their toddlers! This event is designed to give moms a chance to connect while their little ones enjoy creative activities and playful fun. Whether you’re looking to meet new friends or simply have some fun with your toddler\, we’d love to see you there!
URL:https://callahanfbc.com/event/toddler-time/2026-05-05/
LOCATION:Chapel
CATEGORIES:Community Impact
ATTACH;FMTTYPE=image/jpeg:https://callahanfbc.com/wp-content/uploads/2024/11/CF-Kids-Check-In.jpg
END:VEVENT
END:VCALENDAR