BEGIN:VCALENDAR
VERSION:2.0
PRODID:-//Callahan First Baptist Church - ECPv6.15.20//NONSGML v1.0//EN
CALSCALE:GREGORIAN
METHOD:PUBLISH
X-ORIGINAL-URL:https://callahanfbc.com
X-WR-CALDESC:Events for Callahan First Baptist Church
REFRESH-INTERVAL;VALUE=DURATION:PT1H
X-Robots-Tag:noindex
X-PUBLISHED-TTL:PT1H
BEGIN:VTIMEZONE
TZID:America/New_York
BEGIN:DAYLIGHT
TZOFFSETFROM:-0500
TZOFFSETTO:-0400
TZNAME:EDT
DTSTART:20250309T070000
END:DAYLIGHT
BEGIN:STANDARD
TZOFFSETFROM:-0400
TZOFFSETTO:-0500
TZNAME:EST
DTSTART:20251102T060000
END:STANDARD
BEGIN:DAYLIGHT
TZOFFSETFROM:-0500
TZOFFSETTO:-0400
TZNAME:EDT
DTSTART:20260308T070000
END:DAYLIGHT
BEGIN:STANDARD
TZOFFSETFROM:-0400
TZOFFSETTO:-0500
TZNAME:EST
DTSTART:20261101T060000
END:STANDARD
BEGIN:DAYLIGHT
TZOFFSETFROM:-0500
TZOFFSETTO:-0400
TZNAME:EDT
DTSTART:20270314T070000
END:DAYLIGHT
BEGIN:STANDARD
TZOFFSETFROM:-0400
TZOFFSETTO:-0500
TZNAME:EST
DTSTART:20271107T060000
END:STANDARD
END:VTIMEZONE
BEGIN:VTIMEZONE
TZID:UTC
BEGIN:STANDARD
TZOFFSETFROM:+0000
TZOFFSETTO:+0000
TZNAME:UTC
DTSTART:20230101T000000
END:STANDARD
END:VTIMEZONE
BEGIN:VEVENT
DTSTART;TZID=America/New_York:20260208T170000
DTEND;TZID=America/New_York:20260208T210000
DTSTAMP:20260424T180424
CREATED:20251204T193620Z
LAST-MODIFIED:20260203T131934Z
UID:10003725-1770570000-1770584400@callahanfbc.com
SUMMARY:Superbowl Outreach
DESCRIPTION:Calling all Students! \nCome join us for a Super Bowl party geared towards students to enjoy the game and uplift the gospel. Come watch the Superbowl with us in the gym\, as we also play fun games\, eat great food\, and have a chance to win fun prizes!
URL:https://callahanfbc.com/event/superbowl-outreach/
LOCATION:Gym\, 45090\, Callahan\, FL\, 32011\, United States
CATEGORIES:Students
ATTACH;FMTTYPE=image/jpeg:https://callahanfbc.com/wp-content/uploads/2024/05/CF-Students-Worship.jpg
END:VEVENT
BEGIN:VEVENT
DTSTART;TZID=America/New_York:20260117T080000
DTEND;TZID=America/New_York:20260117T170000
DTSTAMP:20260424T180424
CREATED:20251204T192714Z
LAST-MODIFIED:20251204T194103Z
UID:10003724-1768636800-1768669200@callahanfbc.com
SUMMARY:Project Impact- Youth Missions
DESCRIPTION:A full day of various service projects led by student small groups all over Callahan.
URL:https://callahanfbc.com/event/project-impact-youth-missions/
CATEGORIES:Missions,Students
ATTACH;FMTTYPE=image/jpeg:https://callahanfbc.com/wp-content/uploads/2024/09/3T6A1668.jpg
END:VEVENT
BEGIN:VEVENT
DTSTART;TZID=America/New_York:20260114T180000
DTEND;TZID=America/New_York:20260114T200000
DTSTAMP:20260424T180424
CREATED:20251204T170644Z
LAST-MODIFIED:20251204T183557Z
UID:10003723-1768413600-1768420800@callahanfbc.com
SUMMARY:Youth Theme Night: Blast from the past (70s-80s)
DESCRIPTION:Gym Floor\nA themed Wednesday service. Afros and disco balls are welcome
URL:https://callahanfbc.com/event/youth-theme-night-blast-from-the-past-70s-80s/
LOCATION:Callahan First Baptist\, 45090 Green Ave\, Callahan\, FL\, 32011\, United States
CATEGORIES:Students
END:VEVENT
BEGIN:VEVENT
DTSTART;TZID=UTC:20250629T180000
DTEND;TZID=UTC:20250629T200000
DTSTAMP:20260424T180424
CREATED:20250130T014938Z
LAST-MODIFIED:20250130T015228Z
UID:10002971-1751220000-1751227200@callahanfbc.com
SUMMARY:"Level Up" 5th Grader Event and Parent Meeting
DESCRIPTION:Level Up! Help us welcome our upcoming 5th-grade students into the Youth Group. This event is for students coming out of 5th grade and going into 6th grade. Parents come and see what events are on the horizon for your student\, and help us make the transition from kid’s church to youth group even easier. Get to know Youth Pastor Dillon Corbett and some of the adult leaders who will be working with your children.
URL:https://callahanfbc.com/event/level-up-5th-grader-event-and-parent-meeting/
LOCATION:Gym\, 45090\, Callahan\, FL\, 32011\, United States
ATTACH;FMTTYPE=image/jpeg:https://callahanfbc.com/wp-content/uploads/2024/09/3T6A1607-e1725977601832.jpg
END:VEVENT
BEGIN:VEVENT
DTSTART;VALUE=DATE:20250609
DTEND;VALUE=DATE:20250614
DTSTAMP:20260424T180424
CREATED:20250108T181550Z
LAST-MODIFIED:20250108T181550Z
UID:10002944-1749427200-1749859199@callahanfbc.com
SUMMARY:Global Youth Camp
DESCRIPTION:Global youth camp – The student ministry is going to Global Youth Ministry again in 2025! Situated in Chatsworth\, GA\, the students will drive 7 hours into the mountains for an amazing week of worship and devotion. More details to follow\, dates are currently June 9-13th!
URL:https://callahanfbc.com/event/global-youth-camp/
LOCATION:Callahan First Baptist\, 45090 Green Ave\, Callahan\, FL\, 32011\, United States
ATTACH;FMTTYPE=image/jpeg:https://callahanfbc.com/wp-content/uploads/2025/01/Camp-thumbnail.jpg
END:VEVENT
BEGIN:VEVENT
DTSTART;TZID=UTC:20250328T170000
DTEND;TZID=UTC:20250328T200000
DTSTAMP:20260424T180424
CREATED:20250108T181426Z
LAST-MODIFIED:20250108T181426Z
UID:10002943-1743181200-1743192000@callahanfbc.com
SUMMARY:Encounter 2025
DESCRIPTION:Encounter 2025 – The youth ministry is hosting a multi-church night of worship where any student from any youth group can encounter Jesus Christ. Join us for a night of devotion\, renewal and worship on March 28th from 5-8PM!
URL:https://callahanfbc.com/event/encounter-2025/
LOCATION:Gym\, 45090\, Callahan\, FL\, 32011\, United States
ATTACH;FMTTYPE=image/jpeg:https://callahanfbc.com/wp-content/uploads/2025/01/thumbnail_IMG_8385.jpg
END:VEVENT
BEGIN:VEVENT
DTSTART;VALUE=DATE:20250307
DTEND;VALUE=DATE:20250309
DTSTAMP:20260424T180424
CREATED:20250108T181306Z
LAST-MODIFIED:20250108T181306Z
UID:10002942-1741305600-1741478399@callahanfbc.com
SUMMARY:Senior retreat to Washington D.C.
DESCRIPTION:Senior retreat to Washington D.C. – We are taking our senior students out for an awesome trip to the Bible Museum as they prepare to graduate! Please contact Pastor Dillon if you have a senior in our youth ministry that desires to come with us!
URL:https://callahanfbc.com/event/senior-retreat-to-washington-d-c/
LOCATION:Callahan First Baptist\, 45090 Green Ave\, Callahan\, FL\, 32011\, United States
ATTACH;FMTTYPE=image/jpeg:https://callahanfbc.com/wp-content/uploads/2024/09/3T6A1564.jpg
END:VEVENT
BEGIN:VEVENT
DTSTART;TZID=UTC:20250213T180000
DTEND;TZID=UTC:20250213T200000
DTSTAMP:20260424T180424
CREATED:20250108T180838Z
LAST-MODIFIED:20250108T180838Z
UID:10002941-1739469600-1739476800@callahanfbc.com
SUMMARY:Senior Adult Valentine's Day Banquet
DESCRIPTION:Valentine banquet – Prepare for a romantic evening as the youth prepare dinner for our amazing seniors! Come ready to be served\, win prizes and hear amazing testimonies! FEB 13TH from 6-8PM.
URL:https://callahanfbc.com/event/senior-adult-valentines-day-banquet/
LOCATION:Gym\, 45090\, Callahan\, FL\, 32011\, United States
CATEGORIES:Community Impact,Students
ATTACH;FMTTYPE=image/jpeg:https://callahanfbc.com/wp-content/uploads/2025/01/Valentines-Day-photo-2024.jpg
END:VEVENT
BEGIN:VEVENT
DTSTART;TZID=UTC:20250209T180000
DTEND;TZID=UTC:20250209T210000
DTSTAMP:20260424T180424
CREATED:20250128T204633Z
LAST-MODIFIED:20250128T204633Z
UID:10002950-1739124000-1739134800@callahanfbc.com
SUMMARY:Youth Superbowl Party
DESCRIPTION:This is your official notice of the BEST SUNDAY AFTERNOON EVER! Check your calendar\, tell your friends\, and plan to be in the gym for an amazing time together. You’ll even get FREE ITALIAN ICE WHEN YOU BRING A NEW GUESWT! We’re so excited for everything that’s going to happen\, so don’t stay at home for this one! Spread the word and get ready for the best Super Bowl Party Ever!
URL:https://callahanfbc.com/event/youth-superbowl-party/
LOCATION:Gym\, 45090\, Callahan\, FL\, 32011\, United States
ATTACH;FMTTYPE=image/jpeg:https://callahanfbc.com/wp-content/uploads/2025/01/Youth-Superbowl-Party-Image.jpg
END:VEVENT
BEGIN:VEVENT
DTSTART;TZID=UTC:20250112T170000
DTEND;TZID=UTC:20250112T190000
DTSTAMP:20260424T180424
CREATED:20250108T001626Z
LAST-MODIFIED:20250108T181025Z
UID:10002940-1736701200-1736708400@callahanfbc.com
SUMMARY:Parent Vision Meeting
DESCRIPTION:Parent meeting – A parental kick-off to the year with all the youth ministry information you could need! Come meet leaders and other parents as we go over the 2025 vision of the student ministry. In the gym\, JAN 12th from 5-7PM.
URL:https://callahanfbc.com/event/parent-vision-meeting/
LOCATION:Gym\, 45090\, Callahan\, FL\, 32011\, United States
CATEGORIES:Students
ATTACH;FMTTYPE=image/jpeg:https://callahanfbc.com/wp-content/uploads/2025/01/Parent-meeting.jpg
END:VEVENT
BEGIN:VEVENT
DTSTART;TZID=UTC:20241115T160000
DTEND;TZID=UTC:20241116T070000
DTSTAMP:20260424T180424
CREATED:20241112T213032Z
LAST-MODIFIED:20241114T032041Z
UID:10000265-1731686400-1731740400@callahanfbc.com
SUMMARY:REVERB
DESCRIPTION:Get ready for an incredible night of fun\, friends\, and faith! REVERB is an action-packed event designed for students to dive into exciting games\, impactful worship\, and meaningful conversations. Expect high-energy activities\, great music\, and an opportunity to connect with other students while growing in your faith. Don’t miss out on this unforgettable night!
URL:https://callahanfbc.com/event/reverb/
LOCATION:Offsite
CATEGORIES:Students
ATTACH;FMTTYPE=image/jpeg:https://callahanfbc.com/wp-content/uploads/2024/11/reverb_slide.jpg
END:VEVENT
END:VCALENDAR