BEGIN:VCALENDAR
VERSION:2.0
PRODID:-//Callahan First Baptist Church - ECPv6.15.20//NONSGML v1.0//EN
CALSCALE:GREGORIAN
METHOD:PUBLISH
X-WR-CALNAME:Callahan First Baptist Church
X-ORIGINAL-URL:https://callahanfbc.com
X-WR-CALDESC:Events for Callahan First Baptist Church
REFRESH-INTERVAL;VALUE=DURATION:PT1H
X-Robots-Tag:noindex
X-PUBLISHED-TTL:PT1H
BEGIN:VTIMEZONE
TZID:America/New_York
BEGIN:DAYLIGHT
TZOFFSETFROM:-0500
TZOFFSETTO:-0400
TZNAME:EDT
DTSTART:20250309T070000
END:DAYLIGHT
BEGIN:STANDARD
TZOFFSETFROM:-0400
TZOFFSETTO:-0500
TZNAME:EST
DTSTART:20251102T060000
END:STANDARD
BEGIN:DAYLIGHT
TZOFFSETFROM:-0500
TZOFFSETTO:-0400
TZNAME:EDT
DTSTART:20260308T070000
END:DAYLIGHT
BEGIN:STANDARD
TZOFFSETFROM:-0400
TZOFFSETTO:-0500
TZNAME:EST
DTSTART:20261101T060000
END:STANDARD
BEGIN:DAYLIGHT
TZOFFSETFROM:-0500
TZOFFSETTO:-0400
TZNAME:EDT
DTSTART:20270314T070000
END:DAYLIGHT
BEGIN:STANDARD
TZOFFSETFROM:-0400
TZOFFSETTO:-0500
TZNAME:EST
DTSTART:20271107T060000
END:STANDARD
END:VTIMEZONE
BEGIN:VEVENT
DTSTART;TZID=America/New_York:20260510T090000
DTEND;TZID=America/New_York:20260510T095500
DTSTAMP:20260423T151726
CREATED:20260323T132807Z
LAST-MODIFIED:20260323T133127Z
UID:10003940-1778403600-1778406900@callahanfbc.com
SUMMARY:Mother's Day Assembly
DESCRIPTION:Ladies’ meet in the Sanctuary of the Worship Center. We will gather together at 9 AM to celebrate Mother’s Day with fellowship with our Ladies’ Ministry.
URL:https://callahanfbc.com/event/mothers-day-assembly/
LOCATION:Callahan First Baptist\, 45090 Green Ave\, Callahan\, FL\, 32011\, United States
ATTACH;FMTTYPE=image/jpeg:https://callahanfbc.com/wp-content/uploads/2026/03/Mothers-Day-Image-2026.jpg
END:VEVENT
END:VCALENDAR