BEGIN:VCALENDAR
VERSION:2.0
PRODID:-//Callahan First Baptist Church - ECPv6.15.20//NONSGML v1.0//EN
CALSCALE:GREGORIAN
METHOD:PUBLISH
X-WR-CALNAME:Callahan First Baptist Church
X-ORIGINAL-URL:https://callahanfbc.com
X-WR-CALDESC:Events for Callahan First Baptist Church
REFRESH-INTERVAL;VALUE=DURATION:PT1H
X-Robots-Tag:noindex
X-PUBLISHED-TTL:PT1H
BEGIN:VTIMEZONE
TZID:America/New_York
BEGIN:DAYLIGHT
TZOFFSETFROM:-0500
TZOFFSETTO:-0400
TZNAME:EDT
DTSTART:20250309T070000
END:DAYLIGHT
BEGIN:STANDARD
TZOFFSETFROM:-0400
TZOFFSETTO:-0500
TZNAME:EST
DTSTART:20251102T060000
END:STANDARD
BEGIN:DAYLIGHT
TZOFFSETFROM:-0500
TZOFFSETTO:-0400
TZNAME:EDT
DTSTART:20260308T070000
END:DAYLIGHT
BEGIN:STANDARD
TZOFFSETFROM:-0400
TZOFFSETTO:-0500
TZNAME:EST
DTSTART:20261101T060000
END:STANDARD
BEGIN:DAYLIGHT
TZOFFSETFROM:-0500
TZOFFSETTO:-0400
TZNAME:EDT
DTSTART:20270314T070000
END:DAYLIGHT
BEGIN:STANDARD
TZOFFSETFROM:-0400
TZOFFSETTO:-0500
TZNAME:EST
DTSTART:20271107T060000
END:STANDARD
END:VTIMEZONE
BEGIN:VTIMEZONE
TZID:UTC
BEGIN:STANDARD
TZOFFSETFROM:+0000
TZOFFSETTO:+0000
TZNAME:UTC
DTSTART:20240101T000000
END:STANDARD
END:VTIMEZONE
BEGIN:VEVENT
DTSTART;TZID=America/New_York:20260215T160000
DTEND;TZID=America/New_York:20260215T190000
DTSTAMP:20260423T165001
CREATED:20260203T132702Z
LAST-MODIFIED:20260203T132738Z
UID:10003867-1771171200-1771182000@callahanfbc.com
SUMMARY:First Moves 101
DESCRIPTION:Join us for First Moves 101\, our class for new or potential members of the church. Learn about our mission\, beliefs\, and how to get connected. Whether you’re ready to commit or just exploring\, this class is the perfect first step in becoming part of our church family.
URL:https://callahanfbc.com/event/first-moves-101-5/
LOCATION:Callahan First Baptist\, 45090 Green Ave\, Callahan\, FL\, 32011\, United States
CATEGORIES:First Moves
ATTACH;FMTTYPE=image/jpeg:https://callahanfbc.com/wp-content/uploads/2024/11/Gym-Outside.jpg
END:VEVENT
BEGIN:VEVENT
DTSTART;TZID=UTC:20251102T160000
DTEND;TZID=UTC:20251102T190000
DTSTAMP:20260423T165001
CREATED:20250129T011755Z
LAST-MODIFIED:20250129T011755Z
UID:10003344-1762099200-1762110000@callahanfbc.com
SUMMARY:First Moves 101
DESCRIPTION:Join us for First Moves 101\, our class for new or potential members of the church. Learn about our mission\, beliefs\, and how to get connected. Whether you’re ready to commit or just exploring\, this class is the perfect first step in becoming part of our church family.
URL:https://callahanfbc.com/event/first-moves-101-4/
LOCATION:Gym\, 45090\, Callahan\, FL\, 32011\, United States
CATEGORIES:First Moves
ATTACH;FMTTYPE=image/jpeg:https://callahanfbc.com/wp-content/uploads/2024/11/Gym-Outside.jpg
END:VEVENT
BEGIN:VEVENT
DTSTART;TZID=UTC:20250817T160000
DTEND;TZID=UTC:20250817T190000
DTSTAMP:20260423T165001
CREATED:20250129T004159Z
LAST-MODIFIED:20250129T004159Z
UID:10002973-1755446400-1755457200@callahanfbc.com
SUMMARY:First Moves 101
DESCRIPTION:Join us for First Moves 101\, our class for new or potential members of the church. Learn about our mission\, beliefs\, and how to get connected. Whether you’re ready to commit or just exploring\, this class is the perfect first step in becoming part of our church family.
URL:https://callahanfbc.com/event/first-moves-101-3/
LOCATION:Gym\, 45090\, Callahan\, FL\, 32011\, United States
CATEGORIES:First Moves
ATTACH;FMTTYPE=image/jpeg:https://callahanfbc.com/wp-content/uploads/2024/11/Gym-Outside.jpg
END:VEVENT
BEGIN:VEVENT
DTSTART;TZID=UTC:20250406T160000
DTEND;TZID=UTC:20250406T190000
DTSTAMP:20260423T165001
CREATED:20250128T213615Z
LAST-MODIFIED:20250128T213615Z
UID:10002964-1743955200-1743966000@callahanfbc.com
SUMMARY:First Moves 101
DESCRIPTION:Join us for First Moves 101\, our class for new or potential members of the church. Learn about our mission\, beliefs\, and how to get connected. Whether you’re ready to commit or just exploring\, this class is the perfect first step in becoming part of our church family.
URL:https://callahanfbc.com/event/first-moves-101-2/
LOCATION:Gym\, 45090\, Callahan\, FL\, 32011\, United States
CATEGORIES:First Moves
ATTACH;FMTTYPE=image/jpeg:https://callahanfbc.com/wp-content/uploads/2024/11/Gym-Outside.jpg
END:VEVENT
BEGIN:VEVENT
DTSTART;TZID=UTC:20250326T183000
DTEND;TZID=UTC:20250326T200000
DTSTAMP:20260423T165001
CREATED:20250128T213445Z
LAST-MODIFIED:20250128T213445Z
UID:10002963-1743013800-1743019200@callahanfbc.com
SUMMARY:Together: Community that Marked the ACTS 2 Church
DESCRIPTION:Join us for a Men’s Study that dives into the ACT 2 church. It meets weekly on Wednesdays in room WC 105
URL:https://callahanfbc.com/event/together-community-that-marked-the-acts-2-church/2025-03-26/
LOCATION:WC105
ATTACH;FMTTYPE=image/jpeg:https://callahanfbc.com/wp-content/uploads/2025/01/together-class-image.jpg
END:VEVENT
BEGIN:VEVENT
DTSTART;TZID=UTC:20250326T183000
DTEND;TZID=UTC:20250326T200000
DTSTAMP:20260423T165001
CREATED:20250128T213003Z
LAST-MODIFIED:20250128T213512Z
UID:10002957-1743013800-1743019200@callahanfbc.com
SUMMARY:Heaven: When Faith Becomes Sight
DESCRIPTION:Ladies Study: “Heaven” by Jennifer Rothschild \nCome explore the promises of eternity with us in this powerful study of Heaven by Jennifer Rothschild. Starting on February 19th\, we’ll dive into what Scripture says about the place we long for with practical insights to inspire and deepen your faith. \nStudy Options \n-Tuesday Morning: 9:30 am (Starting February 18th) \n-Wednesday Night: Upstairs in E201 or Downstairs in WC106
URL:https://callahanfbc.com/event/heaven-when-faith-becomes-sight/2025-03-26/
LOCATION:Callahan First Baptist\, 45090 Green Ave\, Callahan\, FL\, 32011\, United States
ATTACH;FMTTYPE=image/jpeg:https://callahanfbc.com/wp-content/uploads/2025/01/Heaven-Class-image.jpg
END:VEVENT
BEGIN:VEVENT
DTSTART;TZID=UTC:20250319T183000
DTEND;TZID=UTC:20250319T200000
DTSTAMP:20260423T165001
CREATED:20250128T213445Z
LAST-MODIFIED:20250128T213445Z
UID:10002962-1742409000-1742414400@callahanfbc.com
SUMMARY:Together: Community that Marked the ACTS 2 Church
DESCRIPTION:Join us for a Men’s Study that dives into the ACT 2 church. It meets weekly on Wednesdays in room WC 105
URL:https://callahanfbc.com/event/together-community-that-marked-the-acts-2-church/2025-03-19/
LOCATION:WC105
ATTACH;FMTTYPE=image/jpeg:https://callahanfbc.com/wp-content/uploads/2025/01/together-class-image.jpg
END:VEVENT
BEGIN:VEVENT
DTSTART;TZID=UTC:20250319T183000
DTEND;TZID=UTC:20250319T200000
DTSTAMP:20260423T165001
CREATED:20250128T213003Z
LAST-MODIFIED:20250128T213512Z
UID:10002956-1742409000-1742414400@callahanfbc.com
SUMMARY:Heaven: When Faith Becomes Sight
DESCRIPTION:Ladies Study: “Heaven” by Jennifer Rothschild \nCome explore the promises of eternity with us in this powerful study of Heaven by Jennifer Rothschild. Starting on February 19th\, we’ll dive into what Scripture says about the place we long for with practical insights to inspire and deepen your faith. \nStudy Options \n-Tuesday Morning: 9:30 am (Starting February 18th) \n-Wednesday Night: Upstairs in E201 or Downstairs in WC106
URL:https://callahanfbc.com/event/heaven-when-faith-becomes-sight/2025-03-19/
LOCATION:Callahan First Baptist\, 45090 Green Ave\, Callahan\, FL\, 32011\, United States
ATTACH;FMTTYPE=image/jpeg:https://callahanfbc.com/wp-content/uploads/2025/01/Heaven-Class-image.jpg
END:VEVENT
BEGIN:VEVENT
DTSTART;TZID=UTC:20250312T183000
DTEND;TZID=UTC:20250312T200000
DTSTAMP:20260423T165001
CREATED:20250128T213445Z
LAST-MODIFIED:20250128T213445Z
UID:10002961-1741804200-1741809600@callahanfbc.com
SUMMARY:Together: Community that Marked the ACTS 2 Church
DESCRIPTION:Join us for a Men’s Study that dives into the ACT 2 church. It meets weekly on Wednesdays in room WC 105
URL:https://callahanfbc.com/event/together-community-that-marked-the-acts-2-church/2025-03-12/
LOCATION:WC105
ATTACH;FMTTYPE=image/jpeg:https://callahanfbc.com/wp-content/uploads/2025/01/together-class-image.jpg
END:VEVENT
BEGIN:VEVENT
DTSTART;TZID=UTC:20250312T183000
DTEND;TZID=UTC:20250312T200000
DTSTAMP:20260423T165001
CREATED:20250128T213003Z
LAST-MODIFIED:20250128T213512Z
UID:10002955-1741804200-1741809600@callahanfbc.com
SUMMARY:Heaven: When Faith Becomes Sight
DESCRIPTION:Ladies Study: “Heaven” by Jennifer Rothschild \nCome explore the promises of eternity with us in this powerful study of Heaven by Jennifer Rothschild. Starting on February 19th\, we’ll dive into what Scripture says about the place we long for with practical insights to inspire and deepen your faith. \nStudy Options \n-Tuesday Morning: 9:30 am (Starting February 18th) \n-Wednesday Night: Upstairs in E201 or Downstairs in WC106
URL:https://callahanfbc.com/event/heaven-when-faith-becomes-sight/2025-03-12/
LOCATION:Callahan First Baptist\, 45090 Green Ave\, Callahan\, FL\, 32011\, United States
ATTACH;FMTTYPE=image/jpeg:https://callahanfbc.com/wp-content/uploads/2025/01/Heaven-Class-image.jpg
END:VEVENT
BEGIN:VEVENT
DTSTART;TZID=UTC:20250305T183000
DTEND;TZID=UTC:20250305T200000
DTSTAMP:20260423T165001
CREATED:20250128T213445Z
LAST-MODIFIED:20250128T213445Z
UID:10002960-1741199400-1741204800@callahanfbc.com
SUMMARY:Together: Community that Marked the ACTS 2 Church
DESCRIPTION:Join us for a Men’s Study that dives into the ACT 2 church. It meets weekly on Wednesdays in room WC 105
URL:https://callahanfbc.com/event/together-community-that-marked-the-acts-2-church/2025-03-05/
LOCATION:WC105
ATTACH;FMTTYPE=image/jpeg:https://callahanfbc.com/wp-content/uploads/2025/01/together-class-image.jpg
END:VEVENT
BEGIN:VEVENT
DTSTART;TZID=UTC:20250305T183000
DTEND;TZID=UTC:20250305T200000
DTSTAMP:20260423T165001
CREATED:20250128T213003Z
LAST-MODIFIED:20250128T213512Z
UID:10002954-1741199400-1741204800@callahanfbc.com
SUMMARY:Heaven: When Faith Becomes Sight
DESCRIPTION:Ladies Study: “Heaven” by Jennifer Rothschild \nCome explore the promises of eternity with us in this powerful study of Heaven by Jennifer Rothschild. Starting on February 19th\, we’ll dive into what Scripture says about the place we long for with practical insights to inspire and deepen your faith. \nStudy Options \n-Tuesday Morning: 9:30 am (Starting February 18th) \n-Wednesday Night: Upstairs in E201 or Downstairs in WC106
URL:https://callahanfbc.com/event/heaven-when-faith-becomes-sight/2025-03-05/
LOCATION:Callahan First Baptist\, 45090 Green Ave\, Callahan\, FL\, 32011\, United States
ATTACH;FMTTYPE=image/jpeg:https://callahanfbc.com/wp-content/uploads/2025/01/Heaven-Class-image.jpg
END:VEVENT
BEGIN:VEVENT
DTSTART;TZID=UTC:20250226T183000
DTEND;TZID=UTC:20250226T200000
DTSTAMP:20260423T165001
CREATED:20250128T213445Z
LAST-MODIFIED:20250128T213445Z
UID:10002959-1740594600-1740600000@callahanfbc.com
SUMMARY:Together: Community that Marked the ACTS 2 Church
DESCRIPTION:Join us for a Men’s Study that dives into the ACT 2 church. It meets weekly on Wednesdays in room WC 105
URL:https://callahanfbc.com/event/together-community-that-marked-the-acts-2-church/2025-02-26/
LOCATION:WC105
ATTACH;FMTTYPE=image/jpeg:https://callahanfbc.com/wp-content/uploads/2025/01/together-class-image.jpg
END:VEVENT
BEGIN:VEVENT
DTSTART;TZID=UTC:20250226T183000
DTEND;TZID=UTC:20250226T200000
DTSTAMP:20260423T165001
CREATED:20250128T213003Z
LAST-MODIFIED:20250128T213512Z
UID:10002953-1740594600-1740600000@callahanfbc.com
SUMMARY:Heaven: When Faith Becomes Sight
DESCRIPTION:Ladies Study: “Heaven” by Jennifer Rothschild \nCome explore the promises of eternity with us in this powerful study of Heaven by Jennifer Rothschild. Starting on February 19th\, we’ll dive into what Scripture says about the place we long for with practical insights to inspire and deepen your faith. \nStudy Options \n-Tuesday Morning: 9:30 am (Starting February 18th) \n-Wednesday Night: Upstairs in E201 or Downstairs in WC106
URL:https://callahanfbc.com/event/heaven-when-faith-becomes-sight/2025-02-26/
LOCATION:Callahan First Baptist\, 45090 Green Ave\, Callahan\, FL\, 32011\, United States
ATTACH;FMTTYPE=image/jpeg:https://callahanfbc.com/wp-content/uploads/2025/01/Heaven-Class-image.jpg
END:VEVENT
BEGIN:VEVENT
DTSTART;TZID=UTC:20250219T183000
DTEND;TZID=UTC:20250219T200000
DTSTAMP:20260423T165001
CREATED:20250128T213445Z
LAST-MODIFIED:20250128T213445Z
UID:10002958-1739989800-1739995200@callahanfbc.com
SUMMARY:Together: Community that Marked the ACTS 2 Church
DESCRIPTION:Join us for a Men’s Study that dives into the ACT 2 church. It meets weekly on Wednesdays in room WC 105
URL:https://callahanfbc.com/event/together-community-that-marked-the-acts-2-church/2025-02-19/
LOCATION:WC105
ATTACH;FMTTYPE=image/jpeg:https://callahanfbc.com/wp-content/uploads/2025/01/together-class-image.jpg
END:VEVENT
BEGIN:VEVENT
DTSTART;TZID=UTC:20250219T183000
DTEND;TZID=UTC:20250219T200000
DTSTAMP:20260423T165001
CREATED:20250128T213003Z
LAST-MODIFIED:20250128T213512Z
UID:10002952-1739989800-1739995200@callahanfbc.com
SUMMARY:Heaven: When Faith Becomes Sight
DESCRIPTION:Ladies Study: “Heaven” by Jennifer Rothschild \nCome explore the promises of eternity with us in this powerful study of Heaven by Jennifer Rothschild. Starting on February 19th\, we’ll dive into what Scripture says about the place we long for with practical insights to inspire and deepen your faith. \nStudy Options \n-Tuesday Morning: 9:30 am (Starting February 18th) \n-Wednesday Night: Upstairs in E201 or Downstairs in WC106
URL:https://callahanfbc.com/event/heaven-when-faith-becomes-sight/2025-02-19/
LOCATION:Callahan First Baptist\, 45090 Green Ave\, Callahan\, FL\, 32011\, United States
ATTACH;FMTTYPE=image/jpeg:https://callahanfbc.com/wp-content/uploads/2025/01/Heaven-Class-image.jpg
END:VEVENT
BEGIN:VEVENT
DTSTART;TZID=UTC:20250112T160000
DTEND;TZID=UTC:20250112T190000
DTSTAMP:20260423T165001
CREATED:20241119T203559Z
LAST-MODIFIED:20241119T203559Z
UID:10002401-1736697600-1736708400@callahanfbc.com
SUMMARY:First Moves 101
DESCRIPTION:Join us for First Moves 101\, our class for new or potential members of the church. Learn about our mission\, beliefs\, and how to get connected. Whether you’re ready to commit or just exploring\, this class is the perfect first step in becoming part of our church family.
URL:https://callahanfbc.com/event/first-moves-101/
LOCATION:Gym\, 45090\, Callahan\, FL\, 32011\, United States
CATEGORIES:First Moves
ATTACH;FMTTYPE=image/jpeg:https://callahanfbc.com/wp-content/uploads/2024/11/Gym-Outside.jpg
END:VEVENT
END:VCALENDAR