BEGIN:VCALENDAR
VERSION:2.0
PRODID:-//Callahan First Baptist Church - ECPv6.15.20//NONSGML v1.0//EN
CALSCALE:GREGORIAN
METHOD:PUBLISH
X-ORIGINAL-URL:https://callahanfbc.com
X-WR-CALDESC:Events for Callahan First Baptist Church
REFRESH-INTERVAL;VALUE=DURATION:PT1H
X-Robots-Tag:noindex
X-PUBLISHED-TTL:PT1H
BEGIN:VTIMEZONE
TZID:America/New_York
BEGIN:DAYLIGHT
TZOFFSETFROM:-0500
TZOFFSETTO:-0400
TZNAME:EDT
DTSTART:20250309T070000
END:DAYLIGHT
BEGIN:STANDARD
TZOFFSETFROM:-0400
TZOFFSETTO:-0500
TZNAME:EST
DTSTART:20251102T060000
END:STANDARD
BEGIN:DAYLIGHT
TZOFFSETFROM:-0500
TZOFFSETTO:-0400
TZNAME:EDT
DTSTART:20260308T070000
END:DAYLIGHT
BEGIN:STANDARD
TZOFFSETFROM:-0400
TZOFFSETTO:-0500
TZNAME:EST
DTSTART:20261101T060000
END:STANDARD
BEGIN:DAYLIGHT
TZOFFSETFROM:-0500
TZOFFSETTO:-0400
TZNAME:EDT
DTSTART:20270314T070000
END:DAYLIGHT
BEGIN:STANDARD
TZOFFSETFROM:-0400
TZOFFSETTO:-0500
TZNAME:EST
DTSTART:20271107T060000
END:STANDARD
END:VTIMEZONE
BEGIN:VTIMEZONE
TZID:UTC
BEGIN:STANDARD
TZOFFSETFROM:+0000
TZOFFSETTO:+0000
TZNAME:UTC
DTSTART:20230101T000000
END:STANDARD
END:VTIMEZONE
BEGIN:VEVENT
DTSTART;TZID=America/New_York:20260416T163000
DTEND;TZID=America/New_York:20260416T183000
DTSTAMP:20260423T165706
CREATED:20260203T131705Z
LAST-MODIFIED:20260203T131705Z
UID:10003809-1776357000-1776364200@callahanfbc.com
SUMMARY:Storehouse Afternoon Giveaway
DESCRIPTION:Come join us for our free food giveaway this afternoon from 4:30-6:30 PM. Everyone is welcome to receive free groceries hand packed by our volunteers. Limit two families per vehicle.
URL:https://callahanfbc.com/event/storehouse-afternoon-giveaway/2026-04-16/
LOCATION:Callahan First Baptist\, 45090 Green Ave\, Callahan\, FL\, 32011\, United States
ATTACH;FMTTYPE=image/jpeg:https://callahanfbc.com/wp-content/uploads/2024/11/Storehouse-Truck.jpg
END:VEVENT
BEGIN:VEVENT
DTSTART;TZID=America/New_York:20260402T100000
DTEND;TZID=America/New_York:20260402T120000
DTSTAMP:20260423T165706
CREATED:20260203T131525Z
LAST-MODIFIED:20260203T131525Z
UID:10003749-1775124000-1775131200@callahanfbc.com
SUMMARY:Storehouse Morning Giveaway
DESCRIPTION:Come join us for our free food giveaway this morning from 10 am- 12 pm. Everyone is welcome to receive free groceries hand packed by our volunteers. Limit two families per vehicle.
URL:https://callahanfbc.com/event/storehouse-morning-giveaway/2026-04-02/
LOCATION:Callahan First Baptist\, 45090 Green Ave\, Callahan\, FL\, 32011\, United States
CATEGORIES:Community Impact
ATTACH;FMTTYPE=image/jpeg:https://callahanfbc.com/wp-content/uploads/2024/11/Storehouse-Truck.jpg
END:VEVENT
BEGIN:VEVENT
DTSTART;TZID=America/New_York:20260319T163000
DTEND;TZID=America/New_York:20260319T183000
DTSTAMP:20260423T165706
CREATED:20260203T131705Z
LAST-MODIFIED:20260203T131705Z
UID:10003808-1773937800-1773945000@callahanfbc.com
SUMMARY:Storehouse Afternoon Giveaway
DESCRIPTION:Come join us for our free food giveaway this afternoon from 4:30-6:30 PM. Everyone is welcome to receive free groceries hand packed by our volunteers. Limit two families per vehicle.
URL:https://callahanfbc.com/event/storehouse-afternoon-giveaway/2026-03-19/
LOCATION:Callahan First Baptist\, 45090 Green Ave\, Callahan\, FL\, 32011\, United States
ATTACH;FMTTYPE=image/jpeg:https://callahanfbc.com/wp-content/uploads/2024/11/Storehouse-Truck.jpg
END:VEVENT
BEGIN:VEVENT
DTSTART;TZID=America/New_York:20260305T100000
DTEND;TZID=America/New_York:20260305T120000
DTSTAMP:20260423T165706
CREATED:20260203T131525Z
LAST-MODIFIED:20260203T131525Z
UID:10003748-1772704800-1772712000@callahanfbc.com
SUMMARY:Storehouse Morning Giveaway
DESCRIPTION:Come join us for our free food giveaway this morning from 10 am- 12 pm. Everyone is welcome to receive free groceries hand packed by our volunteers. Limit two families per vehicle.
URL:https://callahanfbc.com/event/storehouse-morning-giveaway/2026-03-05/
LOCATION:Callahan First Baptist\, 45090 Green Ave\, Callahan\, FL\, 32011\, United States
CATEGORIES:Community Impact
ATTACH;FMTTYPE=image/jpeg:https://callahanfbc.com/wp-content/uploads/2024/11/Storehouse-Truck.jpg
END:VEVENT
BEGIN:VEVENT
DTSTART;TZID=America/New_York:20260219T163000
DTEND;TZID=America/New_York:20260219T183000
DTSTAMP:20260423T165706
CREATED:20260203T131705Z
LAST-MODIFIED:20260203T131705Z
UID:10003807-1771518600-1771525800@callahanfbc.com
SUMMARY:Storehouse Afternoon Giveaway
DESCRIPTION:Come join us for our free food giveaway this afternoon from 4:30-6:30 PM. Everyone is welcome to receive free groceries hand packed by our volunteers. Limit two families per vehicle.
URL:https://callahanfbc.com/event/storehouse-afternoon-giveaway/2026-02-19/
LOCATION:Callahan First Baptist\, 45090 Green Ave\, Callahan\, FL\, 32011\, United States
ATTACH;FMTTYPE=image/jpeg:https://callahanfbc.com/wp-content/uploads/2024/11/Storehouse-Truck.jpg
END:VEVENT
BEGIN:VEVENT
DTSTART;TZID=America/New_York:20260205T100000
DTEND;TZID=America/New_York:20260205T120000
DTSTAMP:20260423T165706
CREATED:20260203T131525Z
LAST-MODIFIED:20260203T131525Z
UID:10003747-1770285600-1770292800@callahanfbc.com
SUMMARY:Storehouse Morning Giveaway
DESCRIPTION:Come join us for our free food giveaway this morning from 10 am- 12 pm. Everyone is welcome to receive free groceries hand packed by our volunteers. Limit two families per vehicle.
URL:https://callahanfbc.com/event/storehouse-morning-giveaway/2026-02-05/
LOCATION:Callahan First Baptist\, 45090 Green Ave\, Callahan\, FL\, 32011\, United States
CATEGORIES:Community Impact
ATTACH;FMTTYPE=image/jpeg:https://callahanfbc.com/wp-content/uploads/2024/11/Storehouse-Truck.jpg
END:VEVENT
BEGIN:VEVENT
DTSTART;TZID=UTC:20251231T100000
DTEND;TZID=UTC:20251231T120000
DTSTAMP:20260423T165706
CREATED:20251204T194153Z
LAST-MODIFIED:20251204T194153Z
UID:10001191-1767175200-1767182400@callahanfbc.com
SUMMARY:Storehouse Food Distribution
DESCRIPTION:Our Storehouse ministry provides free food distributions on the first and third Thursday of each month to support individuals and families in need within our community. Whether you or someone you know could use a little extra help\, you are welcome here. No appointment is necessary—just stop by and let us serve you. Together\, we’re working to build a stronger\, healthier community through care and compassion.
URL:https://callahanfbc.com/event/storehouse-food-distribution-2-2/2025-12-31/
LOCATION:The Storehouse\, 45103 Green Avenue\, Callahan\, FL\, 32011\, United States
CATEGORIES:Community Impact
ATTACH;FMTTYPE=image/jpeg:https://callahanfbc.com/wp-content/uploads/2024/11/Storehouse-Exterior.jpg
END:VEVENT
BEGIN:VEVENT
DTSTART;TZID=UTC:20251204T100000
DTEND;TZID=UTC:20251204T120000
DTSTAMP:20260423T165706
CREATED:20241113T205940Z
LAST-MODIFIED:20241113T205940Z
UID:10001190-1764842400-1764849600@callahanfbc.com
SUMMARY:Storehouse Food Distribution
DESCRIPTION:Our Storehouse ministry provides free food distributions on the first and third Thursday of each month to support individuals and families in need within our community. Whether you or someone you know could use a little extra help\, you are welcome here. No appointment is necessary—just stop by and let us serve you. Together\, we’re working to build a stronger\, healthier community through care and compassion.
URL:https://callahanfbc.com/event/storehouse-food-distribution-2/2025-12-04/
LOCATION:The Storehouse\, 45103 Green Avenue\, Callahan\, FL\, 32011\, United States
CATEGORIES:Community Impact
ATTACH;FMTTYPE=image/jpeg:https://callahanfbc.com/wp-content/uploads/2024/11/Storehouse-Exterior.jpg
END:VEVENT
BEGIN:VEVENT
DTSTART;TZID=UTC:20251106T100000
DTEND;TZID=UTC:20251106T120000
DTSTAMP:20260423T165706
CREATED:20241113T205940Z
LAST-MODIFIED:20241113T205940Z
UID:10001189-1762423200-1762430400@callahanfbc.com
SUMMARY:Storehouse Food Distribution
DESCRIPTION:Our Storehouse ministry provides free food distributions on the first and third Thursday of each month to support individuals and families in need within our community. Whether you or someone you know could use a little extra help\, you are welcome here. No appointment is necessary—just stop by and let us serve you. Together\, we’re working to build a stronger\, healthier community through care and compassion.
URL:https://callahanfbc.com/event/storehouse-food-distribution-2/2025-11-06/
LOCATION:The Storehouse\, 45103 Green Avenue\, Callahan\, FL\, 32011\, United States
CATEGORIES:Community Impact
ATTACH;FMTTYPE=image/jpeg:https://callahanfbc.com/wp-content/uploads/2024/11/Storehouse-Exterior.jpg
END:VEVENT
BEGIN:VEVENT
DTSTART;TZID=UTC:20251002T100000
DTEND;TZID=UTC:20251002T120000
DTSTAMP:20260423T165706
CREATED:20241113T205940Z
LAST-MODIFIED:20241113T205940Z
UID:10001188-1759399200-1759406400@callahanfbc.com
SUMMARY:Storehouse Food Distribution
DESCRIPTION:Our Storehouse ministry provides free food distributions on the first and third Thursday of each month to support individuals and families in need within our community. Whether you or someone you know could use a little extra help\, you are welcome here. No appointment is necessary—just stop by and let us serve you. Together\, we’re working to build a stronger\, healthier community through care and compassion.
URL:https://callahanfbc.com/event/storehouse-food-distribution-2/2025-10-02/
LOCATION:The Storehouse\, 45103 Green Avenue\, Callahan\, FL\, 32011\, United States
CATEGORIES:Community Impact
ATTACH;FMTTYPE=image/jpeg:https://callahanfbc.com/wp-content/uploads/2024/11/Storehouse-Exterior.jpg
END:VEVENT
BEGIN:VEVENT
DTSTART;TZID=UTC:20250904T100000
DTEND;TZID=UTC:20250904T120000
DTSTAMP:20260423T165706
CREATED:20241113T205940Z
LAST-MODIFIED:20241113T205940Z
UID:10001187-1756980000-1756987200@callahanfbc.com
SUMMARY:Storehouse Food Distribution
DESCRIPTION:Our Storehouse ministry provides free food distributions on the first and third Thursday of each month to support individuals and families in need within our community. Whether you or someone you know could use a little extra help\, you are welcome here. No appointment is necessary—just stop by and let us serve you. Together\, we’re working to build a stronger\, healthier community through care and compassion.
URL:https://callahanfbc.com/event/storehouse-food-distribution-2/2025-09-04/
LOCATION:The Storehouse\, 45103 Green Avenue\, Callahan\, FL\, 32011\, United States
CATEGORIES:Community Impact
ATTACH;FMTTYPE=image/jpeg:https://callahanfbc.com/wp-content/uploads/2024/11/Storehouse-Exterior.jpg
END:VEVENT
BEGIN:VEVENT
DTSTART;TZID=UTC:20250807T100000
DTEND;TZID=UTC:20250807T120000
DTSTAMP:20260423T165706
CREATED:20241113T205940Z
LAST-MODIFIED:20241113T205940Z
UID:10001186-1754560800-1754568000@callahanfbc.com
SUMMARY:Storehouse Food Distribution
DESCRIPTION:Our Storehouse ministry provides free food distributions on the first and third Thursday of each month to support individuals and families in need within our community. Whether you or someone you know could use a little extra help\, you are welcome here. No appointment is necessary—just stop by and let us serve you. Together\, we’re working to build a stronger\, healthier community through care and compassion.
URL:https://callahanfbc.com/event/storehouse-food-distribution-2/2025-08-07/
LOCATION:The Storehouse\, 45103 Green Avenue\, Callahan\, FL\, 32011\, United States
CATEGORIES:Community Impact
ATTACH;FMTTYPE=image/jpeg:https://callahanfbc.com/wp-content/uploads/2024/11/Storehouse-Exterior.jpg
END:VEVENT
BEGIN:VEVENT
DTSTART;TZID=UTC:20250703T100000
DTEND;TZID=UTC:20250703T120000
DTSTAMP:20260423T165706
CREATED:20241113T205940Z
LAST-MODIFIED:20241113T205940Z
UID:10001185-1751536800-1751544000@callahanfbc.com
SUMMARY:Storehouse Food Distribution
DESCRIPTION:Our Storehouse ministry provides free food distributions on the first and third Thursday of each month to support individuals and families in need within our community. Whether you or someone you know could use a little extra help\, you are welcome here. No appointment is necessary—just stop by and let us serve you. Together\, we’re working to build a stronger\, healthier community through care and compassion.
URL:https://callahanfbc.com/event/storehouse-food-distribution-2/2025-07-03/
LOCATION:The Storehouse\, 45103 Green Avenue\, Callahan\, FL\, 32011\, United States
CATEGORIES:Community Impact
ATTACH;FMTTYPE=image/jpeg:https://callahanfbc.com/wp-content/uploads/2024/11/Storehouse-Exterior.jpg
END:VEVENT
BEGIN:VEVENT
DTSTART;TZID=UTC:20250605T100000
DTEND;TZID=UTC:20250605T120000
DTSTAMP:20260423T165706
CREATED:20241113T205940Z
LAST-MODIFIED:20241113T205940Z
UID:10001184-1749117600-1749124800@callahanfbc.com
SUMMARY:Storehouse Food Distribution
DESCRIPTION:Our Storehouse ministry provides free food distributions on the first and third Thursday of each month to support individuals and families in need within our community. Whether you or someone you know could use a little extra help\, you are welcome here. No appointment is necessary—just stop by and let us serve you. Together\, we’re working to build a stronger\, healthier community through care and compassion.
URL:https://callahanfbc.com/event/storehouse-food-distribution-2/2025-06-05/
LOCATION:The Storehouse\, 45103 Green Avenue\, Callahan\, FL\, 32011\, United States
CATEGORIES:Community Impact
ATTACH;FMTTYPE=image/jpeg:https://callahanfbc.com/wp-content/uploads/2024/11/Storehouse-Exterior.jpg
END:VEVENT
BEGIN:VEVENT
DTSTART;TZID=UTC:20250501T100000
DTEND;TZID=UTC:20250501T120000
DTSTAMP:20260423T165706
CREATED:20241113T205940Z
LAST-MODIFIED:20241113T205940Z
UID:10001183-1746093600-1746100800@callahanfbc.com
SUMMARY:Storehouse Food Distribution
DESCRIPTION:Our Storehouse ministry provides free food distributions on the first and third Thursday of each month to support individuals and families in need within our community. Whether you or someone you know could use a little extra help\, you are welcome here. No appointment is necessary—just stop by and let us serve you. Together\, we’re working to build a stronger\, healthier community through care and compassion.
URL:https://callahanfbc.com/event/storehouse-food-distribution-2/2025-05-01/
LOCATION:The Storehouse\, 45103 Green Avenue\, Callahan\, FL\, 32011\, United States
CATEGORIES:Community Impact
ATTACH;FMTTYPE=image/jpeg:https://callahanfbc.com/wp-content/uploads/2024/11/Storehouse-Exterior.jpg
END:VEVENT
BEGIN:VEVENT
DTSTART;TZID=UTC:20250403T100000
DTEND;TZID=UTC:20250403T120000
DTSTAMP:20260423T165706
CREATED:20241113T205940Z
LAST-MODIFIED:20241113T205940Z
UID:10001182-1743674400-1743681600@callahanfbc.com
SUMMARY:Storehouse Food Distribution
DESCRIPTION:Our Storehouse ministry provides free food distributions on the first and third Thursday of each month to support individuals and families in need within our community. Whether you or someone you know could use a little extra help\, you are welcome here. No appointment is necessary—just stop by and let us serve you. Together\, we’re working to build a stronger\, healthier community through care and compassion.
URL:https://callahanfbc.com/event/storehouse-food-distribution-2/2025-04-03/
LOCATION:The Storehouse\, 45103 Green Avenue\, Callahan\, FL\, 32011\, United States
CATEGORIES:Community Impact
ATTACH;FMTTYPE=image/jpeg:https://callahanfbc.com/wp-content/uploads/2024/11/Storehouse-Exterior.jpg
END:VEVENT
BEGIN:VEVENT
DTSTART;TZID=UTC:20250306T100000
DTEND;TZID=UTC:20250306T120000
DTSTAMP:20260423T165706
CREATED:20241113T205940Z
LAST-MODIFIED:20241113T205940Z
UID:10001181-1741255200-1741262400@callahanfbc.com
SUMMARY:Storehouse Food Distribution
DESCRIPTION:Our Storehouse ministry provides free food distributions on the first and third Thursday of each month to support individuals and families in need within our community. Whether you or someone you know could use a little extra help\, you are welcome here. No appointment is necessary—just stop by and let us serve you. Together\, we’re working to build a stronger\, healthier community through care and compassion.
URL:https://callahanfbc.com/event/storehouse-food-distribution-2/2025-03-06/
LOCATION:The Storehouse\, 45103 Green Avenue\, Callahan\, FL\, 32011\, United States
CATEGORIES:Community Impact
ATTACH;FMTTYPE=image/jpeg:https://callahanfbc.com/wp-content/uploads/2024/11/Storehouse-Exterior.jpg
END:VEVENT
BEGIN:VEVENT
DTSTART;TZID=UTC:20250206T100000
DTEND;TZID=UTC:20250206T120000
DTSTAMP:20260423T165706
CREATED:20241113T205940Z
LAST-MODIFIED:20241113T205940Z
UID:10001180-1738836000-1738843200@callahanfbc.com
SUMMARY:Storehouse Food Distribution
DESCRIPTION:Our Storehouse ministry provides free food distributions on the first and third Thursday of each month to support individuals and families in need within our community. Whether you or someone you know could use a little extra help\, you are welcome here. No appointment is necessary—just stop by and let us serve you. Together\, we’re working to build a stronger\, healthier community through care and compassion.
URL:https://callahanfbc.com/event/storehouse-food-distribution-2/2025-02-06/
LOCATION:The Storehouse\, 45103 Green Avenue\, Callahan\, FL\, 32011\, United States
CATEGORIES:Community Impact
ATTACH;FMTTYPE=image/jpeg:https://callahanfbc.com/wp-content/uploads/2024/11/Storehouse-Exterior.jpg
END:VEVENT
BEGIN:VEVENT
DTSTART;TZID=UTC:20250102T100000
DTEND;TZID=UTC:20250102T120000
DTSTAMP:20260423T165706
CREATED:20241113T205940Z
LAST-MODIFIED:20241113T205940Z
UID:10001179-1735812000-1735819200@callahanfbc.com
SUMMARY:Storehouse Food Distribution
DESCRIPTION:Our Storehouse ministry provides free food distributions on the first and third Thursday of each month to support individuals and families in need within our community. Whether you or someone you know could use a little extra help\, you are welcome here. No appointment is necessary—just stop by and let us serve you. Together\, we’re working to build a stronger\, healthier community through care and compassion.
URL:https://callahanfbc.com/event/storehouse-food-distribution-2/2025-01-02/
LOCATION:The Storehouse\, 45103 Green Avenue\, Callahan\, FL\, 32011\, United States
CATEGORIES:Community Impact
ATTACH;FMTTYPE=image/jpeg:https://callahanfbc.com/wp-content/uploads/2024/11/Storehouse-Exterior.jpg
END:VEVENT
BEGIN:VEVENT
DTSTART;TZID=UTC:20241205T100000
DTEND;TZID=UTC:20241205T120000
DTSTAMP:20260423T165706
CREATED:20241113T205940Z
LAST-MODIFIED:20241113T205940Z
UID:10001178-1733392800-1733400000@callahanfbc.com
SUMMARY:Storehouse Food Distribution
DESCRIPTION:Our Storehouse ministry provides free food distributions on the first and third Thursday of each month to support individuals and families in need within our community. Whether you or someone you know could use a little extra help\, you are welcome here. No appointment is necessary—just stop by and let us serve you. Together\, we’re working to build a stronger\, healthier community through care and compassion.
URL:https://callahanfbc.com/event/storehouse-food-distribution-2/2024-12-05/
LOCATION:The Storehouse\, 45103 Green Avenue\, Callahan\, FL\, 32011\, United States
CATEGORIES:Community Impact
ATTACH;FMTTYPE=image/jpeg:https://callahanfbc.com/wp-content/uploads/2024/11/Storehouse-Exterior.jpg
END:VEVENT
END:VCALENDAR