BEGIN:VCALENDAR
VERSION:2.0
PRODID:-//Callahan First Baptist Church - ECPv6.15.20//NONSGML v1.0//EN
CALSCALE:GREGORIAN
METHOD:PUBLISH
X-ORIGINAL-URL:https://callahanfbc.com
X-WR-CALDESC:Events for Callahan First Baptist Church
REFRESH-INTERVAL;VALUE=DURATION:PT1H
X-Robots-Tag:noindex
X-PUBLISHED-TTL:PT1H
BEGIN:VTIMEZONE
TZID:UTC
BEGIN:STANDARD
TZOFFSETFROM:+0000
TZOFFSETTO:+0000
TZNAME:UTC
DTSTART:20260101T000000
END:STANDARD
END:VTIMEZONE
BEGIN:VTIMEZONE
TZID:America/New_York
BEGIN:DAYLIGHT
TZOFFSETFROM:-0500
TZOFFSETTO:-0400
TZNAME:EDT
DTSTART:20260308T070000
END:DAYLIGHT
BEGIN:STANDARD
TZOFFSETFROM:-0400
TZOFFSETTO:-0500
TZNAME:EST
DTSTART:20261101T060000
END:STANDARD
BEGIN:DAYLIGHT
TZOFFSETFROM:-0500
TZOFFSETTO:-0400
TZNAME:EDT
DTSTART:20270314T070000
END:DAYLIGHT
BEGIN:STANDARD
TZOFFSETFROM:-0400
TZOFFSETTO:-0500
TZNAME:EST
DTSTART:20271107T060000
END:STANDARD
BEGIN:DAYLIGHT
TZOFFSETFROM:-0500
TZOFFSETTO:-0400
TZNAME:EDT
DTSTART:20280312T070000
END:DAYLIGHT
BEGIN:STANDARD
TZOFFSETFROM:-0400
TZOFFSETTO:-0500
TZNAME:EST
DTSTART:20281105T060000
END:STANDARD
END:VTIMEZONE
BEGIN:VEVENT
DTSTART;TZID=UTC:20270127T184500
DTEND;TZID=UTC:20270127T200000
DTSTAMP:20260424T123530
CREATED:20241228T005006Z
LAST-MODIFIED:20241228T005410Z
UID:10001350-1801075500-1801080000@callahanfbc.com
SUMMARY:Wednesday Activities
DESCRIPTION:Join us on Wednesdays for a full evening of connection\, worship\, and growth for all ages! We start with a delicious\, family-style dinner at 5:15 PM in the gym\, followed by activities and small groups for every age. Whether you’re looking for a Bible study\, youth group\, or a fun\, faith-filled program for kids\, there’s something for everyone. Come be a part of our midweek gathering as we grow in faith and fellowship together! \nCheck out our current Bible studies here.
URL:https://callahanfbc.com/event/ladies-bible-study-2/2027-01-27/
LOCATION:Callahan First Baptist\, 45090 Green Ave\, Callahan\, FL\, 32011\, United States
ATTACH;FMTTYPE=image/jpeg:https://callahanfbc.com/wp-content/uploads/2024/04/Drone-shot-1.jpg
END:VEVENT
BEGIN:VEVENT
DTSTART;TZID=America/New_York:20270128T100000
DTEND;TZID=America/New_York:20270128T120000
DTSTAMP:20260424T123530
CREATED:20260203T151527Z
LAST-MODIFIED:20260203T151527Z
UID:10003880-1801130400-1801137600@callahanfbc.com
SUMMARY:FAM Closet Open
DESCRIPTION:Foster and Adoption Ministry \nWelcome all families who are currently fostering or in the process of adopting. We’d love the opportunity to bless you and your family with your own food giveaway\, and open up our FAM Closet for you to come ‘shop’ around for the needs of your house. Peruse the clothes\, items\, and other equipment you might need to help you and the children in your home.
URL:https://callahanfbc.com/event/fam-closet-open/2027-01-28/
LOCATION:Callahan First Baptist\, 45090 Green Ave\, Callahan\, FL\, 32011\, United States
CATEGORIES:Community Impact,Missions
ATTACH;FMTTYPE=image/jpeg:https://callahanfbc.com/wp-content/uploads/2024/11/3T6A0226.jpg
END:VEVENT
BEGIN:VEVENT
DTSTART;TZID=UTC:20270131T101500
DTEND;TZID=UTC:20270131T120000
DTSTAMP:20260424T123530
CREATED:20240430T210534Z
LAST-MODIFIED:20241111T234920Z
UID:10000118-1801390500-1801396800@callahanfbc.com
SUMMARY:Sunday Worship
DESCRIPTION:Join us every Sunday morning for Worship at Callahan First Baptist Church. We can’t wait to see you this Sunday!
URL:https://callahanfbc.com/event/sunday-worship/2027-01-31/
LOCATION:Callahan First Baptist\, 45090 Green Ave\, Callahan\, FL\, 32011\, United States
CATEGORIES:Sunday Worship
ATTACH;FMTTYPE=image/jpeg:https://callahanfbc.com/wp-content/uploads/2024/04/3T6A1789.jpg
END:VEVENT
BEGIN:VEVENT
DTSTART;TZID=UTC:20270203T184500
DTEND;TZID=UTC:20270203T200000
DTSTAMP:20260424T123530
CREATED:20241228T005006Z
LAST-MODIFIED:20241228T005410Z
UID:10001351-1801680300-1801684800@callahanfbc.com
SUMMARY:Wednesday Activities
DESCRIPTION:Join us on Wednesdays for a full evening of connection\, worship\, and growth for all ages! We start with a delicious\, family-style dinner at 5:15 PM in the gym\, followed by activities and small groups for every age. Whether you’re looking for a Bible study\, youth group\, or a fun\, faith-filled program for kids\, there’s something for everyone. Come be a part of our midweek gathering as we grow in faith and fellowship together! \nCheck out our current Bible studies here.
URL:https://callahanfbc.com/event/ladies-bible-study-2/2027-02-03/
LOCATION:Callahan First Baptist\, 45090 Green Ave\, Callahan\, FL\, 32011\, United States
ATTACH;FMTTYPE=image/jpeg:https://callahanfbc.com/wp-content/uploads/2024/04/Drone-shot-1.jpg
END:VEVENT
BEGIN:VEVENT
DTSTART;TZID=America/New_York:20270204T100000
DTEND;TZID=America/New_York:20270204T120000
DTSTAMP:20260424T123530
CREATED:20260203T131525Z
LAST-MODIFIED:20260203T131525Z
UID:10003759-1801735200-1801742400@callahanfbc.com
SUMMARY:Storehouse Morning Giveaway
DESCRIPTION:Come join us for our free food giveaway this morning from 10 am- 12 pm. Everyone is welcome to receive free groceries hand packed by our volunteers. Limit two families per vehicle.
URL:https://callahanfbc.com/event/storehouse-morning-giveaway/2027-02-04/
LOCATION:Callahan First Baptist\, 45090 Green Ave\, Callahan\, FL\, 32011\, United States
CATEGORIES:Community Impact
ATTACH;FMTTYPE=image/jpeg:https://callahanfbc.com/wp-content/uploads/2024/11/Storehouse-Truck.jpg
END:VEVENT
BEGIN:VEVENT
DTSTART;TZID=UTC:20270207T101500
DTEND;TZID=UTC:20270207T120000
DTSTAMP:20260424T123530
CREATED:20240430T210534Z
LAST-MODIFIED:20241111T234920Z
UID:10000119-1801995300-1802001600@callahanfbc.com
SUMMARY:Sunday Worship
DESCRIPTION:Join us every Sunday morning for Worship at Callahan First Baptist Church. We can’t wait to see you this Sunday!
URL:https://callahanfbc.com/event/sunday-worship/2027-02-07/
LOCATION:Callahan First Baptist\, 45090 Green Ave\, Callahan\, FL\, 32011\, United States
CATEGORIES:Sunday Worship
ATTACH;FMTTYPE=image/jpeg:https://callahanfbc.com/wp-content/uploads/2024/04/3T6A1789.jpg
END:VEVENT
BEGIN:VEVENT
DTSTART;TZID=UTC:20270210T184500
DTEND;TZID=UTC:20270210T200000
DTSTAMP:20260424T123530
CREATED:20241228T005006Z
LAST-MODIFIED:20241228T005410Z
UID:10001352-1802285100-1802289600@callahanfbc.com
SUMMARY:Wednesday Activities
DESCRIPTION:Join us on Wednesdays for a full evening of connection\, worship\, and growth for all ages! We start with a delicious\, family-style dinner at 5:15 PM in the gym\, followed by activities and small groups for every age. Whether you’re looking for a Bible study\, youth group\, or a fun\, faith-filled program for kids\, there’s something for everyone. Come be a part of our midweek gathering as we grow in faith and fellowship together! \nCheck out our current Bible studies here.
URL:https://callahanfbc.com/event/ladies-bible-study-2/2027-02-10/
LOCATION:Callahan First Baptist\, 45090 Green Ave\, Callahan\, FL\, 32011\, United States
ATTACH;FMTTYPE=image/jpeg:https://callahanfbc.com/wp-content/uploads/2024/04/Drone-shot-1.jpg
END:VEVENT
BEGIN:VEVENT
DTSTART;TZID=UTC:20270214T101500
DTEND;TZID=UTC:20270214T120000
DTSTAMP:20260424T123530
CREATED:20240430T210534Z
LAST-MODIFIED:20241111T234920Z
UID:10000120-1802600100-1802606400@callahanfbc.com
SUMMARY:Sunday Worship
DESCRIPTION:Join us every Sunday morning for Worship at Callahan First Baptist Church. We can’t wait to see you this Sunday!
URL:https://callahanfbc.com/event/sunday-worship/2027-02-14/
LOCATION:Callahan First Baptist\, 45090 Green Ave\, Callahan\, FL\, 32011\, United States
CATEGORIES:Sunday Worship
ATTACH;FMTTYPE=image/jpeg:https://callahanfbc.com/wp-content/uploads/2024/04/3T6A1789.jpg
END:VEVENT
BEGIN:VEVENT
DTSTART;TZID=UTC:20270217T184500
DTEND;TZID=UTC:20270217T200000
DTSTAMP:20260424T123530
CREATED:20241228T005006Z
LAST-MODIFIED:20241228T005410Z
UID:10001353-1802889900-1802894400@callahanfbc.com
SUMMARY:Wednesday Activities
DESCRIPTION:Join us on Wednesdays for a full evening of connection\, worship\, and growth for all ages! We start with a delicious\, family-style dinner at 5:15 PM in the gym\, followed by activities and small groups for every age. Whether you’re looking for a Bible study\, youth group\, or a fun\, faith-filled program for kids\, there’s something for everyone. Come be a part of our midweek gathering as we grow in faith and fellowship together! \nCheck out our current Bible studies here.
URL:https://callahanfbc.com/event/ladies-bible-study-2/2027-02-17/
LOCATION:Callahan First Baptist\, 45090 Green Ave\, Callahan\, FL\, 32011\, United States
ATTACH;FMTTYPE=image/jpeg:https://callahanfbc.com/wp-content/uploads/2024/04/Drone-shot-1.jpg
END:VEVENT
BEGIN:VEVENT
DTSTART;TZID=America/New_York:20270218T163000
DTEND;TZID=America/New_York:20270218T183000
DTSTAMP:20260424T123530
CREATED:20260203T131705Z
LAST-MODIFIED:20260203T131705Z
UID:10003819-1802968200-1802975400@callahanfbc.com
SUMMARY:Storehouse Afternoon Giveaway
DESCRIPTION:Come join us for our free food giveaway this afternoon from 4:30-6:30 PM. Everyone is welcome to receive free groceries hand packed by our volunteers. Limit two families per vehicle.
URL:https://callahanfbc.com/event/storehouse-afternoon-giveaway/2027-02-18/
LOCATION:Callahan First Baptist\, 45090 Green Ave\, Callahan\, FL\, 32011\, United States
ATTACH;FMTTYPE=image/jpeg:https://callahanfbc.com/wp-content/uploads/2024/11/Storehouse-Truck.jpg
END:VEVENT
BEGIN:VEVENT
DTSTART;TZID=UTC:20270221T101500
DTEND;TZID=UTC:20270221T120000
DTSTAMP:20260424T123530
CREATED:20240430T210534Z
LAST-MODIFIED:20241111T234920Z
UID:10000121-1803204900-1803211200@callahanfbc.com
SUMMARY:Sunday Worship
DESCRIPTION:Join us every Sunday morning for Worship at Callahan First Baptist Church. We can’t wait to see you this Sunday!
URL:https://callahanfbc.com/event/sunday-worship/2027-02-21/
LOCATION:Callahan First Baptist\, 45090 Green Ave\, Callahan\, FL\, 32011\, United States
CATEGORIES:Sunday Worship
ATTACH;FMTTYPE=image/jpeg:https://callahanfbc.com/wp-content/uploads/2024/04/3T6A1789.jpg
END:VEVENT
BEGIN:VEVENT
DTSTART;TZID=UTC:20270224T184500
DTEND;TZID=UTC:20270224T200000
DTSTAMP:20260424T123530
CREATED:20241228T005006Z
LAST-MODIFIED:20241228T005410Z
UID:10001354-1803494700-1803499200@callahanfbc.com
SUMMARY:Wednesday Activities
DESCRIPTION:Join us on Wednesdays for a full evening of connection\, worship\, and growth for all ages! We start with a delicious\, family-style dinner at 5:15 PM in the gym\, followed by activities and small groups for every age. Whether you’re looking for a Bible study\, youth group\, or a fun\, faith-filled program for kids\, there’s something for everyone. Come be a part of our midweek gathering as we grow in faith and fellowship together! \nCheck out our current Bible studies here.
URL:https://callahanfbc.com/event/ladies-bible-study-2/2027-02-24/
LOCATION:Callahan First Baptist\, 45090 Green Ave\, Callahan\, FL\, 32011\, United States
ATTACH;FMTTYPE=image/jpeg:https://callahanfbc.com/wp-content/uploads/2024/04/Drone-shot-1.jpg
END:VEVENT
BEGIN:VEVENT
DTSTART;TZID=America/New_York:20270225T100000
DTEND;TZID=America/New_York:20270225T120000
DTSTAMP:20260424T123530
CREATED:20260203T151527Z
LAST-MODIFIED:20260203T151527Z
UID:10003881-1803549600-1803556800@callahanfbc.com
SUMMARY:FAM Closet Open
DESCRIPTION:Foster and Adoption Ministry \nWelcome all families who are currently fostering or in the process of adopting. We’d love the opportunity to bless you and your family with your own food giveaway\, and open up our FAM Closet for you to come ‘shop’ around for the needs of your house. Peruse the clothes\, items\, and other equipment you might need to help you and the children in your home.
URL:https://callahanfbc.com/event/fam-closet-open/2027-02-25/
LOCATION:Callahan First Baptist\, 45090 Green Ave\, Callahan\, FL\, 32011\, United States
CATEGORIES:Community Impact,Missions
ATTACH;FMTTYPE=image/jpeg:https://callahanfbc.com/wp-content/uploads/2024/11/3T6A0226.jpg
END:VEVENT
BEGIN:VEVENT
DTSTART;TZID=UTC:20270228T101500
DTEND;TZID=UTC:20270228T120000
DTSTAMP:20260424T123530
CREATED:20240430T210534Z
LAST-MODIFIED:20241111T234920Z
UID:10000122-1803809700-1803816000@callahanfbc.com
SUMMARY:Sunday Worship
DESCRIPTION:Join us every Sunday morning for Worship at Callahan First Baptist Church. We can’t wait to see you this Sunday!
URL:https://callahanfbc.com/event/sunday-worship/2027-02-28/
LOCATION:Callahan First Baptist\, 45090 Green Ave\, Callahan\, FL\, 32011\, United States
CATEGORIES:Sunday Worship
ATTACH;FMTTYPE=image/jpeg:https://callahanfbc.com/wp-content/uploads/2024/04/3T6A1789.jpg
END:VEVENT
BEGIN:VEVENT
DTSTART;TZID=UTC:20270303T184500
DTEND;TZID=UTC:20270303T200000
DTSTAMP:20260424T123530
CREATED:20241228T005006Z
LAST-MODIFIED:20241228T005410Z
UID:10001355-1804099500-1804104000@callahanfbc.com
SUMMARY:Wednesday Activities
DESCRIPTION:Join us on Wednesdays for a full evening of connection\, worship\, and growth for all ages! We start with a delicious\, family-style dinner at 5:15 PM in the gym\, followed by activities and small groups for every age. Whether you’re looking for a Bible study\, youth group\, or a fun\, faith-filled program for kids\, there’s something for everyone. Come be a part of our midweek gathering as we grow in faith and fellowship together! \nCheck out our current Bible studies here.
URL:https://callahanfbc.com/event/ladies-bible-study-2/2027-03-03/
LOCATION:Callahan First Baptist\, 45090 Green Ave\, Callahan\, FL\, 32011\, United States
ATTACH;FMTTYPE=image/jpeg:https://callahanfbc.com/wp-content/uploads/2024/04/Drone-shot-1.jpg
END:VEVENT
BEGIN:VEVENT
DTSTART;TZID=America/New_York:20270304T100000
DTEND;TZID=America/New_York:20270304T120000
DTSTAMP:20260424T123530
CREATED:20260203T131525Z
LAST-MODIFIED:20260203T131525Z
UID:10003760-1804154400-1804161600@callahanfbc.com
SUMMARY:Storehouse Morning Giveaway
DESCRIPTION:Come join us for our free food giveaway this morning from 10 am- 12 pm. Everyone is welcome to receive free groceries hand packed by our volunteers. Limit two families per vehicle.
URL:https://callahanfbc.com/event/storehouse-morning-giveaway/2027-03-04/
LOCATION:Callahan First Baptist\, 45090 Green Ave\, Callahan\, FL\, 32011\, United States
CATEGORIES:Community Impact
ATTACH;FMTTYPE=image/jpeg:https://callahanfbc.com/wp-content/uploads/2024/11/Storehouse-Truck.jpg
END:VEVENT
BEGIN:VEVENT
DTSTART;TZID=UTC:20270307T101500
DTEND;TZID=UTC:20270307T120000
DTSTAMP:20260424T123530
CREATED:20240430T210534Z
LAST-MODIFIED:20241111T234920Z
UID:10000123-1804414500-1804420800@callahanfbc.com
SUMMARY:Sunday Worship
DESCRIPTION:Join us every Sunday morning for Worship at Callahan First Baptist Church. We can’t wait to see you this Sunday!
URL:https://callahanfbc.com/event/sunday-worship/2027-03-07/
LOCATION:Callahan First Baptist\, 45090 Green Ave\, Callahan\, FL\, 32011\, United States
CATEGORIES:Sunday Worship
ATTACH;FMTTYPE=image/jpeg:https://callahanfbc.com/wp-content/uploads/2024/04/3T6A1789.jpg
END:VEVENT
BEGIN:VEVENT
DTSTART;TZID=UTC:20270310T184500
DTEND;TZID=UTC:20270310T200000
DTSTAMP:20260424T123530
CREATED:20241228T005006Z
LAST-MODIFIED:20241228T005410Z
UID:10001356-1804704300-1804708800@callahanfbc.com
SUMMARY:Wednesday Activities
DESCRIPTION:Join us on Wednesdays for a full evening of connection\, worship\, and growth for all ages! We start with a delicious\, family-style dinner at 5:15 PM in the gym\, followed by activities and small groups for every age. Whether you’re looking for a Bible study\, youth group\, or a fun\, faith-filled program for kids\, there’s something for everyone. Come be a part of our midweek gathering as we grow in faith and fellowship together! \nCheck out our current Bible studies here.
URL:https://callahanfbc.com/event/ladies-bible-study-2/2027-03-10/
LOCATION:Callahan First Baptist\, 45090 Green Ave\, Callahan\, FL\, 32011\, United States
ATTACH;FMTTYPE=image/jpeg:https://callahanfbc.com/wp-content/uploads/2024/04/Drone-shot-1.jpg
END:VEVENT
BEGIN:VEVENT
DTSTART;TZID=UTC:20270314T101500
DTEND;TZID=UTC:20270314T120000
DTSTAMP:20260424T123530
CREATED:20240430T210534Z
LAST-MODIFIED:20241111T234920Z
UID:10000124-1805019300-1805025600@callahanfbc.com
SUMMARY:Sunday Worship
DESCRIPTION:Join us every Sunday morning for Worship at Callahan First Baptist Church. We can’t wait to see you this Sunday!
URL:https://callahanfbc.com/event/sunday-worship/2027-03-14/
LOCATION:Callahan First Baptist\, 45090 Green Ave\, Callahan\, FL\, 32011\, United States
CATEGORIES:Sunday Worship
ATTACH;FMTTYPE=image/jpeg:https://callahanfbc.com/wp-content/uploads/2024/04/3T6A1789.jpg
END:VEVENT
BEGIN:VEVENT
DTSTART;TZID=UTC:20270317T184500
DTEND;TZID=UTC:20270317T200000
DTSTAMP:20260424T123530
CREATED:20241228T005006Z
LAST-MODIFIED:20241228T005410Z
UID:10001357-1805309100-1805313600@callahanfbc.com
SUMMARY:Wednesday Activities
DESCRIPTION:Join us on Wednesdays for a full evening of connection\, worship\, and growth for all ages! We start with a delicious\, family-style dinner at 5:15 PM in the gym\, followed by activities and small groups for every age. Whether you’re looking for a Bible study\, youth group\, or a fun\, faith-filled program for kids\, there’s something for everyone. Come be a part of our midweek gathering as we grow in faith and fellowship together! \nCheck out our current Bible studies here.
URL:https://callahanfbc.com/event/ladies-bible-study-2/2027-03-17/
LOCATION:Callahan First Baptist\, 45090 Green Ave\, Callahan\, FL\, 32011\, United States
ATTACH;FMTTYPE=image/jpeg:https://callahanfbc.com/wp-content/uploads/2024/04/Drone-shot-1.jpg
END:VEVENT
BEGIN:VEVENT
DTSTART;TZID=America/New_York:20270318T163000
DTEND;TZID=America/New_York:20270318T183000
DTSTAMP:20260424T123530
CREATED:20260203T131705Z
LAST-MODIFIED:20260203T131705Z
UID:10003820-1805387400-1805394600@callahanfbc.com
SUMMARY:Storehouse Afternoon Giveaway
DESCRIPTION:Come join us for our free food giveaway this afternoon from 4:30-6:30 PM. Everyone is welcome to receive free groceries hand packed by our volunteers. Limit two families per vehicle.
URL:https://callahanfbc.com/event/storehouse-afternoon-giveaway/2027-03-18/
LOCATION:Callahan First Baptist\, 45090 Green Ave\, Callahan\, FL\, 32011\, United States
ATTACH;FMTTYPE=image/jpeg:https://callahanfbc.com/wp-content/uploads/2024/11/Storehouse-Truck.jpg
END:VEVENT
BEGIN:VEVENT
DTSTART;TZID=UTC:20270321T101500
DTEND;TZID=UTC:20270321T120000
DTSTAMP:20260424T123530
CREATED:20240430T210534Z
LAST-MODIFIED:20241111T234920Z
UID:10000125-1805624100-1805630400@callahanfbc.com
SUMMARY:Sunday Worship
DESCRIPTION:Join us every Sunday morning for Worship at Callahan First Baptist Church. We can’t wait to see you this Sunday!
URL:https://callahanfbc.com/event/sunday-worship/2027-03-21/
LOCATION:Callahan First Baptist\, 45090 Green Ave\, Callahan\, FL\, 32011\, United States
CATEGORIES:Sunday Worship
ATTACH;FMTTYPE=image/jpeg:https://callahanfbc.com/wp-content/uploads/2024/04/3T6A1789.jpg
END:VEVENT
BEGIN:VEVENT
DTSTART;TZID=UTC:20270324T184500
DTEND;TZID=UTC:20270324T200000
DTSTAMP:20260424T123530
CREATED:20241228T005006Z
LAST-MODIFIED:20241228T005410Z
UID:10001358-1805913900-1805918400@callahanfbc.com
SUMMARY:Wednesday Activities
DESCRIPTION:Join us on Wednesdays for a full evening of connection\, worship\, and growth for all ages! We start with a delicious\, family-style dinner at 5:15 PM in the gym\, followed by activities and small groups for every age. Whether you’re looking for a Bible study\, youth group\, or a fun\, faith-filled program for kids\, there’s something for everyone. Come be a part of our midweek gathering as we grow in faith and fellowship together! \nCheck out our current Bible studies here.
URL:https://callahanfbc.com/event/ladies-bible-study-2/2027-03-24/
LOCATION:Callahan First Baptist\, 45090 Green Ave\, Callahan\, FL\, 32011\, United States
ATTACH;FMTTYPE=image/jpeg:https://callahanfbc.com/wp-content/uploads/2024/04/Drone-shot-1.jpg
END:VEVENT
BEGIN:VEVENT
DTSTART;TZID=America/New_York:20270325T100000
DTEND;TZID=America/New_York:20270325T120000
DTSTAMP:20260424T123530
CREATED:20260203T151527Z
LAST-MODIFIED:20260203T151527Z
UID:10003882-1805968800-1805976000@callahanfbc.com
SUMMARY:FAM Closet Open
DESCRIPTION:Foster and Adoption Ministry \nWelcome all families who are currently fostering or in the process of adopting. We’d love the opportunity to bless you and your family with your own food giveaway\, and open up our FAM Closet for you to come ‘shop’ around for the needs of your house. Peruse the clothes\, items\, and other equipment you might need to help you and the children in your home.
URL:https://callahanfbc.com/event/fam-closet-open/2027-03-25/
LOCATION:Callahan First Baptist\, 45090 Green Ave\, Callahan\, FL\, 32011\, United States
CATEGORIES:Community Impact,Missions
ATTACH;FMTTYPE=image/jpeg:https://callahanfbc.com/wp-content/uploads/2024/11/3T6A0226.jpg
END:VEVENT
BEGIN:VEVENT
DTSTART;TZID=UTC:20270328T101500
DTEND;TZID=UTC:20270328T120000
DTSTAMP:20260424T123530
CREATED:20240430T210534Z
LAST-MODIFIED:20241111T234920Z
UID:10000126-1806228900-1806235200@callahanfbc.com
SUMMARY:Sunday Worship
DESCRIPTION:Join us every Sunday morning for Worship at Callahan First Baptist Church. We can’t wait to see you this Sunday!
URL:https://callahanfbc.com/event/sunday-worship/2027-03-28/
LOCATION:Callahan First Baptist\, 45090 Green Ave\, Callahan\, FL\, 32011\, United States
CATEGORIES:Sunday Worship
ATTACH;FMTTYPE=image/jpeg:https://callahanfbc.com/wp-content/uploads/2024/04/3T6A1789.jpg
END:VEVENT
BEGIN:VEVENT
DTSTART;TZID=UTC:20270331T184500
DTEND;TZID=UTC:20270331T200000
DTSTAMP:20260424T123530
CREATED:20241228T005006Z
LAST-MODIFIED:20241228T005410Z
UID:10001359-1806518700-1806523200@callahanfbc.com
SUMMARY:Wednesday Activities
DESCRIPTION:Join us on Wednesdays for a full evening of connection\, worship\, and growth for all ages! We start with a delicious\, family-style dinner at 5:15 PM in the gym\, followed by activities and small groups for every age. Whether you’re looking for a Bible study\, youth group\, or a fun\, faith-filled program for kids\, there’s something for everyone. Come be a part of our midweek gathering as we grow in faith and fellowship together! \nCheck out our current Bible studies here.
URL:https://callahanfbc.com/event/ladies-bible-study-2/2027-03-31/
LOCATION:Callahan First Baptist\, 45090 Green Ave\, Callahan\, FL\, 32011\, United States
ATTACH;FMTTYPE=image/jpeg:https://callahanfbc.com/wp-content/uploads/2024/04/Drone-shot-1.jpg
END:VEVENT
BEGIN:VEVENT
DTSTART;TZID=America/New_York:20270401T100000
DTEND;TZID=America/New_York:20270401T120000
DTSTAMP:20260424T123530
CREATED:20260203T131525Z
LAST-MODIFIED:20260203T131525Z
UID:10003761-1806573600-1806580800@callahanfbc.com
SUMMARY:Storehouse Morning Giveaway
DESCRIPTION:Come join us for our free food giveaway this morning from 10 am- 12 pm. Everyone is welcome to receive free groceries hand packed by our volunteers. Limit two families per vehicle.
URL:https://callahanfbc.com/event/storehouse-morning-giveaway/2027-04-01/
LOCATION:Callahan First Baptist\, 45090 Green Ave\, Callahan\, FL\, 32011\, United States
CATEGORIES:Community Impact
ATTACH;FMTTYPE=image/jpeg:https://callahanfbc.com/wp-content/uploads/2024/11/Storehouse-Truck.jpg
END:VEVENT
BEGIN:VEVENT
DTSTART;TZID=UTC:20270404T101500
DTEND;TZID=UTC:20270404T120000
DTSTAMP:20260424T123530
CREATED:20240430T210534Z
LAST-MODIFIED:20241111T234920Z
UID:10000127-1806833700-1806840000@callahanfbc.com
SUMMARY:Sunday Worship
DESCRIPTION:Join us every Sunday morning for Worship at Callahan First Baptist Church. We can’t wait to see you this Sunday!
URL:https://callahanfbc.com/event/sunday-worship/2027-04-04/
LOCATION:Callahan First Baptist\, 45090 Green Ave\, Callahan\, FL\, 32011\, United States
CATEGORIES:Sunday Worship
ATTACH;FMTTYPE=image/jpeg:https://callahanfbc.com/wp-content/uploads/2024/04/3T6A1789.jpg
END:VEVENT
BEGIN:VEVENT
DTSTART;TZID=UTC:20270407T184500
DTEND;TZID=UTC:20270407T200000
DTSTAMP:20260424T123530
CREATED:20241228T005006Z
LAST-MODIFIED:20241228T005410Z
UID:10001360-1807123500-1807128000@callahanfbc.com
SUMMARY:Wednesday Activities
DESCRIPTION:Join us on Wednesdays for a full evening of connection\, worship\, and growth for all ages! We start with a delicious\, family-style dinner at 5:15 PM in the gym\, followed by activities and small groups for every age. Whether you’re looking for a Bible study\, youth group\, or a fun\, faith-filled program for kids\, there’s something for everyone. Come be a part of our midweek gathering as we grow in faith and fellowship together! \nCheck out our current Bible studies here.
URL:https://callahanfbc.com/event/ladies-bible-study-2/2027-04-07/
LOCATION:Callahan First Baptist\, 45090 Green Ave\, Callahan\, FL\, 32011\, United States
ATTACH;FMTTYPE=image/jpeg:https://callahanfbc.com/wp-content/uploads/2024/04/Drone-shot-1.jpg
END:VEVENT
BEGIN:VEVENT
DTSTART;TZID=UTC:20270411T101500
DTEND;TZID=UTC:20270411T120000
DTSTAMP:20260424T123530
CREATED:20240430T210534Z
LAST-MODIFIED:20241111T234920Z
UID:10000128-1807438500-1807444800@callahanfbc.com
SUMMARY:Sunday Worship
DESCRIPTION:Join us every Sunday morning for Worship at Callahan First Baptist Church. We can’t wait to see you this Sunday!
URL:https://callahanfbc.com/event/sunday-worship/2027-04-11/
LOCATION:Callahan First Baptist\, 45090 Green Ave\, Callahan\, FL\, 32011\, United States
CATEGORIES:Sunday Worship
ATTACH;FMTTYPE=image/jpeg:https://callahanfbc.com/wp-content/uploads/2024/04/3T6A1789.jpg
END:VEVENT
END:VCALENDAR