BEGIN:VCALENDAR
VERSION:2.0
PRODID:-//Callahan First Baptist Church - ECPv6.15.20//NONSGML v1.0//EN
CALSCALE:GREGORIAN
METHOD:PUBLISH
X-WR-CALNAME:Callahan First Baptist Church
X-ORIGINAL-URL:https://callahanfbc.com
X-WR-CALDESC:Events for Callahan First Baptist Church
REFRESH-INTERVAL;VALUE=DURATION:PT1H
X-Robots-Tag:noindex
X-PUBLISHED-TTL:PT1H
BEGIN:VTIMEZONE
TZID:America/New_York
BEGIN:DAYLIGHT
TZOFFSETFROM:-0500
TZOFFSETTO:-0400
TZNAME:EDT
DTSTART:20260308T070000
END:DAYLIGHT
BEGIN:STANDARD
TZOFFSETFROM:-0400
TZOFFSETTO:-0500
TZNAME:EST
DTSTART:20261101T060000
END:STANDARD
BEGIN:DAYLIGHT
TZOFFSETFROM:-0500
TZOFFSETTO:-0400
TZNAME:EDT
DTSTART:20270314T070000
END:DAYLIGHT
BEGIN:STANDARD
TZOFFSETFROM:-0400
TZOFFSETTO:-0500
TZNAME:EST
DTSTART:20271107T060000
END:STANDARD
BEGIN:DAYLIGHT
TZOFFSETFROM:-0500
TZOFFSETTO:-0400
TZNAME:EDT
DTSTART:20280312T070000
END:DAYLIGHT
BEGIN:STANDARD
TZOFFSETFROM:-0400
TZOFFSETTO:-0500
TZNAME:EST
DTSTART:20281105T060000
END:STANDARD
END:VTIMEZONE
BEGIN:VTIMEZONE
TZID:UTC
BEGIN:STANDARD
TZOFFSETFROM:+0000
TZOFFSETTO:+0000
TZNAME:UTC
DTSTART:20260101T000000
END:STANDARD
END:VTIMEZONE
BEGIN:VEVENT
DTSTART;TZID=America/New_York:20270318T163000
DTEND;TZID=America/New_York:20270318T183000
DTSTAMP:20260424T154928
CREATED:20260203T131705Z
LAST-MODIFIED:20260203T131705Z
UID:10003820-1805387400-1805394600@callahanfbc.com
SUMMARY:Storehouse Afternoon Giveaway
DESCRIPTION:Come join us for our free food giveaway this afternoon from 4:30-6:30 PM. Everyone is welcome to receive free groceries hand packed by our volunteers. Limit two families per vehicle.
URL:https://callahanfbc.com/event/storehouse-afternoon-giveaway/2027-03-18/
LOCATION:Callahan First Baptist\, 45090 Green Ave\, Callahan\, FL\, 32011\, United States
ATTACH;FMTTYPE=image/jpeg:https://callahanfbc.com/wp-content/uploads/2024/11/Storehouse-Truck.jpg
END:VEVENT
BEGIN:VEVENT
DTSTART;TZID=UTC:20270321T101500
DTEND;TZID=UTC:20270321T120000
DTSTAMP:20260424T154928
CREATED:20240430T210534Z
LAST-MODIFIED:20241111T234920Z
UID:10000125-1805624100-1805630400@callahanfbc.com
SUMMARY:Sunday Worship
DESCRIPTION:Join us every Sunday morning for Worship at Callahan First Baptist Church. We can’t wait to see you this Sunday!
URL:https://callahanfbc.com/event/sunday-worship/2027-03-21/
LOCATION:Callahan First Baptist\, 45090 Green Ave\, Callahan\, FL\, 32011\, United States
CATEGORIES:Sunday Worship
ATTACH;FMTTYPE=image/jpeg:https://callahanfbc.com/wp-content/uploads/2024/04/3T6A1789.jpg
END:VEVENT
BEGIN:VEVENT
DTSTART;TZID=UTC:20270324T184500
DTEND;TZID=UTC:20270324T200000
DTSTAMP:20260424T154928
CREATED:20241228T005006Z
LAST-MODIFIED:20241228T005410Z
UID:10001358-1805913900-1805918400@callahanfbc.com
SUMMARY:Wednesday Activities
DESCRIPTION:Join us on Wednesdays for a full evening of connection\, worship\, and growth for all ages! We start with a delicious\, family-style dinner at 5:15 PM in the gym\, followed by activities and small groups for every age. Whether you’re looking for a Bible study\, youth group\, or a fun\, faith-filled program for kids\, there’s something for everyone. Come be a part of our midweek gathering as we grow in faith and fellowship together! \nCheck out our current Bible studies here.
URL:https://callahanfbc.com/event/ladies-bible-study-2/2027-03-24/
LOCATION:Callahan First Baptist\, 45090 Green Ave\, Callahan\, FL\, 32011\, United States
ATTACH;FMTTYPE=image/jpeg:https://callahanfbc.com/wp-content/uploads/2024/04/Drone-shot-1.jpg
END:VEVENT
BEGIN:VEVENT
DTSTART;TZID=America/New_York:20270325T100000
DTEND;TZID=America/New_York:20270325T120000
DTSTAMP:20260424T154928
CREATED:20260203T151527Z
LAST-MODIFIED:20260203T151527Z
UID:10003882-1805968800-1805976000@callahanfbc.com
SUMMARY:FAM Closet Open
DESCRIPTION:Foster and Adoption Ministry \nWelcome all families who are currently fostering or in the process of adopting. We’d love the opportunity to bless you and your family with your own food giveaway\, and open up our FAM Closet for you to come ‘shop’ around for the needs of your house. Peruse the clothes\, items\, and other equipment you might need to help you and the children in your home.
URL:https://callahanfbc.com/event/fam-closet-open/2027-03-25/
LOCATION:Callahan First Baptist\, 45090 Green Ave\, Callahan\, FL\, 32011\, United States
CATEGORIES:Community Impact,Missions
ATTACH;FMTTYPE=image/jpeg:https://callahanfbc.com/wp-content/uploads/2024/11/3T6A0226.jpg
END:VEVENT
BEGIN:VEVENT
DTSTART;TZID=UTC:20270328T101500
DTEND;TZID=UTC:20270328T120000
DTSTAMP:20260424T154928
CREATED:20240430T210534Z
LAST-MODIFIED:20241111T234920Z
UID:10000126-1806228900-1806235200@callahanfbc.com
SUMMARY:Sunday Worship
DESCRIPTION:Join us every Sunday morning for Worship at Callahan First Baptist Church. We can’t wait to see you this Sunday!
URL:https://callahanfbc.com/event/sunday-worship/2027-03-28/
LOCATION:Callahan First Baptist\, 45090 Green Ave\, Callahan\, FL\, 32011\, United States
CATEGORIES:Sunday Worship
ATTACH;FMTTYPE=image/jpeg:https://callahanfbc.com/wp-content/uploads/2024/04/3T6A1789.jpg
END:VEVENT
BEGIN:VEVENT
DTSTART;TZID=UTC:20270331T184500
DTEND;TZID=UTC:20270331T200000
DTSTAMP:20260424T154928
CREATED:20241228T005006Z
LAST-MODIFIED:20241228T005410Z
UID:10001359-1806518700-1806523200@callahanfbc.com
SUMMARY:Wednesday Activities
DESCRIPTION:Join us on Wednesdays for a full evening of connection\, worship\, and growth for all ages! We start with a delicious\, family-style dinner at 5:15 PM in the gym\, followed by activities and small groups for every age. Whether you’re looking for a Bible study\, youth group\, or a fun\, faith-filled program for kids\, there’s something for everyone. Come be a part of our midweek gathering as we grow in faith and fellowship together! \nCheck out our current Bible studies here.
URL:https://callahanfbc.com/event/ladies-bible-study-2/2027-03-31/
LOCATION:Callahan First Baptist\, 45090 Green Ave\, Callahan\, FL\, 32011\, United States
ATTACH;FMTTYPE=image/jpeg:https://callahanfbc.com/wp-content/uploads/2024/04/Drone-shot-1.jpg
END:VEVENT
BEGIN:VEVENT
DTSTART;TZID=America/New_York:20270401T100000
DTEND;TZID=America/New_York:20270401T120000
DTSTAMP:20260424T154928
CREATED:20260203T131525Z
LAST-MODIFIED:20260203T131525Z
UID:10003761-1806573600-1806580800@callahanfbc.com
SUMMARY:Storehouse Morning Giveaway
DESCRIPTION:Come join us for our free food giveaway this morning from 10 am- 12 pm. Everyone is welcome to receive free groceries hand packed by our volunteers. Limit two families per vehicle.
URL:https://callahanfbc.com/event/storehouse-morning-giveaway/2027-04-01/
LOCATION:Callahan First Baptist\, 45090 Green Ave\, Callahan\, FL\, 32011\, United States
CATEGORIES:Community Impact
ATTACH;FMTTYPE=image/jpeg:https://callahanfbc.com/wp-content/uploads/2024/11/Storehouse-Truck.jpg
END:VEVENT
BEGIN:VEVENT
DTSTART;TZID=UTC:20270404T101500
DTEND;TZID=UTC:20270404T120000
DTSTAMP:20260424T154928
CREATED:20240430T210534Z
LAST-MODIFIED:20241111T234920Z
UID:10000127-1806833700-1806840000@callahanfbc.com
SUMMARY:Sunday Worship
DESCRIPTION:Join us every Sunday morning for Worship at Callahan First Baptist Church. We can’t wait to see you this Sunday!
URL:https://callahanfbc.com/event/sunday-worship/2027-04-04/
LOCATION:Callahan First Baptist\, 45090 Green Ave\, Callahan\, FL\, 32011\, United States
CATEGORIES:Sunday Worship
ATTACH;FMTTYPE=image/jpeg:https://callahanfbc.com/wp-content/uploads/2024/04/3T6A1789.jpg
END:VEVENT
BEGIN:VEVENT
DTSTART;TZID=UTC:20270407T184500
DTEND;TZID=UTC:20270407T200000
DTSTAMP:20260424T154928
CREATED:20241228T005006Z
LAST-MODIFIED:20241228T005410Z
UID:10001360-1807123500-1807128000@callahanfbc.com
SUMMARY:Wednesday Activities
DESCRIPTION:Join us on Wednesdays for a full evening of connection\, worship\, and growth for all ages! We start with a delicious\, family-style dinner at 5:15 PM in the gym\, followed by activities and small groups for every age. Whether you’re looking for a Bible study\, youth group\, or a fun\, faith-filled program for kids\, there’s something for everyone. Come be a part of our midweek gathering as we grow in faith and fellowship together! \nCheck out our current Bible studies here.
URL:https://callahanfbc.com/event/ladies-bible-study-2/2027-04-07/
LOCATION:Callahan First Baptist\, 45090 Green Ave\, Callahan\, FL\, 32011\, United States
ATTACH;FMTTYPE=image/jpeg:https://callahanfbc.com/wp-content/uploads/2024/04/Drone-shot-1.jpg
END:VEVENT
BEGIN:VEVENT
DTSTART;TZID=UTC:20270411T101500
DTEND;TZID=UTC:20270411T120000
DTSTAMP:20260424T154928
CREATED:20240430T210534Z
LAST-MODIFIED:20241111T234920Z
UID:10000128-1807438500-1807444800@callahanfbc.com
SUMMARY:Sunday Worship
DESCRIPTION:Join us every Sunday morning for Worship at Callahan First Baptist Church. We can’t wait to see you this Sunday!
URL:https://callahanfbc.com/event/sunday-worship/2027-04-11/
LOCATION:Callahan First Baptist\, 45090 Green Ave\, Callahan\, FL\, 32011\, United States
CATEGORIES:Sunday Worship
ATTACH;FMTTYPE=image/jpeg:https://callahanfbc.com/wp-content/uploads/2024/04/3T6A1789.jpg
END:VEVENT
BEGIN:VEVENT
DTSTART;TZID=UTC:20270414T184500
DTEND;TZID=UTC:20270414T200000
DTSTAMP:20260424T154928
CREATED:20241228T005006Z
LAST-MODIFIED:20241228T005410Z
UID:10001361-1807728300-1807732800@callahanfbc.com
SUMMARY:Wednesday Activities
DESCRIPTION:Join us on Wednesdays for a full evening of connection\, worship\, and growth for all ages! We start with a delicious\, family-style dinner at 5:15 PM in the gym\, followed by activities and small groups for every age. Whether you’re looking for a Bible study\, youth group\, or a fun\, faith-filled program for kids\, there’s something for everyone. Come be a part of our midweek gathering as we grow in faith and fellowship together! \nCheck out our current Bible studies here.
URL:https://callahanfbc.com/event/ladies-bible-study-2/2027-04-14/
LOCATION:Callahan First Baptist\, 45090 Green Ave\, Callahan\, FL\, 32011\, United States
ATTACH;FMTTYPE=image/jpeg:https://callahanfbc.com/wp-content/uploads/2024/04/Drone-shot-1.jpg
END:VEVENT
BEGIN:VEVENT
DTSTART;TZID=America/New_York:20270415T163000
DTEND;TZID=America/New_York:20270415T183000
DTSTAMP:20260424T154928
CREATED:20260203T131705Z
LAST-MODIFIED:20260203T131705Z
UID:10003821-1807806600-1807813800@callahanfbc.com
SUMMARY:Storehouse Afternoon Giveaway
DESCRIPTION:Come join us for our free food giveaway this afternoon from 4:30-6:30 PM. Everyone is welcome to receive free groceries hand packed by our volunteers. Limit two families per vehicle.
URL:https://callahanfbc.com/event/storehouse-afternoon-giveaway/2027-04-15/
LOCATION:Callahan First Baptist\, 45090 Green Ave\, Callahan\, FL\, 32011\, United States
ATTACH;FMTTYPE=image/jpeg:https://callahanfbc.com/wp-content/uploads/2024/11/Storehouse-Truck.jpg
END:VEVENT
BEGIN:VEVENT
DTSTART;TZID=UTC:20270418T101500
DTEND;TZID=UTC:20270418T120000
DTSTAMP:20260424T154928
CREATED:20240430T210534Z
LAST-MODIFIED:20241111T234920Z
UID:10000129-1808043300-1808049600@callahanfbc.com
SUMMARY:Sunday Worship
DESCRIPTION:Join us every Sunday morning for Worship at Callahan First Baptist Church. We can’t wait to see you this Sunday!
URL:https://callahanfbc.com/event/sunday-worship/2027-04-18/
LOCATION:Callahan First Baptist\, 45090 Green Ave\, Callahan\, FL\, 32011\, United States
CATEGORIES:Sunday Worship
ATTACH;FMTTYPE=image/jpeg:https://callahanfbc.com/wp-content/uploads/2024/04/3T6A1789.jpg
END:VEVENT
BEGIN:VEVENT
DTSTART;TZID=UTC:20270421T184500
DTEND;TZID=UTC:20270421T200000
DTSTAMP:20260424T154928
CREATED:20241228T005006Z
LAST-MODIFIED:20241228T005410Z
UID:10001362-1808333100-1808337600@callahanfbc.com
SUMMARY:Wednesday Activities
DESCRIPTION:Join us on Wednesdays for a full evening of connection\, worship\, and growth for all ages! We start with a delicious\, family-style dinner at 5:15 PM in the gym\, followed by activities and small groups for every age. Whether you’re looking for a Bible study\, youth group\, or a fun\, faith-filled program for kids\, there’s something for everyone. Come be a part of our midweek gathering as we grow in faith and fellowship together! \nCheck out our current Bible studies here.
URL:https://callahanfbc.com/event/ladies-bible-study-2/2027-04-21/
LOCATION:Callahan First Baptist\, 45090 Green Ave\, Callahan\, FL\, 32011\, United States
ATTACH;FMTTYPE=image/jpeg:https://callahanfbc.com/wp-content/uploads/2024/04/Drone-shot-1.jpg
END:VEVENT
BEGIN:VEVENT
DTSTART;TZID=America/New_York:20270422T100000
DTEND;TZID=America/New_York:20270422T120000
DTSTAMP:20260424T154928
CREATED:20260203T151527Z
LAST-MODIFIED:20260203T151527Z
UID:10003883-1808388000-1808395200@callahanfbc.com
SUMMARY:FAM Closet Open
DESCRIPTION:Foster and Adoption Ministry \nWelcome all families who are currently fostering or in the process of adopting. We’d love the opportunity to bless you and your family with your own food giveaway\, and open up our FAM Closet for you to come ‘shop’ around for the needs of your house. Peruse the clothes\, items\, and other equipment you might need to help you and the children in your home.
URL:https://callahanfbc.com/event/fam-closet-open/2027-04-22/
LOCATION:Callahan First Baptist\, 45090 Green Ave\, Callahan\, FL\, 32011\, United States
CATEGORIES:Community Impact,Missions
ATTACH;FMTTYPE=image/jpeg:https://callahanfbc.com/wp-content/uploads/2024/11/3T6A0226.jpg
END:VEVENT
BEGIN:VEVENT
DTSTART;TZID=UTC:20270425T101500
DTEND;TZID=UTC:20270425T120000
DTSTAMP:20260424T154928
CREATED:20240430T210534Z
LAST-MODIFIED:20241111T234920Z
UID:10000130-1808648100-1808654400@callahanfbc.com
SUMMARY:Sunday Worship
DESCRIPTION:Join us every Sunday morning for Worship at Callahan First Baptist Church. We can’t wait to see you this Sunday!
URL:https://callahanfbc.com/event/sunday-worship/2027-04-25/
LOCATION:Callahan First Baptist\, 45090 Green Ave\, Callahan\, FL\, 32011\, United States
CATEGORIES:Sunday Worship
ATTACH;FMTTYPE=image/jpeg:https://callahanfbc.com/wp-content/uploads/2024/04/3T6A1789.jpg
END:VEVENT
BEGIN:VEVENT
DTSTART;TZID=UTC:20270428T184500
DTEND;TZID=UTC:20270428T200000
DTSTAMP:20260424T154928
CREATED:20241228T005006Z
LAST-MODIFIED:20241228T005410Z
UID:10001363-1808937900-1808942400@callahanfbc.com
SUMMARY:Wednesday Activities
DESCRIPTION:Join us on Wednesdays for a full evening of connection\, worship\, and growth for all ages! We start with a delicious\, family-style dinner at 5:15 PM in the gym\, followed by activities and small groups for every age. Whether you’re looking for a Bible study\, youth group\, or a fun\, faith-filled program for kids\, there’s something for everyone. Come be a part of our midweek gathering as we grow in faith and fellowship together! \nCheck out our current Bible studies here.
URL:https://callahanfbc.com/event/ladies-bible-study-2/2027-04-28/
LOCATION:Callahan First Baptist\, 45090 Green Ave\, Callahan\, FL\, 32011\, United States
ATTACH;FMTTYPE=image/jpeg:https://callahanfbc.com/wp-content/uploads/2024/04/Drone-shot-1.jpg
END:VEVENT
BEGIN:VEVENT
DTSTART;TZID=UTC:20270502T101500
DTEND;TZID=UTC:20270502T120000
DTSTAMP:20260424T154928
CREATED:20240430T210534Z
LAST-MODIFIED:20241111T234920Z
UID:10000131-1809252900-1809259200@callahanfbc.com
SUMMARY:Sunday Worship
DESCRIPTION:Join us every Sunday morning for Worship at Callahan First Baptist Church. We can’t wait to see you this Sunday!
URL:https://callahanfbc.com/event/sunday-worship/2027-05-02/
LOCATION:Callahan First Baptist\, 45090 Green Ave\, Callahan\, FL\, 32011\, United States
CATEGORIES:Sunday Worship
ATTACH;FMTTYPE=image/jpeg:https://callahanfbc.com/wp-content/uploads/2024/04/3T6A1789.jpg
END:VEVENT
BEGIN:VEVENT
DTSTART;TZID=UTC:20270505T184500
DTEND;TZID=UTC:20270505T200000
DTSTAMP:20260424T154928
CREATED:20241228T005006Z
LAST-MODIFIED:20241228T005410Z
UID:10001364-1809542700-1809547200@callahanfbc.com
SUMMARY:Wednesday Activities
DESCRIPTION:Join us on Wednesdays for a full evening of connection\, worship\, and growth for all ages! We start with a delicious\, family-style dinner at 5:15 PM in the gym\, followed by activities and small groups for every age. Whether you’re looking for a Bible study\, youth group\, or a fun\, faith-filled program for kids\, there’s something for everyone. Come be a part of our midweek gathering as we grow in faith and fellowship together! \nCheck out our current Bible studies here.
URL:https://callahanfbc.com/event/ladies-bible-study-2/2027-05-05/
LOCATION:Callahan First Baptist\, 45090 Green Ave\, Callahan\, FL\, 32011\, United States
ATTACH;FMTTYPE=image/jpeg:https://callahanfbc.com/wp-content/uploads/2024/04/Drone-shot-1.jpg
END:VEVENT
BEGIN:VEVENT
DTSTART;TZID=America/New_York:20270506T100000
DTEND;TZID=America/New_York:20270506T120000
DTSTAMP:20260424T154928
CREATED:20260203T131525Z
LAST-MODIFIED:20260203T131525Z
UID:10003762-1809597600-1809604800@callahanfbc.com
SUMMARY:Storehouse Morning Giveaway
DESCRIPTION:Come join us for our free food giveaway this morning from 10 am- 12 pm. Everyone is welcome to receive free groceries hand packed by our volunteers. Limit two families per vehicle.
URL:https://callahanfbc.com/event/storehouse-morning-giveaway/2027-05-06/
LOCATION:Callahan First Baptist\, 45090 Green Ave\, Callahan\, FL\, 32011\, United States
CATEGORIES:Community Impact
ATTACH;FMTTYPE=image/jpeg:https://callahanfbc.com/wp-content/uploads/2024/11/Storehouse-Truck.jpg
END:VEVENT
BEGIN:VEVENT
DTSTART;TZID=UTC:20270509T101500
DTEND;TZID=UTC:20270509T120000
DTSTAMP:20260424T154928
CREATED:20240430T210534Z
LAST-MODIFIED:20241111T234920Z
UID:10000132-1809857700-1809864000@callahanfbc.com
SUMMARY:Sunday Worship
DESCRIPTION:Join us every Sunday morning for Worship at Callahan First Baptist Church. We can’t wait to see you this Sunday!
URL:https://callahanfbc.com/event/sunday-worship/2027-05-09/
LOCATION:Callahan First Baptist\, 45090 Green Ave\, Callahan\, FL\, 32011\, United States
CATEGORIES:Sunday Worship
ATTACH;FMTTYPE=image/jpeg:https://callahanfbc.com/wp-content/uploads/2024/04/3T6A1789.jpg
END:VEVENT
BEGIN:VEVENT
DTSTART;TZID=UTC:20270512T184500
DTEND;TZID=UTC:20270512T200000
DTSTAMP:20260424T154928
CREATED:20241228T005006Z
LAST-MODIFIED:20241228T005410Z
UID:10001365-1810147500-1810152000@callahanfbc.com
SUMMARY:Wednesday Activities
DESCRIPTION:Join us on Wednesdays for a full evening of connection\, worship\, and growth for all ages! We start with a delicious\, family-style dinner at 5:15 PM in the gym\, followed by activities and small groups for every age. Whether you’re looking for a Bible study\, youth group\, or a fun\, faith-filled program for kids\, there’s something for everyone. Come be a part of our midweek gathering as we grow in faith and fellowship together! \nCheck out our current Bible studies here.
URL:https://callahanfbc.com/event/ladies-bible-study-2/2027-05-12/
LOCATION:Callahan First Baptist\, 45090 Green Ave\, Callahan\, FL\, 32011\, United States
ATTACH;FMTTYPE=image/jpeg:https://callahanfbc.com/wp-content/uploads/2024/04/Drone-shot-1.jpg
END:VEVENT
BEGIN:VEVENT
DTSTART;TZID=UTC:20270516T101500
DTEND;TZID=UTC:20270516T120000
DTSTAMP:20260424T154928
CREATED:20240430T210534Z
LAST-MODIFIED:20241111T234920Z
UID:10000133-1810462500-1810468800@callahanfbc.com
SUMMARY:Sunday Worship
DESCRIPTION:Join us every Sunday morning for Worship at Callahan First Baptist Church. We can’t wait to see you this Sunday!
URL:https://callahanfbc.com/event/sunday-worship/2027-05-16/
LOCATION:Callahan First Baptist\, 45090 Green Ave\, Callahan\, FL\, 32011\, United States
CATEGORIES:Sunday Worship
ATTACH;FMTTYPE=image/jpeg:https://callahanfbc.com/wp-content/uploads/2024/04/3T6A1789.jpg
END:VEVENT
BEGIN:VEVENT
DTSTART;TZID=UTC:20270519T184500
DTEND;TZID=UTC:20270519T200000
DTSTAMP:20260424T154928
CREATED:20241228T005006Z
LAST-MODIFIED:20241228T005410Z
UID:10001366-1810752300-1810756800@callahanfbc.com
SUMMARY:Wednesday Activities
DESCRIPTION:Join us on Wednesdays for a full evening of connection\, worship\, and growth for all ages! We start with a delicious\, family-style dinner at 5:15 PM in the gym\, followed by activities and small groups for every age. Whether you’re looking for a Bible study\, youth group\, or a fun\, faith-filled program for kids\, there’s something for everyone. Come be a part of our midweek gathering as we grow in faith and fellowship together! \nCheck out our current Bible studies here.
URL:https://callahanfbc.com/event/ladies-bible-study-2/2027-05-19/
LOCATION:Callahan First Baptist\, 45090 Green Ave\, Callahan\, FL\, 32011\, United States
ATTACH;FMTTYPE=image/jpeg:https://callahanfbc.com/wp-content/uploads/2024/04/Drone-shot-1.jpg
END:VEVENT
BEGIN:VEVENT
DTSTART;TZID=America/New_York:20270520T163000
DTEND;TZID=America/New_York:20270520T183000
DTSTAMP:20260424T154928
CREATED:20260203T131705Z
LAST-MODIFIED:20260203T131705Z
UID:10003822-1810830600-1810837800@callahanfbc.com
SUMMARY:Storehouse Afternoon Giveaway
DESCRIPTION:Come join us for our free food giveaway this afternoon from 4:30-6:30 PM. Everyone is welcome to receive free groceries hand packed by our volunteers. Limit two families per vehicle.
URL:https://callahanfbc.com/event/storehouse-afternoon-giveaway/2027-05-20/
LOCATION:Callahan First Baptist\, 45090 Green Ave\, Callahan\, FL\, 32011\, United States
ATTACH;FMTTYPE=image/jpeg:https://callahanfbc.com/wp-content/uploads/2024/11/Storehouse-Truck.jpg
END:VEVENT
BEGIN:VEVENT
DTSTART;TZID=UTC:20270523T101500
DTEND;TZID=UTC:20270523T120000
DTSTAMP:20260424T154928
CREATED:20240430T210534Z
LAST-MODIFIED:20241111T234920Z
UID:10000134-1811067300-1811073600@callahanfbc.com
SUMMARY:Sunday Worship
DESCRIPTION:Join us every Sunday morning for Worship at Callahan First Baptist Church. We can’t wait to see you this Sunday!
URL:https://callahanfbc.com/event/sunday-worship/2027-05-23/
LOCATION:Callahan First Baptist\, 45090 Green Ave\, Callahan\, FL\, 32011\, United States
CATEGORIES:Sunday Worship
ATTACH;FMTTYPE=image/jpeg:https://callahanfbc.com/wp-content/uploads/2024/04/3T6A1789.jpg
END:VEVENT
BEGIN:VEVENT
DTSTART;TZID=UTC:20270526T184500
DTEND;TZID=UTC:20270526T200000
DTSTAMP:20260424T154928
CREATED:20241228T005006Z
LAST-MODIFIED:20241228T005410Z
UID:10001367-1811357100-1811361600@callahanfbc.com
SUMMARY:Wednesday Activities
DESCRIPTION:Join us on Wednesdays for a full evening of connection\, worship\, and growth for all ages! We start with a delicious\, family-style dinner at 5:15 PM in the gym\, followed by activities and small groups for every age. Whether you’re looking for a Bible study\, youth group\, or a fun\, faith-filled program for kids\, there’s something for everyone. Come be a part of our midweek gathering as we grow in faith and fellowship together! \nCheck out our current Bible studies here.
URL:https://callahanfbc.com/event/ladies-bible-study-2/2027-05-26/
LOCATION:Callahan First Baptist\, 45090 Green Ave\, Callahan\, FL\, 32011\, United States
ATTACH;FMTTYPE=image/jpeg:https://callahanfbc.com/wp-content/uploads/2024/04/Drone-shot-1.jpg
END:VEVENT
BEGIN:VEVENT
DTSTART;TZID=America/New_York:20270527T100000
DTEND;TZID=America/New_York:20270527T120000
DTSTAMP:20260424T154928
CREATED:20260203T151527Z
LAST-MODIFIED:20260203T151527Z
UID:10003884-1811412000-1811419200@callahanfbc.com
SUMMARY:FAM Closet Open
DESCRIPTION:Foster and Adoption Ministry \nWelcome all families who are currently fostering or in the process of adopting. We’d love the opportunity to bless you and your family with your own food giveaway\, and open up our FAM Closet for you to come ‘shop’ around for the needs of your house. Peruse the clothes\, items\, and other equipment you might need to help you and the children in your home.
URL:https://callahanfbc.com/event/fam-closet-open/2027-05-27/
LOCATION:Callahan First Baptist\, 45090 Green Ave\, Callahan\, FL\, 32011\, United States
CATEGORIES:Community Impact,Missions
ATTACH;FMTTYPE=image/jpeg:https://callahanfbc.com/wp-content/uploads/2024/11/3T6A0226.jpg
END:VEVENT
BEGIN:VEVENT
DTSTART;TZID=UTC:20270530T101500
DTEND;TZID=UTC:20270530T120000
DTSTAMP:20260424T154928
CREATED:20240430T210534Z
LAST-MODIFIED:20241111T234920Z
UID:10000135-1811672100-1811678400@callahanfbc.com
SUMMARY:Sunday Worship
DESCRIPTION:Join us every Sunday morning for Worship at Callahan First Baptist Church. We can’t wait to see you this Sunday!
URL:https://callahanfbc.com/event/sunday-worship/2027-05-30/
LOCATION:Callahan First Baptist\, 45090 Green Ave\, Callahan\, FL\, 32011\, United States
CATEGORIES:Sunday Worship
ATTACH;FMTTYPE=image/jpeg:https://callahanfbc.com/wp-content/uploads/2024/04/3T6A1789.jpg
END:VEVENT
BEGIN:VEVENT
DTSTART;TZID=UTC:20270602T184500
DTEND;TZID=UTC:20270602T200000
DTSTAMP:20260424T154928
CREATED:20241228T005006Z
LAST-MODIFIED:20241228T005410Z
UID:10001368-1811961900-1811966400@callahanfbc.com
SUMMARY:Wednesday Activities
DESCRIPTION:Join us on Wednesdays for a full evening of connection\, worship\, and growth for all ages! We start with a delicious\, family-style dinner at 5:15 PM in the gym\, followed by activities and small groups for every age. Whether you’re looking for a Bible study\, youth group\, or a fun\, faith-filled program for kids\, there’s something for everyone. Come be a part of our midweek gathering as we grow in faith and fellowship together! \nCheck out our current Bible studies here.
URL:https://callahanfbc.com/event/ladies-bible-study-2/2027-06-02/
LOCATION:Callahan First Baptist\, 45090 Green Ave\, Callahan\, FL\, 32011\, United States
ATTACH;FMTTYPE=image/jpeg:https://callahanfbc.com/wp-content/uploads/2024/04/Drone-shot-1.jpg
END:VEVENT
END:VCALENDAR