BEGIN:VCALENDAR
VERSION:2.0
PRODID:-//Callahan First Baptist Church - ECPv6.15.20//NONSGML v1.0//EN
CALSCALE:GREGORIAN
METHOD:PUBLISH
X-WR-CALNAME:Callahan First Baptist Church
X-ORIGINAL-URL:https://callahanfbc.com
X-WR-CALDESC:Events for Callahan First Baptist Church
REFRESH-INTERVAL;VALUE=DURATION:PT1H
X-Robots-Tag:noindex
X-PUBLISHED-TTL:PT1H
BEGIN:VTIMEZONE
TZID:UTC
BEGIN:STANDARD
TZOFFSETFROM:+0000
TZOFFSETTO:+0000
TZNAME:UTC
DTSTART:20250101T000000
END:STANDARD
END:VTIMEZONE
BEGIN:VTIMEZONE
TZID:America/New_York
BEGIN:DAYLIGHT
TZOFFSETFROM:-0500
TZOFFSETTO:-0400
TZNAME:EDT
DTSTART:20250309T070000
END:DAYLIGHT
BEGIN:STANDARD
TZOFFSETFROM:-0400
TZOFFSETTO:-0500
TZNAME:EST
DTSTART:20251102T060000
END:STANDARD
BEGIN:DAYLIGHT
TZOFFSETFROM:-0500
TZOFFSETTO:-0400
TZNAME:EDT
DTSTART:20260308T070000
END:DAYLIGHT
BEGIN:STANDARD
TZOFFSETFROM:-0400
TZOFFSETTO:-0500
TZNAME:EST
DTSTART:20261101T060000
END:STANDARD
BEGIN:DAYLIGHT
TZOFFSETFROM:-0500
TZOFFSETTO:-0400
TZNAME:EDT
DTSTART:20270314T070000
END:DAYLIGHT
BEGIN:STANDARD
TZOFFSETFROM:-0400
TZOFFSETTO:-0500
TZNAME:EST
DTSTART:20271107T060000
END:STANDARD
BEGIN:DAYLIGHT
TZOFFSETFROM:-0500
TZOFFSETTO:-0400
TZNAME:EDT
DTSTART:20280312T070000
END:DAYLIGHT
BEGIN:STANDARD
TZOFFSETFROM:-0400
TZOFFSETTO:-0500
TZNAME:EST
DTSTART:20281105T060000
END:STANDARD
END:VTIMEZONE
BEGIN:VEVENT
DTSTART;TZID=UTC:20261104T184500
DTEND;TZID=UTC:20261104T200000
DTSTAMP:20260424T074544
CREATED:20241228T005006Z
LAST-MODIFIED:20241228T005410Z
UID:10001338-1793817900-1793822400@callahanfbc.com
SUMMARY:Wednesday Activities
DESCRIPTION:Join us on Wednesdays for a full evening of connection\, worship\, and growth for all ages! We start with a delicious\, family-style dinner at 5:15 PM in the gym\, followed by activities and small groups for every age. Whether you’re looking for a Bible study\, youth group\, or a fun\, faith-filled program for kids\, there’s something for everyone. Come be a part of our midweek gathering as we grow in faith and fellowship together! \nCheck out our current Bible studies here.
URL:https://callahanfbc.com/event/ladies-bible-study-2/2026-11-04/
LOCATION:Callahan First Baptist\, 45090 Green Ave\, Callahan\, FL\, 32011\, United States
ATTACH;FMTTYPE=image/jpeg:https://callahanfbc.com/wp-content/uploads/2024/04/Drone-shot-1.jpg
END:VEVENT
BEGIN:VEVENT
DTSTART;TZID=America/New_York:20261105T100000
DTEND;TZID=America/New_York:20261105T120000
DTSTAMP:20260424T074544
CREATED:20260203T131525Z
LAST-MODIFIED:20260203T131525Z
UID:10003756-1793872800-1793880000@callahanfbc.com
SUMMARY:Storehouse Morning Giveaway
DESCRIPTION:Come join us for our free food giveaway this morning from 10 am- 12 pm. Everyone is welcome to receive free groceries hand packed by our volunteers. Limit two families per vehicle.
URL:https://callahanfbc.com/event/storehouse-morning-giveaway/2026-11-05/
LOCATION:Callahan First Baptist\, 45090 Green Ave\, Callahan\, FL\, 32011\, United States
CATEGORIES:Community Impact
ATTACH;FMTTYPE=image/jpeg:https://callahanfbc.com/wp-content/uploads/2024/11/Storehouse-Truck.jpg
END:VEVENT
BEGIN:VEVENT
DTSTART;TZID=UTC:20261108T101500
DTEND;TZID=UTC:20261108T120000
DTSTAMP:20260424T074544
CREATED:20240430T210534Z
LAST-MODIFIED:20241111T234920Z
UID:10000106-1794132900-1794139200@callahanfbc.com
SUMMARY:Sunday Worship
DESCRIPTION:Join us every Sunday morning for Worship at Callahan First Baptist Church. We can’t wait to see you this Sunday!
URL:https://callahanfbc.com/event/sunday-worship/2026-11-08/
LOCATION:Callahan First Baptist\, 45090 Green Ave\, Callahan\, FL\, 32011\, United States
CATEGORIES:Sunday Worship
ATTACH;FMTTYPE=image/jpeg:https://callahanfbc.com/wp-content/uploads/2024/04/3T6A1789.jpg
END:VEVENT
BEGIN:VEVENT
DTSTART;TZID=UTC:20261111T184500
DTEND;TZID=UTC:20261111T200000
DTSTAMP:20260424T074544
CREATED:20241228T005006Z
LAST-MODIFIED:20241228T005410Z
UID:10001339-1794422700-1794427200@callahanfbc.com
SUMMARY:Wednesday Activities
DESCRIPTION:Join us on Wednesdays for a full evening of connection\, worship\, and growth for all ages! We start with a delicious\, family-style dinner at 5:15 PM in the gym\, followed by activities and small groups for every age. Whether you’re looking for a Bible study\, youth group\, or a fun\, faith-filled program for kids\, there’s something for everyone. Come be a part of our midweek gathering as we grow in faith and fellowship together! \nCheck out our current Bible studies here.
URL:https://callahanfbc.com/event/ladies-bible-study-2/2026-11-11/
LOCATION:Callahan First Baptist\, 45090 Green Ave\, Callahan\, FL\, 32011\, United States
ATTACH;FMTTYPE=image/jpeg:https://callahanfbc.com/wp-content/uploads/2024/04/Drone-shot-1.jpg
END:VEVENT
BEGIN:VEVENT
DTSTART;TZID=UTC:20261115T101500
DTEND;TZID=UTC:20261115T120000
DTSTAMP:20260424T074544
CREATED:20240430T210534Z
LAST-MODIFIED:20241111T234920Z
UID:10000107-1794737700-1794744000@callahanfbc.com
SUMMARY:Sunday Worship
DESCRIPTION:Join us every Sunday morning for Worship at Callahan First Baptist Church. We can’t wait to see you this Sunday!
URL:https://callahanfbc.com/event/sunday-worship/2026-11-15/
LOCATION:Callahan First Baptist\, 45090 Green Ave\, Callahan\, FL\, 32011\, United States
CATEGORIES:Sunday Worship
ATTACH;FMTTYPE=image/jpeg:https://callahanfbc.com/wp-content/uploads/2024/04/3T6A1789.jpg
END:VEVENT
BEGIN:VEVENT
DTSTART;TZID=UTC:20261118T184500
DTEND;TZID=UTC:20261118T200000
DTSTAMP:20260424T074544
CREATED:20241228T005006Z
LAST-MODIFIED:20241228T005410Z
UID:10001340-1795027500-1795032000@callahanfbc.com
SUMMARY:Wednesday Activities
DESCRIPTION:Join us on Wednesdays for a full evening of connection\, worship\, and growth for all ages! We start with a delicious\, family-style dinner at 5:15 PM in the gym\, followed by activities and small groups for every age. Whether you’re looking for a Bible study\, youth group\, or a fun\, faith-filled program for kids\, there’s something for everyone. Come be a part of our midweek gathering as we grow in faith and fellowship together! \nCheck out our current Bible studies here.
URL:https://callahanfbc.com/event/ladies-bible-study-2/2026-11-18/
LOCATION:Callahan First Baptist\, 45090 Green Ave\, Callahan\, FL\, 32011\, United States
ATTACH;FMTTYPE=image/jpeg:https://callahanfbc.com/wp-content/uploads/2024/04/Drone-shot-1.jpg
END:VEVENT
BEGIN:VEVENT
DTSTART;TZID=America/New_York:20261119T163000
DTEND;TZID=America/New_York:20261119T183000
DTSTAMP:20260424T074544
CREATED:20260203T131705Z
LAST-MODIFIED:20260203T131705Z
UID:10003816-1795105800-1795113000@callahanfbc.com
SUMMARY:Storehouse Afternoon Giveaway
DESCRIPTION:Come join us for our free food giveaway this afternoon from 4:30-6:30 PM. Everyone is welcome to receive free groceries hand packed by our volunteers. Limit two families per vehicle.
URL:https://callahanfbc.com/event/storehouse-afternoon-giveaway/2026-11-19/
LOCATION:Callahan First Baptist\, 45090 Green Ave\, Callahan\, FL\, 32011\, United States
ATTACH;FMTTYPE=image/jpeg:https://callahanfbc.com/wp-content/uploads/2024/11/Storehouse-Truck.jpg
END:VEVENT
BEGIN:VEVENT
DTSTART;TZID=UTC:20261122T101500
DTEND;TZID=UTC:20261122T120000
DTSTAMP:20260424T074544
CREATED:20240430T210534Z
LAST-MODIFIED:20241111T234920Z
UID:10000108-1795342500-1795348800@callahanfbc.com
SUMMARY:Sunday Worship
DESCRIPTION:Join us every Sunday morning for Worship at Callahan First Baptist Church. We can’t wait to see you this Sunday!
URL:https://callahanfbc.com/event/sunday-worship/2026-11-22/
LOCATION:Callahan First Baptist\, 45090 Green Ave\, Callahan\, FL\, 32011\, United States
CATEGORIES:Sunday Worship
ATTACH;FMTTYPE=image/jpeg:https://callahanfbc.com/wp-content/uploads/2024/04/3T6A1789.jpg
END:VEVENT
BEGIN:VEVENT
DTSTART;TZID=UTC:20261125T184500
DTEND;TZID=UTC:20261125T200000
DTSTAMP:20260424T074544
CREATED:20241228T005006Z
LAST-MODIFIED:20241228T005410Z
UID:10001341-1795632300-1795636800@callahanfbc.com
SUMMARY:Wednesday Activities
DESCRIPTION:Join us on Wednesdays for a full evening of connection\, worship\, and growth for all ages! We start with a delicious\, family-style dinner at 5:15 PM in the gym\, followed by activities and small groups for every age. Whether you’re looking for a Bible study\, youth group\, or a fun\, faith-filled program for kids\, there’s something for everyone. Come be a part of our midweek gathering as we grow in faith and fellowship together! \nCheck out our current Bible studies here.
URL:https://callahanfbc.com/event/ladies-bible-study-2/2026-11-25/
LOCATION:Callahan First Baptist\, 45090 Green Ave\, Callahan\, FL\, 32011\, United States
ATTACH;FMTTYPE=image/jpeg:https://callahanfbc.com/wp-content/uploads/2024/04/Drone-shot-1.jpg
END:VEVENT
BEGIN:VEVENT
DTSTART;TZID=UTC:20261129T101500
DTEND;TZID=UTC:20261129T120000
DTSTAMP:20260424T074544
CREATED:20240430T210534Z
LAST-MODIFIED:20241111T234920Z
UID:10000109-1795947300-1795953600@callahanfbc.com
SUMMARY:Sunday Worship
DESCRIPTION:Join us every Sunday morning for Worship at Callahan First Baptist Church. We can’t wait to see you this Sunday!
URL:https://callahanfbc.com/event/sunday-worship/2026-11-29/
LOCATION:Callahan First Baptist\, 45090 Green Ave\, Callahan\, FL\, 32011\, United States
CATEGORIES:Sunday Worship
ATTACH;FMTTYPE=image/jpeg:https://callahanfbc.com/wp-content/uploads/2024/04/3T6A1789.jpg
END:VEVENT
BEGIN:VEVENT
DTSTART;TZID=UTC:20261202T184500
DTEND;TZID=UTC:20261202T200000
DTSTAMP:20260424T074544
CREATED:20241228T005006Z
LAST-MODIFIED:20241228T005410Z
UID:10001342-1796237100-1796241600@callahanfbc.com
SUMMARY:Wednesday Activities
DESCRIPTION:Join us on Wednesdays for a full evening of connection\, worship\, and growth for all ages! We start with a delicious\, family-style dinner at 5:15 PM in the gym\, followed by activities and small groups for every age. Whether you’re looking for a Bible study\, youth group\, or a fun\, faith-filled program for kids\, there’s something for everyone. Come be a part of our midweek gathering as we grow in faith and fellowship together! \nCheck out our current Bible studies here.
URL:https://callahanfbc.com/event/ladies-bible-study-2/2026-12-02/
LOCATION:Callahan First Baptist\, 45090 Green Ave\, Callahan\, FL\, 32011\, United States
ATTACH;FMTTYPE=image/jpeg:https://callahanfbc.com/wp-content/uploads/2024/04/Drone-shot-1.jpg
END:VEVENT
BEGIN:VEVENT
DTSTART;TZID=America/New_York:20261203T100000
DTEND;TZID=America/New_York:20261203T120000
DTSTAMP:20260424T074544
CREATED:20260203T131525Z
LAST-MODIFIED:20260203T131525Z
UID:10003757-1796292000-1796299200@callahanfbc.com
SUMMARY:Storehouse Morning Giveaway
DESCRIPTION:Come join us for our free food giveaway this morning from 10 am- 12 pm. Everyone is welcome to receive free groceries hand packed by our volunteers. Limit two families per vehicle.
URL:https://callahanfbc.com/event/storehouse-morning-giveaway/2026-12-03/
LOCATION:Callahan First Baptist\, 45090 Green Ave\, Callahan\, FL\, 32011\, United States
CATEGORIES:Community Impact
ATTACH;FMTTYPE=image/jpeg:https://callahanfbc.com/wp-content/uploads/2024/11/Storehouse-Truck.jpg
END:VEVENT
BEGIN:VEVENT
DTSTART;TZID=UTC:20261206T101500
DTEND;TZID=UTC:20261206T120000
DTSTAMP:20260424T074544
CREATED:20240430T210534Z
LAST-MODIFIED:20241111T234920Z
UID:10000110-1796552100-1796558400@callahanfbc.com
SUMMARY:Sunday Worship
DESCRIPTION:Join us every Sunday morning for Worship at Callahan First Baptist Church. We can’t wait to see you this Sunday!
URL:https://callahanfbc.com/event/sunday-worship/2026-12-06/
LOCATION:Callahan First Baptist\, 45090 Green Ave\, Callahan\, FL\, 32011\, United States
CATEGORIES:Sunday Worship
ATTACH;FMTTYPE=image/jpeg:https://callahanfbc.com/wp-content/uploads/2024/04/3T6A1789.jpg
END:VEVENT
BEGIN:VEVENT
DTSTART;TZID=UTC:20261209T184500
DTEND;TZID=UTC:20261209T200000
DTSTAMP:20260424T074544
CREATED:20241228T005006Z
LAST-MODIFIED:20241228T005410Z
UID:10001343-1796841900-1796846400@callahanfbc.com
SUMMARY:Wednesday Activities
DESCRIPTION:Join us on Wednesdays for a full evening of connection\, worship\, and growth for all ages! We start with a delicious\, family-style dinner at 5:15 PM in the gym\, followed by activities and small groups for every age. Whether you’re looking for a Bible study\, youth group\, or a fun\, faith-filled program for kids\, there’s something for everyone. Come be a part of our midweek gathering as we grow in faith and fellowship together! \nCheck out our current Bible studies here.
URL:https://callahanfbc.com/event/ladies-bible-study-2/2026-12-09/
LOCATION:Callahan First Baptist\, 45090 Green Ave\, Callahan\, FL\, 32011\, United States
ATTACH;FMTTYPE=image/jpeg:https://callahanfbc.com/wp-content/uploads/2024/04/Drone-shot-1.jpg
END:VEVENT
BEGIN:VEVENT
DTSTART;TZID=UTC:20261213T101500
DTEND;TZID=UTC:20261213T120000
DTSTAMP:20260424T074544
CREATED:20240430T210534Z
LAST-MODIFIED:20241111T234920Z
UID:10000111-1797156900-1797163200@callahanfbc.com
SUMMARY:Sunday Worship
DESCRIPTION:Join us every Sunday morning for Worship at Callahan First Baptist Church. We can’t wait to see you this Sunday!
URL:https://callahanfbc.com/event/sunday-worship/2026-12-13/
LOCATION:Callahan First Baptist\, 45090 Green Ave\, Callahan\, FL\, 32011\, United States
CATEGORIES:Sunday Worship
ATTACH;FMTTYPE=image/jpeg:https://callahanfbc.com/wp-content/uploads/2024/04/3T6A1789.jpg
END:VEVENT
BEGIN:VEVENT
DTSTART;TZID=UTC:20261216T184500
DTEND;TZID=UTC:20261216T200000
DTSTAMP:20260424T074544
CREATED:20241228T005006Z
LAST-MODIFIED:20241228T005410Z
UID:10001344-1797446700-1797451200@callahanfbc.com
SUMMARY:Wednesday Activities
DESCRIPTION:Join us on Wednesdays for a full evening of connection\, worship\, and growth for all ages! We start with a delicious\, family-style dinner at 5:15 PM in the gym\, followed by activities and small groups for every age. Whether you’re looking for a Bible study\, youth group\, or a fun\, faith-filled program for kids\, there’s something for everyone. Come be a part of our midweek gathering as we grow in faith and fellowship together! \nCheck out our current Bible studies here.
URL:https://callahanfbc.com/event/ladies-bible-study-2/2026-12-16/
LOCATION:Callahan First Baptist\, 45090 Green Ave\, Callahan\, FL\, 32011\, United States
ATTACH;FMTTYPE=image/jpeg:https://callahanfbc.com/wp-content/uploads/2024/04/Drone-shot-1.jpg
END:VEVENT
BEGIN:VEVENT
DTSTART;TZID=America/New_York:20261217T163000
DTEND;TZID=America/New_York:20261217T183000
DTSTAMP:20260424T074544
CREATED:20260203T131705Z
LAST-MODIFIED:20260203T131705Z
UID:10003817-1797525000-1797532200@callahanfbc.com
SUMMARY:Storehouse Afternoon Giveaway
DESCRIPTION:Come join us for our free food giveaway this afternoon from 4:30-6:30 PM. Everyone is welcome to receive free groceries hand packed by our volunteers. Limit two families per vehicle.
URL:https://callahanfbc.com/event/storehouse-afternoon-giveaway/2026-12-17/
LOCATION:Callahan First Baptist\, 45090 Green Ave\, Callahan\, FL\, 32011\, United States
ATTACH;FMTTYPE=image/jpeg:https://callahanfbc.com/wp-content/uploads/2024/11/Storehouse-Truck.jpg
END:VEVENT
BEGIN:VEVENT
DTSTART;TZID=UTC:20261220T101500
DTEND;TZID=UTC:20261220T120000
DTSTAMP:20260424T074544
CREATED:20240430T210534Z
LAST-MODIFIED:20241111T234920Z
UID:10000112-1797761700-1797768000@callahanfbc.com
SUMMARY:Sunday Worship
DESCRIPTION:Join us every Sunday morning for Worship at Callahan First Baptist Church. We can’t wait to see you this Sunday!
URL:https://callahanfbc.com/event/sunday-worship/2026-12-20/
LOCATION:Callahan First Baptist\, 45090 Green Ave\, Callahan\, FL\, 32011\, United States
CATEGORIES:Sunday Worship
ATTACH;FMTTYPE=image/jpeg:https://callahanfbc.com/wp-content/uploads/2024/04/3T6A1789.jpg
END:VEVENT
BEGIN:VEVENT
DTSTART;TZID=UTC:20261223T184500
DTEND;TZID=UTC:20261223T200000
DTSTAMP:20260424T074544
CREATED:20241228T005006Z
LAST-MODIFIED:20241228T005410Z
UID:10001345-1798051500-1798056000@callahanfbc.com
SUMMARY:Wednesday Activities
DESCRIPTION:Join us on Wednesdays for a full evening of connection\, worship\, and growth for all ages! We start with a delicious\, family-style dinner at 5:15 PM in the gym\, followed by activities and small groups for every age. Whether you’re looking for a Bible study\, youth group\, or a fun\, faith-filled program for kids\, there’s something for everyone. Come be a part of our midweek gathering as we grow in faith and fellowship together! \nCheck out our current Bible studies here.
URL:https://callahanfbc.com/event/ladies-bible-study-2/2026-12-23/
LOCATION:Callahan First Baptist\, 45090 Green Ave\, Callahan\, FL\, 32011\, United States
ATTACH;FMTTYPE=image/jpeg:https://callahanfbc.com/wp-content/uploads/2024/04/Drone-shot-1.jpg
END:VEVENT
BEGIN:VEVENT
DTSTART;TZID=UTC:20261227T101500
DTEND;TZID=UTC:20261227T120000
DTSTAMP:20260424T074544
CREATED:20240430T210534Z
LAST-MODIFIED:20241111T234920Z
UID:10000113-1798366500-1798372800@callahanfbc.com
SUMMARY:Sunday Worship
DESCRIPTION:Join us every Sunday morning for Worship at Callahan First Baptist Church. We can’t wait to see you this Sunday!
URL:https://callahanfbc.com/event/sunday-worship/2026-12-27/
LOCATION:Callahan First Baptist\, 45090 Green Ave\, Callahan\, FL\, 32011\, United States
CATEGORIES:Sunday Worship
ATTACH;FMTTYPE=image/jpeg:https://callahanfbc.com/wp-content/uploads/2024/04/3T6A1789.jpg
END:VEVENT
BEGIN:VEVENT
DTSTART;TZID=UTC:20261230T184500
DTEND;TZID=UTC:20261230T200000
DTSTAMP:20260424T074544
CREATED:20241228T005006Z
LAST-MODIFIED:20241228T005410Z
UID:10001346-1798656300-1798660800@callahanfbc.com
SUMMARY:Wednesday Activities
DESCRIPTION:Join us on Wednesdays for a full evening of connection\, worship\, and growth for all ages! We start with a delicious\, family-style dinner at 5:15 PM in the gym\, followed by activities and small groups for every age. Whether you’re looking for a Bible study\, youth group\, or a fun\, faith-filled program for kids\, there’s something for everyone. Come be a part of our midweek gathering as we grow in faith and fellowship together! \nCheck out our current Bible studies here.
URL:https://callahanfbc.com/event/ladies-bible-study-2/2026-12-30/
LOCATION:Callahan First Baptist\, 45090 Green Ave\, Callahan\, FL\, 32011\, United States
ATTACH;FMTTYPE=image/jpeg:https://callahanfbc.com/wp-content/uploads/2024/04/Drone-shot-1.jpg
END:VEVENT
BEGIN:VEVENT
DTSTART;TZID=UTC:20270103T101500
DTEND;TZID=UTC:20270103T120000
DTSTAMP:20260424T074544
CREATED:20240430T210534Z
LAST-MODIFIED:20241111T234920Z
UID:10000114-1798971300-1798977600@callahanfbc.com
SUMMARY:Sunday Worship
DESCRIPTION:Join us every Sunday morning for Worship at Callahan First Baptist Church. We can’t wait to see you this Sunday!
URL:https://callahanfbc.com/event/sunday-worship/2027-01-03/
LOCATION:Callahan First Baptist\, 45090 Green Ave\, Callahan\, FL\, 32011\, United States
CATEGORIES:Sunday Worship
ATTACH;FMTTYPE=image/jpeg:https://callahanfbc.com/wp-content/uploads/2024/04/3T6A1789.jpg
END:VEVENT
BEGIN:VEVENT
DTSTART;TZID=UTC:20270106T184500
DTEND;TZID=UTC:20270106T200000
DTSTAMP:20260424T074544
CREATED:20241228T005006Z
LAST-MODIFIED:20241228T005410Z
UID:10001347-1799261100-1799265600@callahanfbc.com
SUMMARY:Wednesday Activities
DESCRIPTION:Join us on Wednesdays for a full evening of connection\, worship\, and growth for all ages! We start with a delicious\, family-style dinner at 5:15 PM in the gym\, followed by activities and small groups for every age. Whether you’re looking for a Bible study\, youth group\, or a fun\, faith-filled program for kids\, there’s something for everyone. Come be a part of our midweek gathering as we grow in faith and fellowship together! \nCheck out our current Bible studies here.
URL:https://callahanfbc.com/event/ladies-bible-study-2/2027-01-06/
LOCATION:Callahan First Baptist\, 45090 Green Ave\, Callahan\, FL\, 32011\, United States
ATTACH;FMTTYPE=image/jpeg:https://callahanfbc.com/wp-content/uploads/2024/04/Drone-shot-1.jpg
END:VEVENT
BEGIN:VEVENT
DTSTART;TZID=America/New_York:20270107T100000
DTEND;TZID=America/New_York:20270107T120000
DTSTAMP:20260424T074544
CREATED:20260203T131525Z
LAST-MODIFIED:20260203T131525Z
UID:10003758-1799316000-1799323200@callahanfbc.com
SUMMARY:Storehouse Morning Giveaway
DESCRIPTION:Come join us for our free food giveaway this morning from 10 am- 12 pm. Everyone is welcome to receive free groceries hand packed by our volunteers. Limit two families per vehicle.
URL:https://callahanfbc.com/event/storehouse-morning-giveaway/2027-01-07/
LOCATION:Callahan First Baptist\, 45090 Green Ave\, Callahan\, FL\, 32011\, United States
CATEGORIES:Community Impact
ATTACH;FMTTYPE=image/jpeg:https://callahanfbc.com/wp-content/uploads/2024/11/Storehouse-Truck.jpg
END:VEVENT
BEGIN:VEVENT
DTSTART;TZID=UTC:20270110T101500
DTEND;TZID=UTC:20270110T120000
DTSTAMP:20260424T074544
CREATED:20240430T210534Z
LAST-MODIFIED:20241111T234920Z
UID:10000115-1799576100-1799582400@callahanfbc.com
SUMMARY:Sunday Worship
DESCRIPTION:Join us every Sunday morning for Worship at Callahan First Baptist Church. We can’t wait to see you this Sunday!
URL:https://callahanfbc.com/event/sunday-worship/2027-01-10/
LOCATION:Callahan First Baptist\, 45090 Green Ave\, Callahan\, FL\, 32011\, United States
CATEGORIES:Sunday Worship
ATTACH;FMTTYPE=image/jpeg:https://callahanfbc.com/wp-content/uploads/2024/04/3T6A1789.jpg
END:VEVENT
BEGIN:VEVENT
DTSTART;TZID=UTC:20270113T184500
DTEND;TZID=UTC:20270113T200000
DTSTAMP:20260424T074544
CREATED:20241228T005006Z
LAST-MODIFIED:20241228T005410Z
UID:10001348-1799865900-1799870400@callahanfbc.com
SUMMARY:Wednesday Activities
DESCRIPTION:Join us on Wednesdays for a full evening of connection\, worship\, and growth for all ages! We start with a delicious\, family-style dinner at 5:15 PM in the gym\, followed by activities and small groups for every age. Whether you’re looking for a Bible study\, youth group\, or a fun\, faith-filled program for kids\, there’s something for everyone. Come be a part of our midweek gathering as we grow in faith and fellowship together! \nCheck out our current Bible studies here.
URL:https://callahanfbc.com/event/ladies-bible-study-2/2027-01-13/
LOCATION:Callahan First Baptist\, 45090 Green Ave\, Callahan\, FL\, 32011\, United States
ATTACH;FMTTYPE=image/jpeg:https://callahanfbc.com/wp-content/uploads/2024/04/Drone-shot-1.jpg
END:VEVENT
BEGIN:VEVENT
DTSTART;TZID=UTC:20270117T101500
DTEND;TZID=UTC:20270117T120000
DTSTAMP:20260424T074544
CREATED:20240430T210534Z
LAST-MODIFIED:20241111T234920Z
UID:10000116-1800180900-1800187200@callahanfbc.com
SUMMARY:Sunday Worship
DESCRIPTION:Join us every Sunday morning for Worship at Callahan First Baptist Church. We can’t wait to see you this Sunday!
URL:https://callahanfbc.com/event/sunday-worship/2027-01-17/
LOCATION:Callahan First Baptist\, 45090 Green Ave\, Callahan\, FL\, 32011\, United States
CATEGORIES:Sunday Worship
ATTACH;FMTTYPE=image/jpeg:https://callahanfbc.com/wp-content/uploads/2024/04/3T6A1789.jpg
END:VEVENT
BEGIN:VEVENT
DTSTART;TZID=UTC:20270120T184500
DTEND;TZID=UTC:20270120T200000
DTSTAMP:20260424T074544
CREATED:20241228T005006Z
LAST-MODIFIED:20241228T005410Z
UID:10001349-1800470700-1800475200@callahanfbc.com
SUMMARY:Wednesday Activities
DESCRIPTION:Join us on Wednesdays for a full evening of connection\, worship\, and growth for all ages! We start with a delicious\, family-style dinner at 5:15 PM in the gym\, followed by activities and small groups for every age. Whether you’re looking for a Bible study\, youth group\, or a fun\, faith-filled program for kids\, there’s something for everyone. Come be a part of our midweek gathering as we grow in faith and fellowship together! \nCheck out our current Bible studies here.
URL:https://callahanfbc.com/event/ladies-bible-study-2/2027-01-20/
LOCATION:Callahan First Baptist\, 45090 Green Ave\, Callahan\, FL\, 32011\, United States
ATTACH;FMTTYPE=image/jpeg:https://callahanfbc.com/wp-content/uploads/2024/04/Drone-shot-1.jpg
END:VEVENT
BEGIN:VEVENT
DTSTART;TZID=America/New_York:20270121T163000
DTEND;TZID=America/New_York:20270121T183000
DTSTAMP:20260424T074544
CREATED:20260203T131705Z
LAST-MODIFIED:20260203T131705Z
UID:10003818-1800549000-1800556200@callahanfbc.com
SUMMARY:Storehouse Afternoon Giveaway
DESCRIPTION:Come join us for our free food giveaway this afternoon from 4:30-6:30 PM. Everyone is welcome to receive free groceries hand packed by our volunteers. Limit two families per vehicle.
URL:https://callahanfbc.com/event/storehouse-afternoon-giveaway/2027-01-21/
LOCATION:Callahan First Baptist\, 45090 Green Ave\, Callahan\, FL\, 32011\, United States
ATTACH;FMTTYPE=image/jpeg:https://callahanfbc.com/wp-content/uploads/2024/11/Storehouse-Truck.jpg
END:VEVENT
BEGIN:VEVENT
DTSTART;TZID=UTC:20270124T101500
DTEND;TZID=UTC:20270124T120000
DTSTAMP:20260424T074544
CREATED:20240430T210534Z
LAST-MODIFIED:20241111T234920Z
UID:10000117-1800785700-1800792000@callahanfbc.com
SUMMARY:Sunday Worship
DESCRIPTION:Join us every Sunday morning for Worship at Callahan First Baptist Church. We can’t wait to see you this Sunday!
URL:https://callahanfbc.com/event/sunday-worship/2027-01-24/
LOCATION:Callahan First Baptist\, 45090 Green Ave\, Callahan\, FL\, 32011\, United States
CATEGORIES:Sunday Worship
ATTACH;FMTTYPE=image/jpeg:https://callahanfbc.com/wp-content/uploads/2024/04/3T6A1789.jpg
END:VEVENT
END:VCALENDAR