BEGIN:VCALENDAR
VERSION:2.0
PRODID:-//Callahan First Baptist Church - ECPv6.15.20//NONSGML v1.0//EN
CALSCALE:GREGORIAN
METHOD:PUBLISH
X-ORIGINAL-URL:https://callahanfbc.com
X-WR-CALDESC:Events for Callahan First Baptist Church
REFRESH-INTERVAL;VALUE=DURATION:PT1H
X-Robots-Tag:noindex
X-PUBLISHED-TTL:PT1H
BEGIN:VTIMEZONE
TZID:UTC
BEGIN:STANDARD
TZOFFSETFROM:+0000
TZOFFSETTO:+0000
TZNAME:UTC
DTSTART:20230101T000000
END:STANDARD
END:VTIMEZONE
BEGIN:VEVENT
DTSTART;TZID=UTC:20260407T090000
DTEND;TZID=UTC:20260407T110000
DTSTAMP:20260423T173211
CREATED:20241118T234657Z
LAST-MODIFIED:20241118T234657Z
UID:10001511-1775552400-1775559600@callahanfbc.com
SUMMARY:Toddler Time
DESCRIPTION:Join us for a fun and relaxing morning of games\, crafts\, and community for mothers and their toddlers! This event is designed to give moms a chance to connect while their little ones enjoy creative activities and playful fun. Whether you’re looking to meet new friends or simply have some fun with your toddler\, we’d love to see you there!
URL:https://callahanfbc.com/event/toddler-time/2026-04-07/
LOCATION:Chapel
CATEGORIES:Community Impact
ATTACH;FMTTYPE=image/jpeg:https://callahanfbc.com/wp-content/uploads/2024/11/CF-Kids-Check-In.jpg
END:VEVENT
BEGIN:VEVENT
DTSTART;TZID=UTC:20260303T090000
DTEND;TZID=UTC:20260303T110000
DTSTAMP:20260423T173211
CREATED:20241118T234657Z
LAST-MODIFIED:20241118T234657Z
UID:10001510-1772528400-1772535600@callahanfbc.com
SUMMARY:Toddler Time
DESCRIPTION:Join us for a fun and relaxing morning of games\, crafts\, and community for mothers and their toddlers! This event is designed to give moms a chance to connect while their little ones enjoy creative activities and playful fun. Whether you’re looking to meet new friends or simply have some fun with your toddler\, we’d love to see you there!
URL:https://callahanfbc.com/event/toddler-time/2026-03-03/
LOCATION:Chapel
CATEGORIES:Community Impact
ATTACH;FMTTYPE=image/jpeg:https://callahanfbc.com/wp-content/uploads/2024/11/CF-Kids-Check-In.jpg
END:VEVENT
BEGIN:VEVENT
DTSTART;TZID=UTC:20260203T090000
DTEND;TZID=UTC:20260203T110000
DTSTAMP:20260423T173211
CREATED:20241118T234657Z
LAST-MODIFIED:20241118T234657Z
UID:10001509-1770109200-1770116400@callahanfbc.com
SUMMARY:Toddler Time
DESCRIPTION:Join us for a fun and relaxing morning of games\, crafts\, and community for mothers and their toddlers! This event is designed to give moms a chance to connect while their little ones enjoy creative activities and playful fun. Whether you’re looking to meet new friends or simply have some fun with your toddler\, we’d love to see you there!
URL:https://callahanfbc.com/event/toddler-time/2026-02-03/
LOCATION:Chapel
CATEGORIES:Community Impact
ATTACH;FMTTYPE=image/jpeg:https://callahanfbc.com/wp-content/uploads/2024/11/CF-Kids-Check-In.jpg
END:VEVENT
BEGIN:VEVENT
DTSTART;TZID=UTC:20260106T090000
DTEND;TZID=UTC:20260106T110000
DTSTAMP:20260423T173211
CREATED:20241118T234657Z
LAST-MODIFIED:20241118T234657Z
UID:10001508-1767690000-1767697200@callahanfbc.com
SUMMARY:Toddler Time
DESCRIPTION:Join us for a fun and relaxing morning of games\, crafts\, and community for mothers and their toddlers! This event is designed to give moms a chance to connect while their little ones enjoy creative activities and playful fun. Whether you’re looking to meet new friends or simply have some fun with your toddler\, we’d love to see you there!
URL:https://callahanfbc.com/event/toddler-time/2026-01-06/
LOCATION:Chapel
CATEGORIES:Community Impact
ATTACH;FMTTYPE=image/jpeg:https://callahanfbc.com/wp-content/uploads/2024/11/CF-Kids-Check-In.jpg
END:VEVENT
BEGIN:VEVENT
DTSTART;TZID=UTC:20251202T090000
DTEND;TZID=UTC:20251202T110000
DTSTAMP:20260423T173211
CREATED:20241118T234657Z
LAST-MODIFIED:20241118T234657Z
UID:10001507-1764666000-1764673200@callahanfbc.com
SUMMARY:Toddler Time
DESCRIPTION:Join us for a fun and relaxing morning of games\, crafts\, and community for mothers and their toddlers! This event is designed to give moms a chance to connect while their little ones enjoy creative activities and playful fun. Whether you’re looking to meet new friends or simply have some fun with your toddler\, we’d love to see you there!
URL:https://callahanfbc.com/event/toddler-time/2025-12-02/
LOCATION:Chapel
CATEGORIES:Community Impact
ATTACH;FMTTYPE=image/jpeg:https://callahanfbc.com/wp-content/uploads/2024/11/CF-Kids-Check-In.jpg
END:VEVENT
BEGIN:VEVENT
DTSTART;TZID=UTC:20251104T090000
DTEND;TZID=UTC:20251104T110000
DTSTAMP:20260423T173211
CREATED:20241118T234657Z
LAST-MODIFIED:20241118T234657Z
UID:10001506-1762246800-1762254000@callahanfbc.com
SUMMARY:Toddler Time
DESCRIPTION:Join us for a fun and relaxing morning of games\, crafts\, and community for mothers and their toddlers! This event is designed to give moms a chance to connect while their little ones enjoy creative activities and playful fun. Whether you’re looking to meet new friends or simply have some fun with your toddler\, we’d love to see you there!
URL:https://callahanfbc.com/event/toddler-time/2025-11-04/
LOCATION:Chapel
CATEGORIES:Community Impact
ATTACH;FMTTYPE=image/jpeg:https://callahanfbc.com/wp-content/uploads/2024/11/CF-Kids-Check-In.jpg
END:VEVENT
BEGIN:VEVENT
DTSTART;TZID=UTC:20251007T090000
DTEND;TZID=UTC:20251007T110000
DTSTAMP:20260423T173211
CREATED:20241118T234657Z
LAST-MODIFIED:20241118T234657Z
UID:10001505-1759827600-1759834800@callahanfbc.com
SUMMARY:Toddler Time
DESCRIPTION:Join us for a fun and relaxing morning of games\, crafts\, and community for mothers and their toddlers! This event is designed to give moms a chance to connect while their little ones enjoy creative activities and playful fun. Whether you’re looking to meet new friends or simply have some fun with your toddler\, we’d love to see you there!
URL:https://callahanfbc.com/event/toddler-time/2025-10-07/
LOCATION:Chapel
CATEGORIES:Community Impact
ATTACH;FMTTYPE=image/jpeg:https://callahanfbc.com/wp-content/uploads/2024/11/CF-Kids-Check-In.jpg
END:VEVENT
BEGIN:VEVENT
DTSTART;TZID=UTC:20250902T090000
DTEND;TZID=UTC:20250902T110000
DTSTAMP:20260423T173211
CREATED:20241118T234657Z
LAST-MODIFIED:20241118T234657Z
UID:10001504-1756803600-1756810800@callahanfbc.com
SUMMARY:Toddler Time
DESCRIPTION:Join us for a fun and relaxing morning of games\, crafts\, and community for mothers and their toddlers! This event is designed to give moms a chance to connect while their little ones enjoy creative activities and playful fun. Whether you’re looking to meet new friends or simply have some fun with your toddler\, we’d love to see you there!
URL:https://callahanfbc.com/event/toddler-time/2025-09-02/
LOCATION:Chapel
CATEGORIES:Community Impact
ATTACH;FMTTYPE=image/jpeg:https://callahanfbc.com/wp-content/uploads/2024/11/CF-Kids-Check-In.jpg
END:VEVENT
BEGIN:VEVENT
DTSTART;TZID=UTC:20250805T090000
DTEND;TZID=UTC:20250805T110000
DTSTAMP:20260423T173211
CREATED:20241118T234657Z
LAST-MODIFIED:20241118T234657Z
UID:10001503-1754384400-1754391600@callahanfbc.com
SUMMARY:Toddler Time
DESCRIPTION:Join us for a fun and relaxing morning of games\, crafts\, and community for mothers and their toddlers! This event is designed to give moms a chance to connect while their little ones enjoy creative activities and playful fun. Whether you’re looking to meet new friends or simply have some fun with your toddler\, we’d love to see you there!
URL:https://callahanfbc.com/event/toddler-time/2025-08-05/
LOCATION:Chapel
CATEGORIES:Community Impact
ATTACH;FMTTYPE=image/jpeg:https://callahanfbc.com/wp-content/uploads/2024/11/CF-Kids-Check-In.jpg
END:VEVENT
BEGIN:VEVENT
DTSTART;TZID=UTC:20250701T090000
DTEND;TZID=UTC:20250701T110000
DTSTAMP:20260423T173211
CREATED:20241118T234657Z
LAST-MODIFIED:20241118T234657Z
UID:10001502-1751360400-1751367600@callahanfbc.com
SUMMARY:Toddler Time
DESCRIPTION:Join us for a fun and relaxing morning of games\, crafts\, and community for mothers and their toddlers! This event is designed to give moms a chance to connect while their little ones enjoy creative activities and playful fun. Whether you’re looking to meet new friends or simply have some fun with your toddler\, we’d love to see you there!
URL:https://callahanfbc.com/event/toddler-time/2025-07-01/
LOCATION:Chapel
CATEGORIES:Community Impact
ATTACH;FMTTYPE=image/jpeg:https://callahanfbc.com/wp-content/uploads/2024/11/CF-Kids-Check-In.jpg
END:VEVENT
BEGIN:VEVENT
DTSTART;TZID=UTC:20250506T090000
DTEND;TZID=UTC:20250506T110000
DTSTAMP:20260423T173211
CREATED:20241118T234657Z
LAST-MODIFIED:20241118T234657Z
UID:10001501-1746522000-1746529200@callahanfbc.com
SUMMARY:Toddler Time
DESCRIPTION:Join us for a fun and relaxing morning of games\, crafts\, and community for mothers and their toddlers! This event is designed to give moms a chance to connect while their little ones enjoy creative activities and playful fun. Whether you’re looking to meet new friends or simply have some fun with your toddler\, we’d love to see you there!
URL:https://callahanfbc.com/event/toddler-time/2025-05-06/
LOCATION:Chapel
CATEGORIES:Community Impact
ATTACH;FMTTYPE=image/jpeg:https://callahanfbc.com/wp-content/uploads/2024/11/CF-Kids-Check-In.jpg
END:VEVENT
BEGIN:VEVENT
DTSTART;TZID=UTC:20250401T090000
DTEND;TZID=UTC:20250401T110000
DTSTAMP:20260423T173211
CREATED:20241118T234657Z
LAST-MODIFIED:20241118T234657Z
UID:10001500-1743498000-1743505200@callahanfbc.com
SUMMARY:Toddler Time
DESCRIPTION:Join us for a fun and relaxing morning of games\, crafts\, and community for mothers and their toddlers! This event is designed to give moms a chance to connect while their little ones enjoy creative activities and playful fun. Whether you’re looking to meet new friends or simply have some fun with your toddler\, we’d love to see you there!
URL:https://callahanfbc.com/event/toddler-time/2025-04-01/
LOCATION:Chapel
CATEGORIES:Community Impact
ATTACH;FMTTYPE=image/jpeg:https://callahanfbc.com/wp-content/uploads/2024/11/CF-Kids-Check-In.jpg
END:VEVENT
BEGIN:VEVENT
DTSTART;TZID=UTC:20250304T090000
DTEND;TZID=UTC:20250304T110000
DTSTAMP:20260423T173211
CREATED:20241118T234657Z
LAST-MODIFIED:20241118T234657Z
UID:10001499-1741078800-1741086000@callahanfbc.com
SUMMARY:Toddler Time
DESCRIPTION:Join us for a fun and relaxing morning of games\, crafts\, and community for mothers and their toddlers! This event is designed to give moms a chance to connect while their little ones enjoy creative activities and playful fun. Whether you’re looking to meet new friends or simply have some fun with your toddler\, we’d love to see you there!
URL:https://callahanfbc.com/event/toddler-time/2025-03-04/
LOCATION:Chapel
CATEGORIES:Community Impact
ATTACH;FMTTYPE=image/jpeg:https://callahanfbc.com/wp-content/uploads/2024/11/CF-Kids-Check-In.jpg
END:VEVENT
BEGIN:VEVENT
DTSTART;TZID=UTC:20250204T090000
DTEND;TZID=UTC:20250204T110000
DTSTAMP:20260423T173211
CREATED:20241118T234657Z
LAST-MODIFIED:20241118T234657Z
UID:10001498-1738659600-1738666800@callahanfbc.com
SUMMARY:Toddler Time
DESCRIPTION:Join us for a fun and relaxing morning of games\, crafts\, and community for mothers and their toddlers! This event is designed to give moms a chance to connect while their little ones enjoy creative activities and playful fun. Whether you’re looking to meet new friends or simply have some fun with your toddler\, we’d love to see you there!
URL:https://callahanfbc.com/event/toddler-time/2025-02-04/
LOCATION:Chapel
CATEGORIES:Community Impact
ATTACH;FMTTYPE=image/jpeg:https://callahanfbc.com/wp-content/uploads/2024/11/CF-Kids-Check-In.jpg
END:VEVENT
BEGIN:VEVENT
DTSTART;TZID=UTC:20250112T113000
DTEND;TZID=UTC:20250112T123000
DTSTAMP:20260423T173211
CREATED:20241231T204810Z
LAST-MODIFIED:20250108T003056Z
UID:10002936-1736681400-1736685000@callahanfbc.com
SUMMARY:1st-5th Grade Kids Camp Meeting
DESCRIPTION:Kids Camp\, for ages 6-12\, will be held from July 6-11th\, 2025. Please plan to attend the informational meeting on January 12th in the chapel\, following the morning service.
URL:https://callahanfbc.com/event/1st-5th-grade-kids-camp-meeting/
LOCATION:Chapel
ATTACH;FMTTYPE=image/jpeg:https://callahanfbc.com/wp-content/uploads/2024/12/Kids-Camp-photo-for-2025.jpg
END:VEVENT
BEGIN:VEVENT
DTSTART;TZID=UTC:20250107T090000
DTEND;TZID=UTC:20250107T110000
DTSTAMP:20260423T173211
CREATED:20241118T234657Z
LAST-MODIFIED:20241118T234657Z
UID:10001497-1736240400-1736247600@callahanfbc.com
SUMMARY:Toddler Time
DESCRIPTION:Join us for a fun and relaxing morning of games\, crafts\, and community for mothers and their toddlers! This event is designed to give moms a chance to connect while their little ones enjoy creative activities and playful fun. Whether you’re looking to meet new friends or simply have some fun with your toddler\, we’d love to see you there!
URL:https://callahanfbc.com/event/toddler-time/2025-01-07/
LOCATION:Chapel
CATEGORIES:Community Impact
ATTACH;FMTTYPE=image/jpeg:https://callahanfbc.com/wp-content/uploads/2024/11/CF-Kids-Check-In.jpg
END:VEVENT
BEGIN:VEVENT
DTSTART;TZID=UTC:20241203T090000
DTEND;TZID=UTC:20241203T110000
DTSTAMP:20260423T173211
CREATED:20241118T234657Z
LAST-MODIFIED:20241118T234657Z
UID:10001496-1733216400-1733223600@callahanfbc.com
SUMMARY:Toddler Time
DESCRIPTION:Join us for a fun and relaxing morning of games\, crafts\, and community for mothers and their toddlers! This event is designed to give moms a chance to connect while their little ones enjoy creative activities and playful fun. Whether you’re looking to meet new friends or simply have some fun with your toddler\, we’d love to see you there!
URL:https://callahanfbc.com/event/toddler-time/2024-12-03/
LOCATION:Chapel
CATEGORIES:Community Impact
ATTACH;FMTTYPE=image/jpeg:https://callahanfbc.com/wp-content/uploads/2024/11/CF-Kids-Check-In.jpg
END:VEVENT
END:VCALENDAR