BEGIN:VCALENDAR
VERSION:2.0
PRODID:-//Callahan First Baptist Church - ECPv6.15.20//NONSGML v1.0//EN
CALSCALE:GREGORIAN
METHOD:PUBLISH
X-ORIGINAL-URL:https://callahanfbc.com
X-WR-CALDESC:Events for Callahan First Baptist Church
REFRESH-INTERVAL;VALUE=DURATION:PT1H
X-Robots-Tag:noindex
X-PUBLISHED-TTL:PT1H
BEGIN:VTIMEZONE
TZID:UTC
BEGIN:STANDARD
TZOFFSETFROM:+0000
TZOFFSETTO:+0000
TZNAME:UTC
DTSTART:20270101T000000
END:STANDARD
END:VTIMEZONE
BEGIN:VEVENT
DTSTART;TZID=UTC:20281024T100000
DTEND;TZID=UTC:20281024T140000
DTSTAMP:20260425T094309
CREATED:20241228T005529Z
LAST-MODIFIED:20241228T012507Z
UID:10002614-1855994400-1856008800@callahanfbc.com
SUMMARY:Grace's House
DESCRIPTION:Discover great finds and support a meaningful cause at Grace’s House! Our church’s thrift store ministry is dedicated to “Making a Difference\, Not a Profit.” Every purchase at Grace’s House helps fund local outreach programs and provides affordable goods to our community. Whether you’re shopping or donating\, you’re contributing to a ministry that brings hope\, support\, and love to those in need. Come visit us to make a difference together!
URL:https://callahanfbc.com/event/graces-house-2-3/2028-10-24/
LOCATION:Grace’s House\, 449521 US HWY 301\, Callahan\, FL\, 32011\, United States
CATEGORIES:Community Impact
ATTACH;FMTTYPE=image/jpeg:https://callahanfbc.com/wp-content/uploads/2024/11/3T6A0224.jpg
END:VEVENT
BEGIN:VEVENT
DTSTART;TZID=UTC:20281026T100000
DTEND;TZID=UTC:20281026T140000
DTSTAMP:20260425T094309
CREATED:20241113T020919Z
LAST-MODIFIED:20241118T235512Z
UID:10000480-1856167200-1856181600@callahanfbc.com
SUMMARY:Grace's House
DESCRIPTION:Discover great finds and support a meaningful cause at Grace’s House! Our church’s thrift store ministry is dedicated to “Making a Difference\, Not a Profit.” Every purchase at Grace’s House helps fund local outreach programs and provides affordable goods to our community. Whether you’re shopping or donating\, you’re contributing to a ministry that brings hope\, support\, and love to those in need. Come visit us to make a difference together!
URL:https://callahanfbc.com/event/graces-house/2028-10-26/
LOCATION:Grace’s House\, 449521 US HWY 301\, Callahan\, FL\, 32011\, United States
CATEGORIES:Community Impact
ATTACH;FMTTYPE=image/jpeg:https://callahanfbc.com/wp-content/uploads/2024/11/3T6A0224.jpg
END:VEVENT
BEGIN:VEVENT
DTSTART;TZID=UTC:20281031T100000
DTEND;TZID=UTC:20281031T140000
DTSTAMP:20260425T094309
CREATED:20241228T005529Z
LAST-MODIFIED:20241228T012507Z
UID:10002615-1856599200-1856613600@callahanfbc.com
SUMMARY:Grace's House
DESCRIPTION:Discover great finds and support a meaningful cause at Grace’s House! Our church’s thrift store ministry is dedicated to “Making a Difference\, Not a Profit.” Every purchase at Grace’s House helps fund local outreach programs and provides affordable goods to our community. Whether you’re shopping or donating\, you’re contributing to a ministry that brings hope\, support\, and love to those in need. Come visit us to make a difference together!
URL:https://callahanfbc.com/event/graces-house-2-3/2028-10-31/
LOCATION:Grace’s House\, 449521 US HWY 301\, Callahan\, FL\, 32011\, United States
CATEGORIES:Community Impact
ATTACH;FMTTYPE=image/jpeg:https://callahanfbc.com/wp-content/uploads/2024/11/3T6A0224.jpg
END:VEVENT
BEGIN:VEVENT
DTSTART;TZID=UTC:20281102T100000
DTEND;TZID=UTC:20281102T140000
DTSTAMP:20260425T094309
CREATED:20241113T020919Z
LAST-MODIFIED:20241118T235512Z
UID:10000481-1856772000-1856786400@callahanfbc.com
SUMMARY:Grace's House
DESCRIPTION:Discover great finds and support a meaningful cause at Grace’s House! Our church’s thrift store ministry is dedicated to “Making a Difference\, Not a Profit.” Every purchase at Grace’s House helps fund local outreach programs and provides affordable goods to our community. Whether you’re shopping or donating\, you’re contributing to a ministry that brings hope\, support\, and love to those in need. Come visit us to make a difference together!
URL:https://callahanfbc.com/event/graces-house/2028-11-02/
LOCATION:Grace’s House\, 449521 US HWY 301\, Callahan\, FL\, 32011\, United States
CATEGORIES:Community Impact
ATTACH;FMTTYPE=image/jpeg:https://callahanfbc.com/wp-content/uploads/2024/11/3T6A0224.jpg
END:VEVENT
BEGIN:VEVENT
DTSTART;TZID=UTC:20281107T100000
DTEND;TZID=UTC:20281107T140000
DTSTAMP:20260425T094309
CREATED:20241228T005529Z
LAST-MODIFIED:20241228T012507Z
UID:10002616-1857204000-1857218400@callahanfbc.com
SUMMARY:Grace's House
DESCRIPTION:Discover great finds and support a meaningful cause at Grace’s House! Our church’s thrift store ministry is dedicated to “Making a Difference\, Not a Profit.” Every purchase at Grace’s House helps fund local outreach programs and provides affordable goods to our community. Whether you’re shopping or donating\, you’re contributing to a ministry that brings hope\, support\, and love to those in need. Come visit us to make a difference together!
URL:https://callahanfbc.com/event/graces-house-2-3/2028-11-07/
LOCATION:Grace’s House\, 449521 US HWY 301\, Callahan\, FL\, 32011\, United States
CATEGORIES:Community Impact
ATTACH;FMTTYPE=image/jpeg:https://callahanfbc.com/wp-content/uploads/2024/11/3T6A0224.jpg
END:VEVENT
BEGIN:VEVENT
DTSTART;TZID=UTC:20281109T100000
DTEND;TZID=UTC:20281109T140000
DTSTAMP:20260425T094309
CREATED:20241113T020919Z
LAST-MODIFIED:20241118T235512Z
UID:10000482-1857376800-1857391200@callahanfbc.com
SUMMARY:Grace's House
DESCRIPTION:Discover great finds and support a meaningful cause at Grace’s House! Our church’s thrift store ministry is dedicated to “Making a Difference\, Not a Profit.” Every purchase at Grace’s House helps fund local outreach programs and provides affordable goods to our community. Whether you’re shopping or donating\, you’re contributing to a ministry that brings hope\, support\, and love to those in need. Come visit us to make a difference together!
URL:https://callahanfbc.com/event/graces-house/2028-11-09/
LOCATION:Grace’s House\, 449521 US HWY 301\, Callahan\, FL\, 32011\, United States
CATEGORIES:Community Impact
ATTACH;FMTTYPE=image/jpeg:https://callahanfbc.com/wp-content/uploads/2024/11/3T6A0224.jpg
END:VEVENT
BEGIN:VEVENT
DTSTART;TZID=UTC:20281114T100000
DTEND;TZID=UTC:20281114T140000
DTSTAMP:20260425T094309
CREATED:20241228T005529Z
LAST-MODIFIED:20241228T012507Z
UID:10002617-1857808800-1857823200@callahanfbc.com
SUMMARY:Grace's House
DESCRIPTION:Discover great finds and support a meaningful cause at Grace’s House! Our church’s thrift store ministry is dedicated to “Making a Difference\, Not a Profit.” Every purchase at Grace’s House helps fund local outreach programs and provides affordable goods to our community. Whether you’re shopping or donating\, you’re contributing to a ministry that brings hope\, support\, and love to those in need. Come visit us to make a difference together!
URL:https://callahanfbc.com/event/graces-house-2-3/2028-11-14/
LOCATION:Grace’s House\, 449521 US HWY 301\, Callahan\, FL\, 32011\, United States
CATEGORIES:Community Impact
ATTACH;FMTTYPE=image/jpeg:https://callahanfbc.com/wp-content/uploads/2024/11/3T6A0224.jpg
END:VEVENT
BEGIN:VEVENT
DTSTART;TZID=UTC:20281116T140000
DTEND;TZID=UTC:20281116T180000
DTSTAMP:20260425T094309
CREATED:20241118T235651Z
LAST-MODIFIED:20241119T000101Z
UID:10002386-1857996000-1858010400@callahanfbc.com
SUMMARY:Grace's House PM
DESCRIPTION:Discover great finds and support a meaningful cause at Grace’s House! Our church’s thrift store ministry is dedicated to “Making a Difference\, Not a Profit.” Every purchase at Grace’s House helps fund local outreach programs and provides affordable goods to our community. Whether you’re shopping or donating\, you’re contributing to a ministry that brings hope\, support\, and love to those in need. Come visit us to make a difference together!
URL:https://callahanfbc.com/event/graces-house-pm/2028-11-16/
LOCATION:Grace’s House\, 449521 US HWY 301\, Callahan\, FL\, 32011\, United States
CATEGORIES:Community Impact
ATTACH;FMTTYPE=image/jpeg:https://callahanfbc.com/wp-content/uploads/2024/11/3T6A0224.jpg
END:VEVENT
BEGIN:VEVENT
DTSTART;TZID=UTC:20281121T100000
DTEND;TZID=UTC:20281121T140000
DTSTAMP:20260425T094309
CREATED:20241228T005529Z
LAST-MODIFIED:20241228T012507Z
UID:10002618-1858413600-1858428000@callahanfbc.com
SUMMARY:Grace's House
DESCRIPTION:Discover great finds and support a meaningful cause at Grace’s House! Our church’s thrift store ministry is dedicated to “Making a Difference\, Not a Profit.” Every purchase at Grace’s House helps fund local outreach programs and provides affordable goods to our community. Whether you’re shopping or donating\, you’re contributing to a ministry that brings hope\, support\, and love to those in need. Come visit us to make a difference together!
URL:https://callahanfbc.com/event/graces-house-2-3/2028-11-21/
LOCATION:Grace’s House\, 449521 US HWY 301\, Callahan\, FL\, 32011\, United States
CATEGORIES:Community Impact
ATTACH;FMTTYPE=image/jpeg:https://callahanfbc.com/wp-content/uploads/2024/11/3T6A0224.jpg
END:VEVENT
BEGIN:VEVENT
DTSTART;TZID=UTC:20281123T100000
DTEND;TZID=UTC:20281123T140000
DTSTAMP:20260425T094309
CREATED:20241113T020919Z
LAST-MODIFIED:20241118T235512Z
UID:10000484-1858586400-1858600800@callahanfbc.com
SUMMARY:Grace's House
DESCRIPTION:Discover great finds and support a meaningful cause at Grace’s House! Our church’s thrift store ministry is dedicated to “Making a Difference\, Not a Profit.” Every purchase at Grace’s House helps fund local outreach programs and provides affordable goods to our community. Whether you’re shopping or donating\, you’re contributing to a ministry that brings hope\, support\, and love to those in need. Come visit us to make a difference together!
URL:https://callahanfbc.com/event/graces-house/2028-11-23/
LOCATION:Grace’s House\, 449521 US HWY 301\, Callahan\, FL\, 32011\, United States
CATEGORIES:Community Impact
ATTACH;FMTTYPE=image/jpeg:https://callahanfbc.com/wp-content/uploads/2024/11/3T6A0224.jpg
END:VEVENT
BEGIN:VEVENT
DTSTART;TZID=UTC:20281128T100000
DTEND;TZID=UTC:20281128T140000
DTSTAMP:20260425T094309
CREATED:20241228T005529Z
LAST-MODIFIED:20241228T012507Z
UID:10002619-1859018400-1859032800@callahanfbc.com
SUMMARY:Grace's House
DESCRIPTION:Discover great finds and support a meaningful cause at Grace’s House! Our church’s thrift store ministry is dedicated to “Making a Difference\, Not a Profit.” Every purchase at Grace’s House helps fund local outreach programs and provides affordable goods to our community. Whether you’re shopping or donating\, you’re contributing to a ministry that brings hope\, support\, and love to those in need. Come visit us to make a difference together!
URL:https://callahanfbc.com/event/graces-house-2-3/2028-11-28/
LOCATION:Grace’s House\, 449521 US HWY 301\, Callahan\, FL\, 32011\, United States
CATEGORIES:Community Impact
ATTACH;FMTTYPE=image/jpeg:https://callahanfbc.com/wp-content/uploads/2024/11/3T6A0224.jpg
END:VEVENT
BEGIN:VEVENT
DTSTART;TZID=UTC:20281130T100000
DTEND;TZID=UTC:20281130T140000
DTSTAMP:20260425T094309
CREATED:20241113T020919Z
LAST-MODIFIED:20241118T235512Z
UID:10000485-1859191200-1859205600@callahanfbc.com
SUMMARY:Grace's House
DESCRIPTION:Discover great finds and support a meaningful cause at Grace’s House! Our church’s thrift store ministry is dedicated to “Making a Difference\, Not a Profit.” Every purchase at Grace’s House helps fund local outreach programs and provides affordable goods to our community. Whether you’re shopping or donating\, you’re contributing to a ministry that brings hope\, support\, and love to those in need. Come visit us to make a difference together!
URL:https://callahanfbc.com/event/graces-house/2028-11-30/
LOCATION:Grace’s House\, 449521 US HWY 301\, Callahan\, FL\, 32011\, United States
CATEGORIES:Community Impact
ATTACH;FMTTYPE=image/jpeg:https://callahanfbc.com/wp-content/uploads/2024/11/3T6A0224.jpg
END:VEVENT
BEGIN:VEVENT
DTSTART;TZID=UTC:20281205T100000
DTEND;TZID=UTC:20281205T140000
DTSTAMP:20260425T094309
CREATED:20241228T005529Z
LAST-MODIFIED:20241228T012507Z
UID:10002620-1859623200-1859637600@callahanfbc.com
SUMMARY:Grace's House
DESCRIPTION:Discover great finds and support a meaningful cause at Grace’s House! Our church’s thrift store ministry is dedicated to “Making a Difference\, Not a Profit.” Every purchase at Grace’s House helps fund local outreach programs and provides affordable goods to our community. Whether you’re shopping or donating\, you’re contributing to a ministry that brings hope\, support\, and love to those in need. Come visit us to make a difference together!
URL:https://callahanfbc.com/event/graces-house-2-3/2028-12-05/
LOCATION:Grace’s House\, 449521 US HWY 301\, Callahan\, FL\, 32011\, United States
CATEGORIES:Community Impact
ATTACH;FMTTYPE=image/jpeg:https://callahanfbc.com/wp-content/uploads/2024/11/3T6A0224.jpg
END:VEVENT
BEGIN:VEVENT
DTSTART;TZID=UTC:20281207T100000
DTEND;TZID=UTC:20281207T140000
DTSTAMP:20260425T094309
CREATED:20241113T020919Z
LAST-MODIFIED:20241118T235512Z
UID:10000486-1859796000-1859810400@callahanfbc.com
SUMMARY:Grace's House
DESCRIPTION:Discover great finds and support a meaningful cause at Grace’s House! Our church’s thrift store ministry is dedicated to “Making a Difference\, Not a Profit.” Every purchase at Grace’s House helps fund local outreach programs and provides affordable goods to our community. Whether you’re shopping or donating\, you’re contributing to a ministry that brings hope\, support\, and love to those in need. Come visit us to make a difference together!
URL:https://callahanfbc.com/event/graces-house/2028-12-07/
LOCATION:Grace’s House\, 449521 US HWY 301\, Callahan\, FL\, 32011\, United States
CATEGORIES:Community Impact
ATTACH;FMTTYPE=image/jpeg:https://callahanfbc.com/wp-content/uploads/2024/11/3T6A0224.jpg
END:VEVENT
BEGIN:VEVENT
DTSTART;TZID=UTC:20281212T100000
DTEND;TZID=UTC:20281212T140000
DTSTAMP:20260425T094309
CREATED:20241228T005529Z
LAST-MODIFIED:20241228T012507Z
UID:10002621-1860228000-1860242400@callahanfbc.com
SUMMARY:Grace's House
DESCRIPTION:Discover great finds and support a meaningful cause at Grace’s House! Our church’s thrift store ministry is dedicated to “Making a Difference\, Not a Profit.” Every purchase at Grace’s House helps fund local outreach programs and provides affordable goods to our community. Whether you’re shopping or donating\, you’re contributing to a ministry that brings hope\, support\, and love to those in need. Come visit us to make a difference together!
URL:https://callahanfbc.com/event/graces-house-2-3/2028-12-12/
LOCATION:Grace’s House\, 449521 US HWY 301\, Callahan\, FL\, 32011\, United States
CATEGORIES:Community Impact
ATTACH;FMTTYPE=image/jpeg:https://callahanfbc.com/wp-content/uploads/2024/11/3T6A0224.jpg
END:VEVENT
BEGIN:VEVENT
DTSTART;TZID=UTC:20281214T100000
DTEND;TZID=UTC:20281214T140000
DTSTAMP:20260425T094309
CREATED:20241113T020919Z
LAST-MODIFIED:20241118T235512Z
UID:10000487-1860400800-1860415200@callahanfbc.com
SUMMARY:Grace's House
DESCRIPTION:Discover great finds and support a meaningful cause at Grace’s House! Our church’s thrift store ministry is dedicated to “Making a Difference\, Not a Profit.” Every purchase at Grace’s House helps fund local outreach programs and provides affordable goods to our community. Whether you’re shopping or donating\, you’re contributing to a ministry that brings hope\, support\, and love to those in need. Come visit us to make a difference together!
URL:https://callahanfbc.com/event/graces-house/2028-12-14/
LOCATION:Grace’s House\, 449521 US HWY 301\, Callahan\, FL\, 32011\, United States
CATEGORIES:Community Impact
ATTACH;FMTTYPE=image/jpeg:https://callahanfbc.com/wp-content/uploads/2024/11/3T6A0224.jpg
END:VEVENT
BEGIN:VEVENT
DTSTART;TZID=UTC:20281219T100000
DTEND;TZID=UTC:20281219T140000
DTSTAMP:20260425T094309
CREATED:20241228T005529Z
LAST-MODIFIED:20241228T012507Z
UID:10002622-1860832800-1860847200@callahanfbc.com
SUMMARY:Grace's House
DESCRIPTION:Discover great finds and support a meaningful cause at Grace’s House! Our church’s thrift store ministry is dedicated to “Making a Difference\, Not a Profit.” Every purchase at Grace’s House helps fund local outreach programs and provides affordable goods to our community. Whether you’re shopping or donating\, you’re contributing to a ministry that brings hope\, support\, and love to those in need. Come visit us to make a difference together!
URL:https://callahanfbc.com/event/graces-house-2-3/2028-12-19/
LOCATION:Grace’s House\, 449521 US HWY 301\, Callahan\, FL\, 32011\, United States
CATEGORIES:Community Impact
ATTACH;FMTTYPE=image/jpeg:https://callahanfbc.com/wp-content/uploads/2024/11/3T6A0224.jpg
END:VEVENT
BEGIN:VEVENT
DTSTART;TZID=UTC:20281221T140000
DTEND;TZID=UTC:20281221T180000
DTSTAMP:20260425T094309
CREATED:20241118T235651Z
LAST-MODIFIED:20241119T000101Z
UID:10002387-1861020000-1861034400@callahanfbc.com
SUMMARY:Grace's House PM
DESCRIPTION:Discover great finds and support a meaningful cause at Grace’s House! Our church’s thrift store ministry is dedicated to “Making a Difference\, Not a Profit.” Every purchase at Grace’s House helps fund local outreach programs and provides affordable goods to our community. Whether you’re shopping or donating\, you’re contributing to a ministry that brings hope\, support\, and love to those in need. Come visit us to make a difference together!
URL:https://callahanfbc.com/event/graces-house-pm/2028-12-21/
LOCATION:Grace’s House\, 449521 US HWY 301\, Callahan\, FL\, 32011\, United States
CATEGORIES:Community Impact
ATTACH;FMTTYPE=image/jpeg:https://callahanfbc.com/wp-content/uploads/2024/11/3T6A0224.jpg
END:VEVENT
BEGIN:VEVENT
DTSTART;TZID=UTC:20281226T100000
DTEND;TZID=UTC:20281226T140000
DTSTAMP:20260425T094309
CREATED:20241228T005529Z
LAST-MODIFIED:20241228T012507Z
UID:10002623-1861437600-1861452000@callahanfbc.com
SUMMARY:Grace's House
DESCRIPTION:Discover great finds and support a meaningful cause at Grace’s House! Our church’s thrift store ministry is dedicated to “Making a Difference\, Not a Profit.” Every purchase at Grace’s House helps fund local outreach programs and provides affordable goods to our community. Whether you’re shopping or donating\, you’re contributing to a ministry that brings hope\, support\, and love to those in need. Come visit us to make a difference together!
URL:https://callahanfbc.com/event/graces-house-2-3/2028-12-26/
LOCATION:Grace’s House\, 449521 US HWY 301\, Callahan\, FL\, 32011\, United States
CATEGORIES:Community Impact
ATTACH;FMTTYPE=image/jpeg:https://callahanfbc.com/wp-content/uploads/2024/11/3T6A0224.jpg
END:VEVENT
BEGIN:VEVENT
DTSTART;TZID=UTC:20281228T100000
DTEND;TZID=UTC:20281228T140000
DTSTAMP:20260425T094309
CREATED:20241113T020919Z
LAST-MODIFIED:20241118T235512Z
UID:10000489-1861610400-1861624800@callahanfbc.com
SUMMARY:Grace's House
DESCRIPTION:Discover great finds and support a meaningful cause at Grace’s House! Our church’s thrift store ministry is dedicated to “Making a Difference\, Not a Profit.” Every purchase at Grace’s House helps fund local outreach programs and provides affordable goods to our community. Whether you’re shopping or donating\, you’re contributing to a ministry that brings hope\, support\, and love to those in need. Come visit us to make a difference together!
URL:https://callahanfbc.com/event/graces-house/2028-12-28/
LOCATION:Grace’s House\, 449521 US HWY 301\, Callahan\, FL\, 32011\, United States
CATEGORIES:Community Impact
ATTACH;FMTTYPE=image/jpeg:https://callahanfbc.com/wp-content/uploads/2024/11/3T6A0224.jpg
END:VEVENT
BEGIN:VEVENT
DTSTART;TZID=UTC:20290102T100000
DTEND;TZID=UTC:20290102T140000
DTSTAMP:20260425T094309
CREATED:20241228T005529Z
LAST-MODIFIED:20241228T012507Z
UID:10002624-1862042400-1862056800@callahanfbc.com
SUMMARY:Grace's House
DESCRIPTION:Discover great finds and support a meaningful cause at Grace’s House! Our church’s thrift store ministry is dedicated to “Making a Difference\, Not a Profit.” Every purchase at Grace’s House helps fund local outreach programs and provides affordable goods to our community. Whether you’re shopping or donating\, you’re contributing to a ministry that brings hope\, support\, and love to those in need. Come visit us to make a difference together!
URL:https://callahanfbc.com/event/graces-house-2-3/2029-01-02/
LOCATION:Grace’s House\, 449521 US HWY 301\, Callahan\, FL\, 32011\, United States
CATEGORIES:Community Impact
ATTACH;FMTTYPE=image/jpeg:https://callahanfbc.com/wp-content/uploads/2024/11/3T6A0224.jpg
END:VEVENT
BEGIN:VEVENT
DTSTART;TZID=UTC:20290104T100000
DTEND;TZID=UTC:20290104T140000
DTSTAMP:20260425T094309
CREATED:20241113T020919Z
LAST-MODIFIED:20241118T235512Z
UID:10000490-1862215200-1862229600@callahanfbc.com
SUMMARY:Grace's House
DESCRIPTION:Discover great finds and support a meaningful cause at Grace’s House! Our church’s thrift store ministry is dedicated to “Making a Difference\, Not a Profit.” Every purchase at Grace’s House helps fund local outreach programs and provides affordable goods to our community. Whether you’re shopping or donating\, you’re contributing to a ministry that brings hope\, support\, and love to those in need. Come visit us to make a difference together!
URL:https://callahanfbc.com/event/graces-house/2029-01-04/
LOCATION:Grace’s House\, 449521 US HWY 301\, Callahan\, FL\, 32011\, United States
CATEGORIES:Community Impact
ATTACH;FMTTYPE=image/jpeg:https://callahanfbc.com/wp-content/uploads/2024/11/3T6A0224.jpg
END:VEVENT
BEGIN:VEVENT
DTSTART;TZID=UTC:20290109T100000
DTEND;TZID=UTC:20290109T140000
DTSTAMP:20260425T094309
CREATED:20241228T005529Z
LAST-MODIFIED:20241228T012507Z
UID:10002625-1862647200-1862661600@callahanfbc.com
SUMMARY:Grace's House
DESCRIPTION:Discover great finds and support a meaningful cause at Grace’s House! Our church’s thrift store ministry is dedicated to “Making a Difference\, Not a Profit.” Every purchase at Grace’s House helps fund local outreach programs and provides affordable goods to our community. Whether you’re shopping or donating\, you’re contributing to a ministry that brings hope\, support\, and love to those in need. Come visit us to make a difference together!
URL:https://callahanfbc.com/event/graces-house-2-3/2029-01-09/
LOCATION:Grace’s House\, 449521 US HWY 301\, Callahan\, FL\, 32011\, United States
CATEGORIES:Community Impact
ATTACH;FMTTYPE=image/jpeg:https://callahanfbc.com/wp-content/uploads/2024/11/3T6A0224.jpg
END:VEVENT
BEGIN:VEVENT
DTSTART;TZID=UTC:20290111T100000
DTEND;TZID=UTC:20290111T140000
DTSTAMP:20260425T094309
CREATED:20241113T020919Z
LAST-MODIFIED:20241118T235512Z
UID:10000491-1862820000-1862834400@callahanfbc.com
SUMMARY:Grace's House
DESCRIPTION:Discover great finds and support a meaningful cause at Grace’s House! Our church’s thrift store ministry is dedicated to “Making a Difference\, Not a Profit.” Every purchase at Grace’s House helps fund local outreach programs and provides affordable goods to our community. Whether you’re shopping or donating\, you’re contributing to a ministry that brings hope\, support\, and love to those in need. Come visit us to make a difference together!
URL:https://callahanfbc.com/event/graces-house/2029-01-11/
LOCATION:Grace’s House\, 449521 US HWY 301\, Callahan\, FL\, 32011\, United States
CATEGORIES:Community Impact
ATTACH;FMTTYPE=image/jpeg:https://callahanfbc.com/wp-content/uploads/2024/11/3T6A0224.jpg
END:VEVENT
BEGIN:VEVENT
DTSTART;TZID=UTC:20290116T100000
DTEND;TZID=UTC:20290116T140000
DTSTAMP:20260425T094309
CREATED:20241228T005529Z
LAST-MODIFIED:20241228T012507Z
UID:10002626-1863252000-1863266400@callahanfbc.com
SUMMARY:Grace's House
DESCRIPTION:Discover great finds and support a meaningful cause at Grace’s House! Our church’s thrift store ministry is dedicated to “Making a Difference\, Not a Profit.” Every purchase at Grace’s House helps fund local outreach programs and provides affordable goods to our community. Whether you’re shopping or donating\, you’re contributing to a ministry that brings hope\, support\, and love to those in need. Come visit us to make a difference together!
URL:https://callahanfbc.com/event/graces-house-2-3/2029-01-16/
LOCATION:Grace’s House\, 449521 US HWY 301\, Callahan\, FL\, 32011\, United States
CATEGORIES:Community Impact
ATTACH;FMTTYPE=image/jpeg:https://callahanfbc.com/wp-content/uploads/2024/11/3T6A0224.jpg
END:VEVENT
BEGIN:VEVENT
DTSTART;TZID=UTC:20290118T140000
DTEND;TZID=UTC:20290118T180000
DTSTAMP:20260425T094309
CREATED:20241118T235651Z
LAST-MODIFIED:20241119T000101Z
UID:10002388-1863439200-1863453600@callahanfbc.com
SUMMARY:Grace's House PM
DESCRIPTION:Discover great finds and support a meaningful cause at Grace’s House! Our church’s thrift store ministry is dedicated to “Making a Difference\, Not a Profit.” Every purchase at Grace’s House helps fund local outreach programs and provides affordable goods to our community. Whether you’re shopping or donating\, you’re contributing to a ministry that brings hope\, support\, and love to those in need. Come visit us to make a difference together!
URL:https://callahanfbc.com/event/graces-house-pm/2029-01-18/
LOCATION:Grace’s House\, 449521 US HWY 301\, Callahan\, FL\, 32011\, United States
CATEGORIES:Community Impact
ATTACH;FMTTYPE=image/jpeg:https://callahanfbc.com/wp-content/uploads/2024/11/3T6A0224.jpg
END:VEVENT
BEGIN:VEVENT
DTSTART;TZID=UTC:20290123T100000
DTEND;TZID=UTC:20290123T140000
DTSTAMP:20260425T094309
CREATED:20241228T005529Z
LAST-MODIFIED:20241228T012507Z
UID:10002627-1863856800-1863871200@callahanfbc.com
SUMMARY:Grace's House
DESCRIPTION:Discover great finds and support a meaningful cause at Grace’s House! Our church’s thrift store ministry is dedicated to “Making a Difference\, Not a Profit.” Every purchase at Grace’s House helps fund local outreach programs and provides affordable goods to our community. Whether you’re shopping or donating\, you’re contributing to a ministry that brings hope\, support\, and love to those in need. Come visit us to make a difference together!
URL:https://callahanfbc.com/event/graces-house-2-3/2029-01-23/
LOCATION:Grace’s House\, 449521 US HWY 301\, Callahan\, FL\, 32011\, United States
CATEGORIES:Community Impact
ATTACH;FMTTYPE=image/jpeg:https://callahanfbc.com/wp-content/uploads/2024/11/3T6A0224.jpg
END:VEVENT
BEGIN:VEVENT
DTSTART;TZID=UTC:20290125T100000
DTEND;TZID=UTC:20290125T140000
DTSTAMP:20260425T094309
CREATED:20241113T020919Z
LAST-MODIFIED:20241118T235512Z
UID:10000493-1864029600-1864044000@callahanfbc.com
SUMMARY:Grace's House
DESCRIPTION:Discover great finds and support a meaningful cause at Grace’s House! Our church’s thrift store ministry is dedicated to “Making a Difference\, Not a Profit.” Every purchase at Grace’s House helps fund local outreach programs and provides affordable goods to our community. Whether you’re shopping or donating\, you’re contributing to a ministry that brings hope\, support\, and love to those in need. Come visit us to make a difference together!
URL:https://callahanfbc.com/event/graces-house/2029-01-25/
LOCATION:Grace’s House\, 449521 US HWY 301\, Callahan\, FL\, 32011\, United States
CATEGORIES:Community Impact
ATTACH;FMTTYPE=image/jpeg:https://callahanfbc.com/wp-content/uploads/2024/11/3T6A0224.jpg
END:VEVENT
BEGIN:VEVENT
DTSTART;TZID=UTC:20290130T100000
DTEND;TZID=UTC:20290130T140000
DTSTAMP:20260425T094309
CREATED:20241228T005529Z
LAST-MODIFIED:20241228T012507Z
UID:10002628-1864461600-1864476000@callahanfbc.com
SUMMARY:Grace's House
DESCRIPTION:Discover great finds and support a meaningful cause at Grace’s House! Our church’s thrift store ministry is dedicated to “Making a Difference\, Not a Profit.” Every purchase at Grace’s House helps fund local outreach programs and provides affordable goods to our community. Whether you’re shopping or donating\, you’re contributing to a ministry that brings hope\, support\, and love to those in need. Come visit us to make a difference together!
URL:https://callahanfbc.com/event/graces-house-2-3/2029-01-30/
LOCATION:Grace’s House\, 449521 US HWY 301\, Callahan\, FL\, 32011\, United States
CATEGORIES:Community Impact
ATTACH;FMTTYPE=image/jpeg:https://callahanfbc.com/wp-content/uploads/2024/11/3T6A0224.jpg
END:VEVENT
BEGIN:VEVENT
DTSTART;TZID=UTC:20290201T100000
DTEND;TZID=UTC:20290201T140000
DTSTAMP:20260425T094309
CREATED:20241113T020919Z
LAST-MODIFIED:20241118T235512Z
UID:10000494-1864634400-1864648800@callahanfbc.com
SUMMARY:Grace's House
DESCRIPTION:Discover great finds and support a meaningful cause at Grace’s House! Our church’s thrift store ministry is dedicated to “Making a Difference\, Not a Profit.” Every purchase at Grace’s House helps fund local outreach programs and provides affordable goods to our community. Whether you’re shopping or donating\, you’re contributing to a ministry that brings hope\, support\, and love to those in need. Come visit us to make a difference together!
URL:https://callahanfbc.com/event/graces-house/2029-02-01/
LOCATION:Grace’s House\, 449521 US HWY 301\, Callahan\, FL\, 32011\, United States
CATEGORIES:Community Impact
ATTACH;FMTTYPE=image/jpeg:https://callahanfbc.com/wp-content/uploads/2024/11/3T6A0224.jpg
END:VEVENT
END:VCALENDAR