BEGIN:VCALENDAR
VERSION:2.0
PRODID:-//Callahan First Baptist Church - ECPv6.15.20//NONSGML v1.0//EN
CALSCALE:GREGORIAN
METHOD:PUBLISH
X-ORIGINAL-URL:https://callahanfbc.com
X-WR-CALDESC:Events for Callahan First Baptist Church
REFRESH-INTERVAL;VALUE=DURATION:PT1H
X-Robots-Tag:noindex
X-PUBLISHED-TTL:PT1H
BEGIN:VTIMEZONE
TZID:UTC
BEGIN:STANDARD
TZOFFSETFROM:+0000
TZOFFSETTO:+0000
TZNAME:UTC
DTSTART:20280101T000000
END:STANDARD
END:VTIMEZONE
BEGIN:VEVENT
DTSTART;TZID=UTC:20290417T100000
DTEND;TZID=UTC:20290417T140000
DTSTAMP:20260425T163338
CREATED:20241228T005529Z
LAST-MODIFIED:20241228T012507Z
UID:10002639-1871114400-1871128800@callahanfbc.com
SUMMARY:Grace's House
DESCRIPTION:Discover great finds and support a meaningful cause at Grace’s House! Our church’s thrift store ministry is dedicated to “Making a Difference\, Not a Profit.” Every purchase at Grace’s House helps fund local outreach programs and provides affordable goods to our community. Whether you’re shopping or donating\, you’re contributing to a ministry that brings hope\, support\, and love to those in need. Come visit us to make a difference together!
URL:https://callahanfbc.com/event/graces-house-2-3/2029-04-17/
LOCATION:Grace’s House\, 449521 US HWY 301\, Callahan\, FL\, 32011\, United States
CATEGORIES:Community Impact
ATTACH;FMTTYPE=image/jpeg:https://callahanfbc.com/wp-content/uploads/2024/11/3T6A0224.jpg
END:VEVENT
BEGIN:VEVENT
DTSTART;TZID=UTC:20290419T140000
DTEND;TZID=UTC:20290419T180000
DTSTAMP:20260425T163338
CREATED:20241118T235651Z
LAST-MODIFIED:20241119T000101Z
UID:10002391-1871301600-1871316000@callahanfbc.com
SUMMARY:Grace's House PM
DESCRIPTION:Discover great finds and support a meaningful cause at Grace’s House! Our church’s thrift store ministry is dedicated to “Making a Difference\, Not a Profit.” Every purchase at Grace’s House helps fund local outreach programs and provides affordable goods to our community. Whether you’re shopping or donating\, you’re contributing to a ministry that brings hope\, support\, and love to those in need. Come visit us to make a difference together!
URL:https://callahanfbc.com/event/graces-house-pm/2029-04-19/
LOCATION:Grace’s House\, 449521 US HWY 301\, Callahan\, FL\, 32011\, United States
CATEGORIES:Community Impact
ATTACH;FMTTYPE=image/jpeg:https://callahanfbc.com/wp-content/uploads/2024/11/3T6A0224.jpg
END:VEVENT
BEGIN:VEVENT
DTSTART;TZID=UTC:20290424T100000
DTEND;TZID=UTC:20290424T140000
DTSTAMP:20260425T163338
CREATED:20241228T005529Z
LAST-MODIFIED:20241228T012507Z
UID:10002640-1871719200-1871733600@callahanfbc.com
SUMMARY:Grace's House
DESCRIPTION:Discover great finds and support a meaningful cause at Grace’s House! Our church’s thrift store ministry is dedicated to “Making a Difference\, Not a Profit.” Every purchase at Grace’s House helps fund local outreach programs and provides affordable goods to our community. Whether you’re shopping or donating\, you’re contributing to a ministry that brings hope\, support\, and love to those in need. Come visit us to make a difference together!
URL:https://callahanfbc.com/event/graces-house-2-3/2029-04-24/
LOCATION:Grace’s House\, 449521 US HWY 301\, Callahan\, FL\, 32011\, United States
CATEGORIES:Community Impact
ATTACH;FMTTYPE=image/jpeg:https://callahanfbc.com/wp-content/uploads/2024/11/3T6A0224.jpg
END:VEVENT
BEGIN:VEVENT
DTSTART;TZID=UTC:20290426T100000
DTEND;TZID=UTC:20290426T140000
DTSTAMP:20260425T163338
CREATED:20241113T020919Z
LAST-MODIFIED:20241118T235512Z
UID:10000506-1871892000-1871906400@callahanfbc.com
SUMMARY:Grace's House
DESCRIPTION:Discover great finds and support a meaningful cause at Grace’s House! Our church’s thrift store ministry is dedicated to “Making a Difference\, Not a Profit.” Every purchase at Grace’s House helps fund local outreach programs and provides affordable goods to our community. Whether you’re shopping or donating\, you’re contributing to a ministry that brings hope\, support\, and love to those in need. Come visit us to make a difference together!
URL:https://callahanfbc.com/event/graces-house/2029-04-26/
LOCATION:Grace’s House\, 449521 US HWY 301\, Callahan\, FL\, 32011\, United States
CATEGORIES:Community Impact
ATTACH;FMTTYPE=image/jpeg:https://callahanfbc.com/wp-content/uploads/2024/11/3T6A0224.jpg
END:VEVENT
BEGIN:VEVENT
DTSTART;TZID=UTC:20290501T100000
DTEND;TZID=UTC:20290501T140000
DTSTAMP:20260425T163338
CREATED:20241228T005529Z
LAST-MODIFIED:20241228T012507Z
UID:10002641-1872324000-1872338400@callahanfbc.com
SUMMARY:Grace's House
DESCRIPTION:Discover great finds and support a meaningful cause at Grace’s House! Our church’s thrift store ministry is dedicated to “Making a Difference\, Not a Profit.” Every purchase at Grace’s House helps fund local outreach programs and provides affordable goods to our community. Whether you’re shopping or donating\, you’re contributing to a ministry that brings hope\, support\, and love to those in need. Come visit us to make a difference together!
URL:https://callahanfbc.com/event/graces-house-2-3/2029-05-01/
LOCATION:Grace’s House\, 449521 US HWY 301\, Callahan\, FL\, 32011\, United States
CATEGORIES:Community Impact
ATTACH;FMTTYPE=image/jpeg:https://callahanfbc.com/wp-content/uploads/2024/11/3T6A0224.jpg
END:VEVENT
BEGIN:VEVENT
DTSTART;TZID=UTC:20290503T100000
DTEND;TZID=UTC:20290503T140000
DTSTAMP:20260425T163338
CREATED:20241113T020919Z
LAST-MODIFIED:20241118T235512Z
UID:10000507-1872496800-1872511200@callahanfbc.com
SUMMARY:Grace's House
DESCRIPTION:Discover great finds and support a meaningful cause at Grace’s House! Our church’s thrift store ministry is dedicated to “Making a Difference\, Not a Profit.” Every purchase at Grace’s House helps fund local outreach programs and provides affordable goods to our community. Whether you’re shopping or donating\, you’re contributing to a ministry that brings hope\, support\, and love to those in need. Come visit us to make a difference together!
URL:https://callahanfbc.com/event/graces-house/2029-05-03/
LOCATION:Grace’s House\, 449521 US HWY 301\, Callahan\, FL\, 32011\, United States
CATEGORIES:Community Impact
ATTACH;FMTTYPE=image/jpeg:https://callahanfbc.com/wp-content/uploads/2024/11/3T6A0224.jpg
END:VEVENT
BEGIN:VEVENT
DTSTART;TZID=UTC:20290508T100000
DTEND;TZID=UTC:20290508T140000
DTSTAMP:20260425T163338
CREATED:20241228T005529Z
LAST-MODIFIED:20241228T012507Z
UID:10002642-1872928800-1872943200@callahanfbc.com
SUMMARY:Grace's House
DESCRIPTION:Discover great finds and support a meaningful cause at Grace’s House! Our church’s thrift store ministry is dedicated to “Making a Difference\, Not a Profit.” Every purchase at Grace’s House helps fund local outreach programs and provides affordable goods to our community. Whether you’re shopping or donating\, you’re contributing to a ministry that brings hope\, support\, and love to those in need. Come visit us to make a difference together!
URL:https://callahanfbc.com/event/graces-house-2-3/2029-05-08/
LOCATION:Grace’s House\, 449521 US HWY 301\, Callahan\, FL\, 32011\, United States
CATEGORIES:Community Impact
ATTACH;FMTTYPE=image/jpeg:https://callahanfbc.com/wp-content/uploads/2024/11/3T6A0224.jpg
END:VEVENT
BEGIN:VEVENT
DTSTART;TZID=UTC:20290510T100000
DTEND;TZID=UTC:20290510T140000
DTSTAMP:20260425T163338
CREATED:20241113T020919Z
LAST-MODIFIED:20241118T235512Z
UID:10000508-1873101600-1873116000@callahanfbc.com
SUMMARY:Grace's House
DESCRIPTION:Discover great finds and support a meaningful cause at Grace’s House! Our church’s thrift store ministry is dedicated to “Making a Difference\, Not a Profit.” Every purchase at Grace’s House helps fund local outreach programs and provides affordable goods to our community. Whether you’re shopping or donating\, you’re contributing to a ministry that brings hope\, support\, and love to those in need. Come visit us to make a difference together!
URL:https://callahanfbc.com/event/graces-house/2029-05-10/
LOCATION:Grace’s House\, 449521 US HWY 301\, Callahan\, FL\, 32011\, United States
CATEGORIES:Community Impact
ATTACH;FMTTYPE=image/jpeg:https://callahanfbc.com/wp-content/uploads/2024/11/3T6A0224.jpg
END:VEVENT
BEGIN:VEVENT
DTSTART;TZID=UTC:20290515T100000
DTEND;TZID=UTC:20290515T140000
DTSTAMP:20260425T163338
CREATED:20241228T005529Z
LAST-MODIFIED:20241228T012507Z
UID:10002643-1873533600-1873548000@callahanfbc.com
SUMMARY:Grace's House
DESCRIPTION:Discover great finds and support a meaningful cause at Grace’s House! Our church’s thrift store ministry is dedicated to “Making a Difference\, Not a Profit.” Every purchase at Grace’s House helps fund local outreach programs and provides affordable goods to our community. Whether you’re shopping or donating\, you’re contributing to a ministry that brings hope\, support\, and love to those in need. Come visit us to make a difference together!
URL:https://callahanfbc.com/event/graces-house-2-3/2029-05-15/
LOCATION:Grace’s House\, 449521 US HWY 301\, Callahan\, FL\, 32011\, United States
CATEGORIES:Community Impact
ATTACH;FMTTYPE=image/jpeg:https://callahanfbc.com/wp-content/uploads/2024/11/3T6A0224.jpg
END:VEVENT
BEGIN:VEVENT
DTSTART;TZID=UTC:20290517T140000
DTEND;TZID=UTC:20290517T180000
DTSTAMP:20260425T163338
CREATED:20241118T235651Z
LAST-MODIFIED:20241119T000101Z
UID:10002392-1873720800-1873735200@callahanfbc.com
SUMMARY:Grace's House PM
DESCRIPTION:Discover great finds and support a meaningful cause at Grace’s House! Our church’s thrift store ministry is dedicated to “Making a Difference\, Not a Profit.” Every purchase at Grace’s House helps fund local outreach programs and provides affordable goods to our community. Whether you’re shopping or donating\, you’re contributing to a ministry that brings hope\, support\, and love to those in need. Come visit us to make a difference together!
URL:https://callahanfbc.com/event/graces-house-pm/2029-05-17/
LOCATION:Grace’s House\, 449521 US HWY 301\, Callahan\, FL\, 32011\, United States
CATEGORIES:Community Impact
ATTACH;FMTTYPE=image/jpeg:https://callahanfbc.com/wp-content/uploads/2024/11/3T6A0224.jpg
END:VEVENT
BEGIN:VEVENT
DTSTART;TZID=UTC:20290522T100000
DTEND;TZID=UTC:20290522T140000
DTSTAMP:20260425T163338
CREATED:20241228T005529Z
LAST-MODIFIED:20241228T012507Z
UID:10002644-1874138400-1874152800@callahanfbc.com
SUMMARY:Grace's House
DESCRIPTION:Discover great finds and support a meaningful cause at Grace’s House! Our church’s thrift store ministry is dedicated to “Making a Difference\, Not a Profit.” Every purchase at Grace’s House helps fund local outreach programs and provides affordable goods to our community. Whether you’re shopping or donating\, you’re contributing to a ministry that brings hope\, support\, and love to those in need. Come visit us to make a difference together!
URL:https://callahanfbc.com/event/graces-house-2-3/2029-05-22/
LOCATION:Grace’s House\, 449521 US HWY 301\, Callahan\, FL\, 32011\, United States
CATEGORIES:Community Impact
ATTACH;FMTTYPE=image/jpeg:https://callahanfbc.com/wp-content/uploads/2024/11/3T6A0224.jpg
END:VEVENT
BEGIN:VEVENT
DTSTART;TZID=UTC:20290524T100000
DTEND;TZID=UTC:20290524T140000
DTSTAMP:20260425T163338
CREATED:20241113T020919Z
LAST-MODIFIED:20241118T235512Z
UID:10000510-1874311200-1874325600@callahanfbc.com
SUMMARY:Grace's House
DESCRIPTION:Discover great finds and support a meaningful cause at Grace’s House! Our church’s thrift store ministry is dedicated to “Making a Difference\, Not a Profit.” Every purchase at Grace’s House helps fund local outreach programs and provides affordable goods to our community. Whether you’re shopping or donating\, you’re contributing to a ministry that brings hope\, support\, and love to those in need. Come visit us to make a difference together!
URL:https://callahanfbc.com/event/graces-house/2029-05-24/
LOCATION:Grace’s House\, 449521 US HWY 301\, Callahan\, FL\, 32011\, United States
CATEGORIES:Community Impact
ATTACH;FMTTYPE=image/jpeg:https://callahanfbc.com/wp-content/uploads/2024/11/3T6A0224.jpg
END:VEVENT
BEGIN:VEVENT
DTSTART;TZID=UTC:20290529T100000
DTEND;TZID=UTC:20290529T140000
DTSTAMP:20260425T163338
CREATED:20241228T005529Z
LAST-MODIFIED:20241228T012507Z
UID:10002645-1874743200-1874757600@callahanfbc.com
SUMMARY:Grace's House
DESCRIPTION:Discover great finds and support a meaningful cause at Grace’s House! Our church’s thrift store ministry is dedicated to “Making a Difference\, Not a Profit.” Every purchase at Grace’s House helps fund local outreach programs and provides affordable goods to our community. Whether you’re shopping or donating\, you’re contributing to a ministry that brings hope\, support\, and love to those in need. Come visit us to make a difference together!
URL:https://callahanfbc.com/event/graces-house-2-3/2029-05-29/
LOCATION:Grace’s House\, 449521 US HWY 301\, Callahan\, FL\, 32011\, United States
CATEGORIES:Community Impact
ATTACH;FMTTYPE=image/jpeg:https://callahanfbc.com/wp-content/uploads/2024/11/3T6A0224.jpg
END:VEVENT
BEGIN:VEVENT
DTSTART;TZID=UTC:20290531T100000
DTEND;TZID=UTC:20290531T140000
DTSTAMP:20260425T163338
CREATED:20241113T020919Z
LAST-MODIFIED:20241118T235512Z
UID:10000511-1874916000-1874930400@callahanfbc.com
SUMMARY:Grace's House
DESCRIPTION:Discover great finds and support a meaningful cause at Grace’s House! Our church’s thrift store ministry is dedicated to “Making a Difference\, Not a Profit.” Every purchase at Grace’s House helps fund local outreach programs and provides affordable goods to our community. Whether you’re shopping or donating\, you’re contributing to a ministry that brings hope\, support\, and love to those in need. Come visit us to make a difference together!
URL:https://callahanfbc.com/event/graces-house/2029-05-31/
LOCATION:Grace’s House\, 449521 US HWY 301\, Callahan\, FL\, 32011\, United States
CATEGORIES:Community Impact
ATTACH;FMTTYPE=image/jpeg:https://callahanfbc.com/wp-content/uploads/2024/11/3T6A0224.jpg
END:VEVENT
BEGIN:VEVENT
DTSTART;TZID=UTC:20290605T100000
DTEND;TZID=UTC:20290605T140000
DTSTAMP:20260425T163338
CREATED:20241228T005529Z
LAST-MODIFIED:20241228T012507Z
UID:10002646-1875348000-1875362400@callahanfbc.com
SUMMARY:Grace's House
DESCRIPTION:Discover great finds and support a meaningful cause at Grace’s House! Our church’s thrift store ministry is dedicated to “Making a Difference\, Not a Profit.” Every purchase at Grace’s House helps fund local outreach programs and provides affordable goods to our community. Whether you’re shopping or donating\, you’re contributing to a ministry that brings hope\, support\, and love to those in need. Come visit us to make a difference together!
URL:https://callahanfbc.com/event/graces-house-2-3/2029-06-05/
LOCATION:Grace’s House\, 449521 US HWY 301\, Callahan\, FL\, 32011\, United States
CATEGORIES:Community Impact
ATTACH;FMTTYPE=image/jpeg:https://callahanfbc.com/wp-content/uploads/2024/11/3T6A0224.jpg
END:VEVENT
BEGIN:VEVENT
DTSTART;TZID=UTC:20290607T100000
DTEND;TZID=UTC:20290607T140000
DTSTAMP:20260425T163338
CREATED:20241113T020919Z
LAST-MODIFIED:20241118T235512Z
UID:10000512-1875520800-1875535200@callahanfbc.com
SUMMARY:Grace's House
DESCRIPTION:Discover great finds and support a meaningful cause at Grace’s House! Our church’s thrift store ministry is dedicated to “Making a Difference\, Not a Profit.” Every purchase at Grace’s House helps fund local outreach programs and provides affordable goods to our community. Whether you’re shopping or donating\, you’re contributing to a ministry that brings hope\, support\, and love to those in need. Come visit us to make a difference together!
URL:https://callahanfbc.com/event/graces-house/2029-06-07/
LOCATION:Grace’s House\, 449521 US HWY 301\, Callahan\, FL\, 32011\, United States
CATEGORIES:Community Impact
ATTACH;FMTTYPE=image/jpeg:https://callahanfbc.com/wp-content/uploads/2024/11/3T6A0224.jpg
END:VEVENT
BEGIN:VEVENT
DTSTART;TZID=UTC:20290612T100000
DTEND;TZID=UTC:20290612T140000
DTSTAMP:20260425T163338
CREATED:20241228T005529Z
LAST-MODIFIED:20241228T012507Z
UID:10002647-1875952800-1875967200@callahanfbc.com
SUMMARY:Grace's House
DESCRIPTION:Discover great finds and support a meaningful cause at Grace’s House! Our church’s thrift store ministry is dedicated to “Making a Difference\, Not a Profit.” Every purchase at Grace’s House helps fund local outreach programs and provides affordable goods to our community. Whether you’re shopping or donating\, you’re contributing to a ministry that brings hope\, support\, and love to those in need. Come visit us to make a difference together!
URL:https://callahanfbc.com/event/graces-house-2-3/2029-06-12/
LOCATION:Grace’s House\, 449521 US HWY 301\, Callahan\, FL\, 32011\, United States
CATEGORIES:Community Impact
ATTACH;FMTTYPE=image/jpeg:https://callahanfbc.com/wp-content/uploads/2024/11/3T6A0224.jpg
END:VEVENT
BEGIN:VEVENT
DTSTART;TZID=UTC:20290614T100000
DTEND;TZID=UTC:20290614T140000
DTSTAMP:20260425T163338
CREATED:20241113T020919Z
LAST-MODIFIED:20241118T235512Z
UID:10000513-1876125600-1876140000@callahanfbc.com
SUMMARY:Grace's House
DESCRIPTION:Discover great finds and support a meaningful cause at Grace’s House! Our church’s thrift store ministry is dedicated to “Making a Difference\, Not a Profit.” Every purchase at Grace’s House helps fund local outreach programs and provides affordable goods to our community. Whether you’re shopping or donating\, you’re contributing to a ministry that brings hope\, support\, and love to those in need. Come visit us to make a difference together!
URL:https://callahanfbc.com/event/graces-house/2029-06-14/
LOCATION:Grace’s House\, 449521 US HWY 301\, Callahan\, FL\, 32011\, United States
CATEGORIES:Community Impact
ATTACH;FMTTYPE=image/jpeg:https://callahanfbc.com/wp-content/uploads/2024/11/3T6A0224.jpg
END:VEVENT
BEGIN:VEVENT
DTSTART;TZID=UTC:20290619T100000
DTEND;TZID=UTC:20290619T140000
DTSTAMP:20260425T163338
CREATED:20241228T005529Z
LAST-MODIFIED:20241228T012507Z
UID:10002648-1876557600-1876572000@callahanfbc.com
SUMMARY:Grace's House
DESCRIPTION:Discover great finds and support a meaningful cause at Grace’s House! Our church’s thrift store ministry is dedicated to “Making a Difference\, Not a Profit.” Every purchase at Grace’s House helps fund local outreach programs and provides affordable goods to our community. Whether you’re shopping or donating\, you’re contributing to a ministry that brings hope\, support\, and love to those in need. Come visit us to make a difference together!
URL:https://callahanfbc.com/event/graces-house-2-3/2029-06-19/
LOCATION:Grace’s House\, 449521 US HWY 301\, Callahan\, FL\, 32011\, United States
CATEGORIES:Community Impact
ATTACH;FMTTYPE=image/jpeg:https://callahanfbc.com/wp-content/uploads/2024/11/3T6A0224.jpg
END:VEVENT
BEGIN:VEVENT
DTSTART;TZID=UTC:20290621T140000
DTEND;TZID=UTC:20290621T180000
DTSTAMP:20260425T163338
CREATED:20241118T235651Z
LAST-MODIFIED:20241119T000101Z
UID:10002393-1876744800-1876759200@callahanfbc.com
SUMMARY:Grace's House PM
DESCRIPTION:Discover great finds and support a meaningful cause at Grace’s House! Our church’s thrift store ministry is dedicated to “Making a Difference\, Not a Profit.” Every purchase at Grace’s House helps fund local outreach programs and provides affordable goods to our community. Whether you’re shopping or donating\, you’re contributing to a ministry that brings hope\, support\, and love to those in need. Come visit us to make a difference together!
URL:https://callahanfbc.com/event/graces-house-pm/2029-06-21/
LOCATION:Grace’s House\, 449521 US HWY 301\, Callahan\, FL\, 32011\, United States
CATEGORIES:Community Impact
ATTACH;FMTTYPE=image/jpeg:https://callahanfbc.com/wp-content/uploads/2024/11/3T6A0224.jpg
END:VEVENT
BEGIN:VEVENT
DTSTART;TZID=UTC:20290626T100000
DTEND;TZID=UTC:20290626T140000
DTSTAMP:20260425T163338
CREATED:20241228T005529Z
LAST-MODIFIED:20241228T012507Z
UID:10002649-1877162400-1877176800@callahanfbc.com
SUMMARY:Grace's House
DESCRIPTION:Discover great finds and support a meaningful cause at Grace’s House! Our church’s thrift store ministry is dedicated to “Making a Difference\, Not a Profit.” Every purchase at Grace’s House helps fund local outreach programs and provides affordable goods to our community. Whether you’re shopping or donating\, you’re contributing to a ministry that brings hope\, support\, and love to those in need. Come visit us to make a difference together!
URL:https://callahanfbc.com/event/graces-house-2-3/2029-06-26/
LOCATION:Grace’s House\, 449521 US HWY 301\, Callahan\, FL\, 32011\, United States
CATEGORIES:Community Impact
ATTACH;FMTTYPE=image/jpeg:https://callahanfbc.com/wp-content/uploads/2024/11/3T6A0224.jpg
END:VEVENT
BEGIN:VEVENT
DTSTART;TZID=UTC:20290628T100000
DTEND;TZID=UTC:20290628T140000
DTSTAMP:20260425T163338
CREATED:20241113T020919Z
LAST-MODIFIED:20241118T235512Z
UID:10000515-1877335200-1877349600@callahanfbc.com
SUMMARY:Grace's House
DESCRIPTION:Discover great finds and support a meaningful cause at Grace’s House! Our church’s thrift store ministry is dedicated to “Making a Difference\, Not a Profit.” Every purchase at Grace’s House helps fund local outreach programs and provides affordable goods to our community. Whether you’re shopping or donating\, you’re contributing to a ministry that brings hope\, support\, and love to those in need. Come visit us to make a difference together!
URL:https://callahanfbc.com/event/graces-house/2029-06-28/
LOCATION:Grace’s House\, 449521 US HWY 301\, Callahan\, FL\, 32011\, United States
CATEGORIES:Community Impact
ATTACH;FMTTYPE=image/jpeg:https://callahanfbc.com/wp-content/uploads/2024/11/3T6A0224.jpg
END:VEVENT
BEGIN:VEVENT
DTSTART;TZID=UTC:20290703T100000
DTEND;TZID=UTC:20290703T140000
DTSTAMP:20260425T163338
CREATED:20241228T005529Z
LAST-MODIFIED:20241228T012507Z
UID:10002650-1877767200-1877781600@callahanfbc.com
SUMMARY:Grace's House
DESCRIPTION:Discover great finds and support a meaningful cause at Grace’s House! Our church’s thrift store ministry is dedicated to “Making a Difference\, Not a Profit.” Every purchase at Grace’s House helps fund local outreach programs and provides affordable goods to our community. Whether you’re shopping or donating\, you’re contributing to a ministry that brings hope\, support\, and love to those in need. Come visit us to make a difference together!
URL:https://callahanfbc.com/event/graces-house-2-3/2029-07-03/
LOCATION:Grace’s House\, 449521 US HWY 301\, Callahan\, FL\, 32011\, United States
CATEGORIES:Community Impact
ATTACH;FMTTYPE=image/jpeg:https://callahanfbc.com/wp-content/uploads/2024/11/3T6A0224.jpg
END:VEVENT
BEGIN:VEVENT
DTSTART;TZID=UTC:20290705T100000
DTEND;TZID=UTC:20290705T140000
DTSTAMP:20260425T163338
CREATED:20241113T020919Z
LAST-MODIFIED:20241118T235512Z
UID:10000516-1877940000-1877954400@callahanfbc.com
SUMMARY:Grace's House
DESCRIPTION:Discover great finds and support a meaningful cause at Grace’s House! Our church’s thrift store ministry is dedicated to “Making a Difference\, Not a Profit.” Every purchase at Grace’s House helps fund local outreach programs and provides affordable goods to our community. Whether you’re shopping or donating\, you’re contributing to a ministry that brings hope\, support\, and love to those in need. Come visit us to make a difference together!
URL:https://callahanfbc.com/event/graces-house/2029-07-05/
LOCATION:Grace’s House\, 449521 US HWY 301\, Callahan\, FL\, 32011\, United States
CATEGORIES:Community Impact
ATTACH;FMTTYPE=image/jpeg:https://callahanfbc.com/wp-content/uploads/2024/11/3T6A0224.jpg
END:VEVENT
BEGIN:VEVENT
DTSTART;TZID=UTC:20290710T100000
DTEND;TZID=UTC:20290710T140000
DTSTAMP:20260425T163338
CREATED:20241228T005529Z
LAST-MODIFIED:20241228T012507Z
UID:10002651-1878372000-1878386400@callahanfbc.com
SUMMARY:Grace's House
DESCRIPTION:Discover great finds and support a meaningful cause at Grace’s House! Our church’s thrift store ministry is dedicated to “Making a Difference\, Not a Profit.” Every purchase at Grace’s House helps fund local outreach programs and provides affordable goods to our community. Whether you’re shopping or donating\, you’re contributing to a ministry that brings hope\, support\, and love to those in need. Come visit us to make a difference together!
URL:https://callahanfbc.com/event/graces-house-2-3/2029-07-10/
LOCATION:Grace’s House\, 449521 US HWY 301\, Callahan\, FL\, 32011\, United States
CATEGORIES:Community Impact
ATTACH;FMTTYPE=image/jpeg:https://callahanfbc.com/wp-content/uploads/2024/11/3T6A0224.jpg
END:VEVENT
BEGIN:VEVENT
DTSTART;TZID=UTC:20290712T100000
DTEND;TZID=UTC:20290712T140000
DTSTAMP:20260425T163338
CREATED:20241113T020919Z
LAST-MODIFIED:20241118T235512Z
UID:10000517-1878544800-1878559200@callahanfbc.com
SUMMARY:Grace's House
DESCRIPTION:Discover great finds and support a meaningful cause at Grace’s House! Our church’s thrift store ministry is dedicated to “Making a Difference\, Not a Profit.” Every purchase at Grace’s House helps fund local outreach programs and provides affordable goods to our community. Whether you’re shopping or donating\, you’re contributing to a ministry that brings hope\, support\, and love to those in need. Come visit us to make a difference together!
URL:https://callahanfbc.com/event/graces-house/2029-07-12/
LOCATION:Grace’s House\, 449521 US HWY 301\, Callahan\, FL\, 32011\, United States
CATEGORIES:Community Impact
ATTACH;FMTTYPE=image/jpeg:https://callahanfbc.com/wp-content/uploads/2024/11/3T6A0224.jpg
END:VEVENT
BEGIN:VEVENT
DTSTART;TZID=UTC:20290717T100000
DTEND;TZID=UTC:20290717T140000
DTSTAMP:20260425T163338
CREATED:20241228T005529Z
LAST-MODIFIED:20241228T012507Z
UID:10002652-1878976800-1878991200@callahanfbc.com
SUMMARY:Grace's House
DESCRIPTION:Discover great finds and support a meaningful cause at Grace’s House! Our church’s thrift store ministry is dedicated to “Making a Difference\, Not a Profit.” Every purchase at Grace’s House helps fund local outreach programs and provides affordable goods to our community. Whether you’re shopping or donating\, you’re contributing to a ministry that brings hope\, support\, and love to those in need. Come visit us to make a difference together!
URL:https://callahanfbc.com/event/graces-house-2-3/2029-07-17/
LOCATION:Grace’s House\, 449521 US HWY 301\, Callahan\, FL\, 32011\, United States
CATEGORIES:Community Impact
ATTACH;FMTTYPE=image/jpeg:https://callahanfbc.com/wp-content/uploads/2024/11/3T6A0224.jpg
END:VEVENT
BEGIN:VEVENT
DTSTART;TZID=UTC:20290719T140000
DTEND;TZID=UTC:20290719T180000
DTSTAMP:20260425T163338
CREATED:20241118T235651Z
LAST-MODIFIED:20241119T000101Z
UID:10002394-1879164000-1879178400@callahanfbc.com
SUMMARY:Grace's House PM
DESCRIPTION:Discover great finds and support a meaningful cause at Grace’s House! Our church’s thrift store ministry is dedicated to “Making a Difference\, Not a Profit.” Every purchase at Grace’s House helps fund local outreach programs and provides affordable goods to our community. Whether you’re shopping or donating\, you’re contributing to a ministry that brings hope\, support\, and love to those in need. Come visit us to make a difference together!
URL:https://callahanfbc.com/event/graces-house-pm/2029-07-19/
LOCATION:Grace’s House\, 449521 US HWY 301\, Callahan\, FL\, 32011\, United States
CATEGORIES:Community Impact
ATTACH;FMTTYPE=image/jpeg:https://callahanfbc.com/wp-content/uploads/2024/11/3T6A0224.jpg
END:VEVENT
BEGIN:VEVENT
DTSTART;TZID=UTC:20290724T100000
DTEND;TZID=UTC:20290724T140000
DTSTAMP:20260425T163338
CREATED:20241228T005529Z
LAST-MODIFIED:20241228T012507Z
UID:10002653-1879581600-1879596000@callahanfbc.com
SUMMARY:Grace's House
DESCRIPTION:Discover great finds and support a meaningful cause at Grace’s House! Our church’s thrift store ministry is dedicated to “Making a Difference\, Not a Profit.” Every purchase at Grace’s House helps fund local outreach programs and provides affordable goods to our community. Whether you’re shopping or donating\, you’re contributing to a ministry that brings hope\, support\, and love to those in need. Come visit us to make a difference together!
URL:https://callahanfbc.com/event/graces-house-2-3/2029-07-24/
LOCATION:Grace’s House\, 449521 US HWY 301\, Callahan\, FL\, 32011\, United States
CATEGORIES:Community Impact
ATTACH;FMTTYPE=image/jpeg:https://callahanfbc.com/wp-content/uploads/2024/11/3T6A0224.jpg
END:VEVENT
BEGIN:VEVENT
DTSTART;TZID=UTC:20290726T100000
DTEND;TZID=UTC:20290726T140000
DTSTAMP:20260425T163338
CREATED:20241113T020919Z
LAST-MODIFIED:20241118T235512Z
UID:10000519-1879754400-1879768800@callahanfbc.com
SUMMARY:Grace's House
DESCRIPTION:Discover great finds and support a meaningful cause at Grace’s House! Our church’s thrift store ministry is dedicated to “Making a Difference\, Not a Profit.” Every purchase at Grace’s House helps fund local outreach programs and provides affordable goods to our community. Whether you’re shopping or donating\, you’re contributing to a ministry that brings hope\, support\, and love to those in need. Come visit us to make a difference together!
URL:https://callahanfbc.com/event/graces-house/2029-07-26/
LOCATION:Grace’s House\, 449521 US HWY 301\, Callahan\, FL\, 32011\, United States
CATEGORIES:Community Impact
ATTACH;FMTTYPE=image/jpeg:https://callahanfbc.com/wp-content/uploads/2024/11/3T6A0224.jpg
END:VEVENT
END:VCALENDAR