BEGIN:VCALENDAR
VERSION:2.0
PRODID:-//Callahan First Baptist Church - ECPv6.15.20//NONSGML v1.0//EN
CALSCALE:GREGORIAN
METHOD:PUBLISH
X-ORIGINAL-URL:https://callahanfbc.com
X-WR-CALDESC:Events for Callahan First Baptist Church
REFRESH-INTERVAL;VALUE=DURATION:PT1H
X-Robots-Tag:noindex
X-PUBLISHED-TTL:PT1H
BEGIN:VTIMEZONE
TZID:UTC
BEGIN:STANDARD
TZOFFSETFROM:+0000
TZOFFSETTO:+0000
TZNAME:UTC
DTSTART:20270101T000000
END:STANDARD
END:VTIMEZONE
BEGIN:VEVENT
DTSTART;TZID=UTC:20280117T180000
DTEND;TZID=UTC:20280117T200000
DTSTAMP:20260425T160836
CREATED:20241113T205219Z
LAST-MODIFIED:20241113T205219Z
UID:10000962-1831744800-1831752000@callahanfbc.com
SUMMARY:Celebrate Recovery
DESCRIPTION:Looking for a safe space to find healing and freedom? Join us every Monday evening for Celebrate Recovery! This Christ-centered recovery program is designed to help people overcome life’s hurts\, habits\, and hang-ups. We start with a shared meal at 6:00 PM\, followed by an uplifting worship service at 6:30 PM. Come as you are\, and find support\, encouragement\, and the path to true freedom in a welcoming community.
URL:https://callahanfbc.com/event/celebrate-recovery/2028-01-17/
LOCATION:Gym\, 45090\, Callahan\, FL\, 32011\, United States
CATEGORIES:Community Impact
ATTACH;FMTTYPE=image/png:https://callahanfbc.com/wp-content/uploads/2024/11/Celebrate-Recovery-Banner-2021-e1731513092622.png
END:VEVENT
BEGIN:VEVENT
DTSTART;TZID=UTC:20280124T180000
DTEND;TZID=UTC:20280124T200000
DTSTAMP:20260425T160836
CREATED:20241113T205219Z
LAST-MODIFIED:20241113T205219Z
UID:10000963-1832349600-1832356800@callahanfbc.com
SUMMARY:Celebrate Recovery
DESCRIPTION:Looking for a safe space to find healing and freedom? Join us every Monday evening for Celebrate Recovery! This Christ-centered recovery program is designed to help people overcome life’s hurts\, habits\, and hang-ups. We start with a shared meal at 6:00 PM\, followed by an uplifting worship service at 6:30 PM. Come as you are\, and find support\, encouragement\, and the path to true freedom in a welcoming community.
URL:https://callahanfbc.com/event/celebrate-recovery/2028-01-24/
LOCATION:Gym\, 45090\, Callahan\, FL\, 32011\, United States
CATEGORIES:Community Impact
ATTACH;FMTTYPE=image/png:https://callahanfbc.com/wp-content/uploads/2024/11/Celebrate-Recovery-Banner-2021-e1731513092622.png
END:VEVENT
BEGIN:VEVENT
DTSTART;TZID=UTC:20280131T180000
DTEND;TZID=UTC:20280131T200000
DTSTAMP:20260425T160836
CREATED:20241113T205219Z
LAST-MODIFIED:20241113T205219Z
UID:10000964-1832954400-1832961600@callahanfbc.com
SUMMARY:Celebrate Recovery
DESCRIPTION:Looking for a safe space to find healing and freedom? Join us every Monday evening for Celebrate Recovery! This Christ-centered recovery program is designed to help people overcome life’s hurts\, habits\, and hang-ups. We start with a shared meal at 6:00 PM\, followed by an uplifting worship service at 6:30 PM. Come as you are\, and find support\, encouragement\, and the path to true freedom in a welcoming community.
URL:https://callahanfbc.com/event/celebrate-recovery/2028-01-31/
LOCATION:Gym\, 45090\, Callahan\, FL\, 32011\, United States
CATEGORIES:Community Impact
ATTACH;FMTTYPE=image/png:https://callahanfbc.com/wp-content/uploads/2024/11/Celebrate-Recovery-Banner-2021-e1731513092622.png
END:VEVENT
BEGIN:VEVENT
DTSTART;TZID=UTC:20280207T180000
DTEND;TZID=UTC:20280207T200000
DTSTAMP:20260425T160836
CREATED:20241113T205219Z
LAST-MODIFIED:20241113T205219Z
UID:10000965-1833559200-1833566400@callahanfbc.com
SUMMARY:Celebrate Recovery
DESCRIPTION:Looking for a safe space to find healing and freedom? Join us every Monday evening for Celebrate Recovery! This Christ-centered recovery program is designed to help people overcome life’s hurts\, habits\, and hang-ups. We start with a shared meal at 6:00 PM\, followed by an uplifting worship service at 6:30 PM. Come as you are\, and find support\, encouragement\, and the path to true freedom in a welcoming community.
URL:https://callahanfbc.com/event/celebrate-recovery/2028-02-07/
LOCATION:Gym\, 45090\, Callahan\, FL\, 32011\, United States
CATEGORIES:Community Impact
ATTACH;FMTTYPE=image/png:https://callahanfbc.com/wp-content/uploads/2024/11/Celebrate-Recovery-Banner-2021-e1731513092622.png
END:VEVENT
BEGIN:VEVENT
DTSTART;TZID=UTC:20280214T180000
DTEND;TZID=UTC:20280214T200000
DTSTAMP:20260425T160836
CREATED:20241113T205219Z
LAST-MODIFIED:20241113T205219Z
UID:10000966-1834164000-1834171200@callahanfbc.com
SUMMARY:Celebrate Recovery
DESCRIPTION:Looking for a safe space to find healing and freedom? Join us every Monday evening for Celebrate Recovery! This Christ-centered recovery program is designed to help people overcome life’s hurts\, habits\, and hang-ups. We start with a shared meal at 6:00 PM\, followed by an uplifting worship service at 6:30 PM. Come as you are\, and find support\, encouragement\, and the path to true freedom in a welcoming community.
URL:https://callahanfbc.com/event/celebrate-recovery/2028-02-14/
LOCATION:Gym\, 45090\, Callahan\, FL\, 32011\, United States
CATEGORIES:Community Impact
ATTACH;FMTTYPE=image/png:https://callahanfbc.com/wp-content/uploads/2024/11/Celebrate-Recovery-Banner-2021-e1731513092622.png
END:VEVENT
BEGIN:VEVENT
DTSTART;TZID=UTC:20280221T180000
DTEND;TZID=UTC:20280221T200000
DTSTAMP:20260425T160836
CREATED:20241113T205219Z
LAST-MODIFIED:20241113T205219Z
UID:10000967-1834768800-1834776000@callahanfbc.com
SUMMARY:Celebrate Recovery
DESCRIPTION:Looking for a safe space to find healing and freedom? Join us every Monday evening for Celebrate Recovery! This Christ-centered recovery program is designed to help people overcome life’s hurts\, habits\, and hang-ups. We start with a shared meal at 6:00 PM\, followed by an uplifting worship service at 6:30 PM. Come as you are\, and find support\, encouragement\, and the path to true freedom in a welcoming community.
URL:https://callahanfbc.com/event/celebrate-recovery/2028-02-21/
LOCATION:Gym\, 45090\, Callahan\, FL\, 32011\, United States
CATEGORIES:Community Impact
ATTACH;FMTTYPE=image/png:https://callahanfbc.com/wp-content/uploads/2024/11/Celebrate-Recovery-Banner-2021-e1731513092622.png
END:VEVENT
BEGIN:VEVENT
DTSTART;TZID=UTC:20280228T180000
DTEND;TZID=UTC:20280228T200000
DTSTAMP:20260425T160836
CREATED:20241113T205219Z
LAST-MODIFIED:20241113T205219Z
UID:10000968-1835373600-1835380800@callahanfbc.com
SUMMARY:Celebrate Recovery
DESCRIPTION:Looking for a safe space to find healing and freedom? Join us every Monday evening for Celebrate Recovery! This Christ-centered recovery program is designed to help people overcome life’s hurts\, habits\, and hang-ups. We start with a shared meal at 6:00 PM\, followed by an uplifting worship service at 6:30 PM. Come as you are\, and find support\, encouragement\, and the path to true freedom in a welcoming community.
URL:https://callahanfbc.com/event/celebrate-recovery/2028-02-28/
LOCATION:Gym\, 45090\, Callahan\, FL\, 32011\, United States
CATEGORIES:Community Impact
ATTACH;FMTTYPE=image/png:https://callahanfbc.com/wp-content/uploads/2024/11/Celebrate-Recovery-Banner-2021-e1731513092622.png
END:VEVENT
BEGIN:VEVENT
DTSTART;TZID=UTC:20280306T180000
DTEND;TZID=UTC:20280306T200000
DTSTAMP:20260425T160836
CREATED:20241113T205219Z
LAST-MODIFIED:20241113T205219Z
UID:10000969-1835978400-1835985600@callahanfbc.com
SUMMARY:Celebrate Recovery
DESCRIPTION:Looking for a safe space to find healing and freedom? Join us every Monday evening for Celebrate Recovery! This Christ-centered recovery program is designed to help people overcome life’s hurts\, habits\, and hang-ups. We start with a shared meal at 6:00 PM\, followed by an uplifting worship service at 6:30 PM. Come as you are\, and find support\, encouragement\, and the path to true freedom in a welcoming community.
URL:https://callahanfbc.com/event/celebrate-recovery/2028-03-06/
LOCATION:Gym\, 45090\, Callahan\, FL\, 32011\, United States
CATEGORIES:Community Impact
ATTACH;FMTTYPE=image/png:https://callahanfbc.com/wp-content/uploads/2024/11/Celebrate-Recovery-Banner-2021-e1731513092622.png
END:VEVENT
BEGIN:VEVENT
DTSTART;TZID=UTC:20280313T180000
DTEND;TZID=UTC:20280313T200000
DTSTAMP:20260425T160836
CREATED:20241113T205219Z
LAST-MODIFIED:20241113T205219Z
UID:10000970-1836583200-1836590400@callahanfbc.com
SUMMARY:Celebrate Recovery
DESCRIPTION:Looking for a safe space to find healing and freedom? Join us every Monday evening for Celebrate Recovery! This Christ-centered recovery program is designed to help people overcome life’s hurts\, habits\, and hang-ups. We start with a shared meal at 6:00 PM\, followed by an uplifting worship service at 6:30 PM. Come as you are\, and find support\, encouragement\, and the path to true freedom in a welcoming community.
URL:https://callahanfbc.com/event/celebrate-recovery/2028-03-13/
LOCATION:Gym\, 45090\, Callahan\, FL\, 32011\, United States
CATEGORIES:Community Impact
ATTACH;FMTTYPE=image/png:https://callahanfbc.com/wp-content/uploads/2024/11/Celebrate-Recovery-Banner-2021-e1731513092622.png
END:VEVENT
BEGIN:VEVENT
DTSTART;TZID=UTC:20280320T180000
DTEND;TZID=UTC:20280320T200000
DTSTAMP:20260425T160836
CREATED:20241113T205219Z
LAST-MODIFIED:20241113T205219Z
UID:10000971-1837188000-1837195200@callahanfbc.com
SUMMARY:Celebrate Recovery
DESCRIPTION:Looking for a safe space to find healing and freedom? Join us every Monday evening for Celebrate Recovery! This Christ-centered recovery program is designed to help people overcome life’s hurts\, habits\, and hang-ups. We start with a shared meal at 6:00 PM\, followed by an uplifting worship service at 6:30 PM. Come as you are\, and find support\, encouragement\, and the path to true freedom in a welcoming community.
URL:https://callahanfbc.com/event/celebrate-recovery/2028-03-20/
LOCATION:Gym\, 45090\, Callahan\, FL\, 32011\, United States
CATEGORIES:Community Impact
ATTACH;FMTTYPE=image/png:https://callahanfbc.com/wp-content/uploads/2024/11/Celebrate-Recovery-Banner-2021-e1731513092622.png
END:VEVENT
BEGIN:VEVENT
DTSTART;TZID=UTC:20280327T180000
DTEND;TZID=UTC:20280327T200000
DTSTAMP:20260425T160836
CREATED:20241113T205219Z
LAST-MODIFIED:20241113T205219Z
UID:10000972-1837792800-1837800000@callahanfbc.com
SUMMARY:Celebrate Recovery
DESCRIPTION:Looking for a safe space to find healing and freedom? Join us every Monday evening for Celebrate Recovery! This Christ-centered recovery program is designed to help people overcome life’s hurts\, habits\, and hang-ups. We start with a shared meal at 6:00 PM\, followed by an uplifting worship service at 6:30 PM. Come as you are\, and find support\, encouragement\, and the path to true freedom in a welcoming community.
URL:https://callahanfbc.com/event/celebrate-recovery/2028-03-27/
LOCATION:Gym\, 45090\, Callahan\, FL\, 32011\, United States
CATEGORIES:Community Impact
ATTACH;FMTTYPE=image/png:https://callahanfbc.com/wp-content/uploads/2024/11/Celebrate-Recovery-Banner-2021-e1731513092622.png
END:VEVENT
BEGIN:VEVENT
DTSTART;TZID=UTC:20280403T180000
DTEND;TZID=UTC:20280403T200000
DTSTAMP:20260425T160836
CREATED:20241113T205219Z
LAST-MODIFIED:20241113T205219Z
UID:10000973-1838397600-1838404800@callahanfbc.com
SUMMARY:Celebrate Recovery
DESCRIPTION:Looking for a safe space to find healing and freedom? Join us every Monday evening for Celebrate Recovery! This Christ-centered recovery program is designed to help people overcome life’s hurts\, habits\, and hang-ups. We start with a shared meal at 6:00 PM\, followed by an uplifting worship service at 6:30 PM. Come as you are\, and find support\, encouragement\, and the path to true freedom in a welcoming community.
URL:https://callahanfbc.com/event/celebrate-recovery/2028-04-03/
LOCATION:Gym\, 45090\, Callahan\, FL\, 32011\, United States
CATEGORIES:Community Impact
ATTACH;FMTTYPE=image/png:https://callahanfbc.com/wp-content/uploads/2024/11/Celebrate-Recovery-Banner-2021-e1731513092622.png
END:VEVENT
BEGIN:VEVENT
DTSTART;TZID=UTC:20280410T180000
DTEND;TZID=UTC:20280410T200000
DTSTAMP:20260425T160836
CREATED:20241113T205219Z
LAST-MODIFIED:20241113T205219Z
UID:10000974-1839002400-1839009600@callahanfbc.com
SUMMARY:Celebrate Recovery
DESCRIPTION:Looking for a safe space to find healing and freedom? Join us every Monday evening for Celebrate Recovery! This Christ-centered recovery program is designed to help people overcome life’s hurts\, habits\, and hang-ups. We start with a shared meal at 6:00 PM\, followed by an uplifting worship service at 6:30 PM. Come as you are\, and find support\, encouragement\, and the path to true freedom in a welcoming community.
URL:https://callahanfbc.com/event/celebrate-recovery/2028-04-10/
LOCATION:Gym\, 45090\, Callahan\, FL\, 32011\, United States
CATEGORIES:Community Impact
ATTACH;FMTTYPE=image/png:https://callahanfbc.com/wp-content/uploads/2024/11/Celebrate-Recovery-Banner-2021-e1731513092622.png
END:VEVENT
BEGIN:VEVENT
DTSTART;TZID=UTC:20280417T180000
DTEND;TZID=UTC:20280417T200000
DTSTAMP:20260425T160836
CREATED:20241113T205219Z
LAST-MODIFIED:20241113T205219Z
UID:10000975-1839607200-1839614400@callahanfbc.com
SUMMARY:Celebrate Recovery
DESCRIPTION:Looking for a safe space to find healing and freedom? Join us every Monday evening for Celebrate Recovery! This Christ-centered recovery program is designed to help people overcome life’s hurts\, habits\, and hang-ups. We start with a shared meal at 6:00 PM\, followed by an uplifting worship service at 6:30 PM. Come as you are\, and find support\, encouragement\, and the path to true freedom in a welcoming community.
URL:https://callahanfbc.com/event/celebrate-recovery/2028-04-17/
LOCATION:Gym\, 45090\, Callahan\, FL\, 32011\, United States
CATEGORIES:Community Impact
ATTACH;FMTTYPE=image/png:https://callahanfbc.com/wp-content/uploads/2024/11/Celebrate-Recovery-Banner-2021-e1731513092622.png
END:VEVENT
BEGIN:VEVENT
DTSTART;TZID=UTC:20280424T180000
DTEND;TZID=UTC:20280424T200000
DTSTAMP:20260425T160836
CREATED:20241113T205219Z
LAST-MODIFIED:20241113T205219Z
UID:10000976-1840212000-1840219200@callahanfbc.com
SUMMARY:Celebrate Recovery
DESCRIPTION:Looking for a safe space to find healing and freedom? Join us every Monday evening for Celebrate Recovery! This Christ-centered recovery program is designed to help people overcome life’s hurts\, habits\, and hang-ups. We start with a shared meal at 6:00 PM\, followed by an uplifting worship service at 6:30 PM. Come as you are\, and find support\, encouragement\, and the path to true freedom in a welcoming community.
URL:https://callahanfbc.com/event/celebrate-recovery/2028-04-24/
LOCATION:Gym\, 45090\, Callahan\, FL\, 32011\, United States
CATEGORIES:Community Impact
ATTACH;FMTTYPE=image/png:https://callahanfbc.com/wp-content/uploads/2024/11/Celebrate-Recovery-Banner-2021-e1731513092622.png
END:VEVENT
BEGIN:VEVENT
DTSTART;TZID=UTC:20280501T180000
DTEND;TZID=UTC:20280501T200000
DTSTAMP:20260425T160836
CREATED:20241113T205219Z
LAST-MODIFIED:20241113T205219Z
UID:10000977-1840816800-1840824000@callahanfbc.com
SUMMARY:Celebrate Recovery
DESCRIPTION:Looking for a safe space to find healing and freedom? Join us every Monday evening for Celebrate Recovery! This Christ-centered recovery program is designed to help people overcome life’s hurts\, habits\, and hang-ups. We start with a shared meal at 6:00 PM\, followed by an uplifting worship service at 6:30 PM. Come as you are\, and find support\, encouragement\, and the path to true freedom in a welcoming community.
URL:https://callahanfbc.com/event/celebrate-recovery/2028-05-01/
LOCATION:Gym\, 45090\, Callahan\, FL\, 32011\, United States
CATEGORIES:Community Impact
ATTACH;FMTTYPE=image/png:https://callahanfbc.com/wp-content/uploads/2024/11/Celebrate-Recovery-Banner-2021-e1731513092622.png
END:VEVENT
BEGIN:VEVENT
DTSTART;TZID=UTC:20280508T180000
DTEND;TZID=UTC:20280508T200000
DTSTAMP:20260425T160836
CREATED:20241113T205219Z
LAST-MODIFIED:20241113T205219Z
UID:10000978-1841421600-1841428800@callahanfbc.com
SUMMARY:Celebrate Recovery
DESCRIPTION:Looking for a safe space to find healing and freedom? Join us every Monday evening for Celebrate Recovery! This Christ-centered recovery program is designed to help people overcome life’s hurts\, habits\, and hang-ups. We start with a shared meal at 6:00 PM\, followed by an uplifting worship service at 6:30 PM. Come as you are\, and find support\, encouragement\, and the path to true freedom in a welcoming community.
URL:https://callahanfbc.com/event/celebrate-recovery/2028-05-08/
LOCATION:Gym\, 45090\, Callahan\, FL\, 32011\, United States
CATEGORIES:Community Impact
ATTACH;FMTTYPE=image/png:https://callahanfbc.com/wp-content/uploads/2024/11/Celebrate-Recovery-Banner-2021-e1731513092622.png
END:VEVENT
BEGIN:VEVENT
DTSTART;TZID=UTC:20280515T180000
DTEND;TZID=UTC:20280515T200000
DTSTAMP:20260425T160836
CREATED:20241113T205219Z
LAST-MODIFIED:20241113T205219Z
UID:10000979-1842026400-1842033600@callahanfbc.com
SUMMARY:Celebrate Recovery
DESCRIPTION:Looking for a safe space to find healing and freedom? Join us every Monday evening for Celebrate Recovery! This Christ-centered recovery program is designed to help people overcome life’s hurts\, habits\, and hang-ups. We start with a shared meal at 6:00 PM\, followed by an uplifting worship service at 6:30 PM. Come as you are\, and find support\, encouragement\, and the path to true freedom in a welcoming community.
URL:https://callahanfbc.com/event/celebrate-recovery/2028-05-15/
LOCATION:Gym\, 45090\, Callahan\, FL\, 32011\, United States
CATEGORIES:Community Impact
ATTACH;FMTTYPE=image/png:https://callahanfbc.com/wp-content/uploads/2024/11/Celebrate-Recovery-Banner-2021-e1731513092622.png
END:VEVENT
BEGIN:VEVENT
DTSTART;TZID=UTC:20280522T180000
DTEND;TZID=UTC:20280522T200000
DTSTAMP:20260425T160836
CREATED:20241113T205219Z
LAST-MODIFIED:20241113T205219Z
UID:10000980-1842631200-1842638400@callahanfbc.com
SUMMARY:Celebrate Recovery
DESCRIPTION:Looking for a safe space to find healing and freedom? Join us every Monday evening for Celebrate Recovery! This Christ-centered recovery program is designed to help people overcome life’s hurts\, habits\, and hang-ups. We start with a shared meal at 6:00 PM\, followed by an uplifting worship service at 6:30 PM. Come as you are\, and find support\, encouragement\, and the path to true freedom in a welcoming community.
URL:https://callahanfbc.com/event/celebrate-recovery/2028-05-22/
LOCATION:Gym\, 45090\, Callahan\, FL\, 32011\, United States
CATEGORIES:Community Impact
ATTACH;FMTTYPE=image/png:https://callahanfbc.com/wp-content/uploads/2024/11/Celebrate-Recovery-Banner-2021-e1731513092622.png
END:VEVENT
BEGIN:VEVENT
DTSTART;TZID=UTC:20280529T180000
DTEND;TZID=UTC:20280529T200000
DTSTAMP:20260425T160836
CREATED:20241113T205219Z
LAST-MODIFIED:20241113T205219Z
UID:10000981-1843236000-1843243200@callahanfbc.com
SUMMARY:Celebrate Recovery
DESCRIPTION:Looking for a safe space to find healing and freedom? Join us every Monday evening for Celebrate Recovery! This Christ-centered recovery program is designed to help people overcome life’s hurts\, habits\, and hang-ups. We start with a shared meal at 6:00 PM\, followed by an uplifting worship service at 6:30 PM. Come as you are\, and find support\, encouragement\, and the path to true freedom in a welcoming community.
URL:https://callahanfbc.com/event/celebrate-recovery/2028-05-29/
LOCATION:Gym\, 45090\, Callahan\, FL\, 32011\, United States
CATEGORIES:Community Impact
ATTACH;FMTTYPE=image/png:https://callahanfbc.com/wp-content/uploads/2024/11/Celebrate-Recovery-Banner-2021-e1731513092622.png
END:VEVENT
BEGIN:VEVENT
DTSTART;TZID=UTC:20280605T180000
DTEND;TZID=UTC:20280605T200000
DTSTAMP:20260425T160836
CREATED:20241113T205219Z
LAST-MODIFIED:20241113T205219Z
UID:10000982-1843840800-1843848000@callahanfbc.com
SUMMARY:Celebrate Recovery
DESCRIPTION:Looking for a safe space to find healing and freedom? Join us every Monday evening for Celebrate Recovery! This Christ-centered recovery program is designed to help people overcome life’s hurts\, habits\, and hang-ups. We start with a shared meal at 6:00 PM\, followed by an uplifting worship service at 6:30 PM. Come as you are\, and find support\, encouragement\, and the path to true freedom in a welcoming community.
URL:https://callahanfbc.com/event/celebrate-recovery/2028-06-05/
LOCATION:Gym\, 45090\, Callahan\, FL\, 32011\, United States
CATEGORIES:Community Impact
ATTACH;FMTTYPE=image/png:https://callahanfbc.com/wp-content/uploads/2024/11/Celebrate-Recovery-Banner-2021-e1731513092622.png
END:VEVENT
BEGIN:VEVENT
DTSTART;TZID=UTC:20280612T180000
DTEND;TZID=UTC:20280612T200000
DTSTAMP:20260425T160836
CREATED:20241113T205219Z
LAST-MODIFIED:20241113T205219Z
UID:10000983-1844445600-1844452800@callahanfbc.com
SUMMARY:Celebrate Recovery
DESCRIPTION:Looking for a safe space to find healing and freedom? Join us every Monday evening for Celebrate Recovery! This Christ-centered recovery program is designed to help people overcome life’s hurts\, habits\, and hang-ups. We start with a shared meal at 6:00 PM\, followed by an uplifting worship service at 6:30 PM. Come as you are\, and find support\, encouragement\, and the path to true freedom in a welcoming community.
URL:https://callahanfbc.com/event/celebrate-recovery/2028-06-12/
LOCATION:Gym\, 45090\, Callahan\, FL\, 32011\, United States
CATEGORIES:Community Impact
ATTACH;FMTTYPE=image/png:https://callahanfbc.com/wp-content/uploads/2024/11/Celebrate-Recovery-Banner-2021-e1731513092622.png
END:VEVENT
BEGIN:VEVENT
DTSTART;TZID=UTC:20280619T180000
DTEND;TZID=UTC:20280619T200000
DTSTAMP:20260425T160836
CREATED:20241113T205219Z
LAST-MODIFIED:20241113T205219Z
UID:10000984-1845050400-1845057600@callahanfbc.com
SUMMARY:Celebrate Recovery
DESCRIPTION:Looking for a safe space to find healing and freedom? Join us every Monday evening for Celebrate Recovery! This Christ-centered recovery program is designed to help people overcome life’s hurts\, habits\, and hang-ups. We start with a shared meal at 6:00 PM\, followed by an uplifting worship service at 6:30 PM. Come as you are\, and find support\, encouragement\, and the path to true freedom in a welcoming community.
URL:https://callahanfbc.com/event/celebrate-recovery/2028-06-19/
LOCATION:Gym\, 45090\, Callahan\, FL\, 32011\, United States
CATEGORIES:Community Impact
ATTACH;FMTTYPE=image/png:https://callahanfbc.com/wp-content/uploads/2024/11/Celebrate-Recovery-Banner-2021-e1731513092622.png
END:VEVENT
BEGIN:VEVENT
DTSTART;TZID=UTC:20280626T180000
DTEND;TZID=UTC:20280626T200000
DTSTAMP:20260425T160836
CREATED:20241113T205219Z
LAST-MODIFIED:20241113T205219Z
UID:10000985-1845655200-1845662400@callahanfbc.com
SUMMARY:Celebrate Recovery
DESCRIPTION:Looking for a safe space to find healing and freedom? Join us every Monday evening for Celebrate Recovery! This Christ-centered recovery program is designed to help people overcome life’s hurts\, habits\, and hang-ups. We start with a shared meal at 6:00 PM\, followed by an uplifting worship service at 6:30 PM. Come as you are\, and find support\, encouragement\, and the path to true freedom in a welcoming community.
URL:https://callahanfbc.com/event/celebrate-recovery/2028-06-26/
LOCATION:Gym\, 45090\, Callahan\, FL\, 32011\, United States
CATEGORIES:Community Impact
ATTACH;FMTTYPE=image/png:https://callahanfbc.com/wp-content/uploads/2024/11/Celebrate-Recovery-Banner-2021-e1731513092622.png
END:VEVENT
BEGIN:VEVENT
DTSTART;TZID=UTC:20280703T180000
DTEND;TZID=UTC:20280703T200000
DTSTAMP:20260425T160836
CREATED:20241113T205219Z
LAST-MODIFIED:20241113T205219Z
UID:10000986-1846260000-1846267200@callahanfbc.com
SUMMARY:Celebrate Recovery
DESCRIPTION:Looking for a safe space to find healing and freedom? Join us every Monday evening for Celebrate Recovery! This Christ-centered recovery program is designed to help people overcome life’s hurts\, habits\, and hang-ups. We start with a shared meal at 6:00 PM\, followed by an uplifting worship service at 6:30 PM. Come as you are\, and find support\, encouragement\, and the path to true freedom in a welcoming community.
URL:https://callahanfbc.com/event/celebrate-recovery/2028-07-03/
LOCATION:Gym\, 45090\, Callahan\, FL\, 32011\, United States
CATEGORIES:Community Impact
ATTACH;FMTTYPE=image/png:https://callahanfbc.com/wp-content/uploads/2024/11/Celebrate-Recovery-Banner-2021-e1731513092622.png
END:VEVENT
BEGIN:VEVENT
DTSTART;TZID=UTC:20280710T180000
DTEND;TZID=UTC:20280710T200000
DTSTAMP:20260425T160836
CREATED:20241113T205219Z
LAST-MODIFIED:20241113T205219Z
UID:10000987-1846864800-1846872000@callahanfbc.com
SUMMARY:Celebrate Recovery
DESCRIPTION:Looking for a safe space to find healing and freedom? Join us every Monday evening for Celebrate Recovery! This Christ-centered recovery program is designed to help people overcome life’s hurts\, habits\, and hang-ups. We start with a shared meal at 6:00 PM\, followed by an uplifting worship service at 6:30 PM. Come as you are\, and find support\, encouragement\, and the path to true freedom in a welcoming community.
URL:https://callahanfbc.com/event/celebrate-recovery/2028-07-10/
LOCATION:Gym\, 45090\, Callahan\, FL\, 32011\, United States
CATEGORIES:Community Impact
ATTACH;FMTTYPE=image/png:https://callahanfbc.com/wp-content/uploads/2024/11/Celebrate-Recovery-Banner-2021-e1731513092622.png
END:VEVENT
BEGIN:VEVENT
DTSTART;TZID=UTC:20280717T180000
DTEND;TZID=UTC:20280717T200000
DTSTAMP:20260425T160836
CREATED:20241113T205219Z
LAST-MODIFIED:20241113T205219Z
UID:10000988-1847469600-1847476800@callahanfbc.com
SUMMARY:Celebrate Recovery
DESCRIPTION:Looking for a safe space to find healing and freedom? Join us every Monday evening for Celebrate Recovery! This Christ-centered recovery program is designed to help people overcome life’s hurts\, habits\, and hang-ups. We start with a shared meal at 6:00 PM\, followed by an uplifting worship service at 6:30 PM. Come as you are\, and find support\, encouragement\, and the path to true freedom in a welcoming community.
URL:https://callahanfbc.com/event/celebrate-recovery/2028-07-17/
LOCATION:Gym\, 45090\, Callahan\, FL\, 32011\, United States
CATEGORIES:Community Impact
ATTACH;FMTTYPE=image/png:https://callahanfbc.com/wp-content/uploads/2024/11/Celebrate-Recovery-Banner-2021-e1731513092622.png
END:VEVENT
BEGIN:VEVENT
DTSTART;TZID=UTC:20280724T180000
DTEND;TZID=UTC:20280724T200000
DTSTAMP:20260425T160836
CREATED:20241113T205219Z
LAST-MODIFIED:20241113T205219Z
UID:10000989-1848074400-1848081600@callahanfbc.com
SUMMARY:Celebrate Recovery
DESCRIPTION:Looking for a safe space to find healing and freedom? Join us every Monday evening for Celebrate Recovery! This Christ-centered recovery program is designed to help people overcome life’s hurts\, habits\, and hang-ups. We start with a shared meal at 6:00 PM\, followed by an uplifting worship service at 6:30 PM. Come as you are\, and find support\, encouragement\, and the path to true freedom in a welcoming community.
URL:https://callahanfbc.com/event/celebrate-recovery/2028-07-24/
LOCATION:Gym\, 45090\, Callahan\, FL\, 32011\, United States
CATEGORIES:Community Impact
ATTACH;FMTTYPE=image/png:https://callahanfbc.com/wp-content/uploads/2024/11/Celebrate-Recovery-Banner-2021-e1731513092622.png
END:VEVENT
BEGIN:VEVENT
DTSTART;TZID=UTC:20280731T180000
DTEND;TZID=UTC:20280731T200000
DTSTAMP:20260425T160836
CREATED:20241113T205219Z
LAST-MODIFIED:20241113T205219Z
UID:10000990-1848679200-1848686400@callahanfbc.com
SUMMARY:Celebrate Recovery
DESCRIPTION:Looking for a safe space to find healing and freedom? Join us every Monday evening for Celebrate Recovery! This Christ-centered recovery program is designed to help people overcome life’s hurts\, habits\, and hang-ups. We start with a shared meal at 6:00 PM\, followed by an uplifting worship service at 6:30 PM. Come as you are\, and find support\, encouragement\, and the path to true freedom in a welcoming community.
URL:https://callahanfbc.com/event/celebrate-recovery/2028-07-31/
LOCATION:Gym\, 45090\, Callahan\, FL\, 32011\, United States
CATEGORIES:Community Impact
ATTACH;FMTTYPE=image/png:https://callahanfbc.com/wp-content/uploads/2024/11/Celebrate-Recovery-Banner-2021-e1731513092622.png
END:VEVENT
BEGIN:VEVENT
DTSTART;TZID=UTC:20280807T180000
DTEND;TZID=UTC:20280807T200000
DTSTAMP:20260425T160836
CREATED:20241113T205219Z
LAST-MODIFIED:20241113T205219Z
UID:10000991-1849284000-1849291200@callahanfbc.com
SUMMARY:Celebrate Recovery
DESCRIPTION:Looking for a safe space to find healing and freedom? Join us every Monday evening for Celebrate Recovery! This Christ-centered recovery program is designed to help people overcome life’s hurts\, habits\, and hang-ups. We start with a shared meal at 6:00 PM\, followed by an uplifting worship service at 6:30 PM. Come as you are\, and find support\, encouragement\, and the path to true freedom in a welcoming community.
URL:https://callahanfbc.com/event/celebrate-recovery/2028-08-07/
LOCATION:Gym\, 45090\, Callahan\, FL\, 32011\, United States
CATEGORIES:Community Impact
ATTACH;FMTTYPE=image/png:https://callahanfbc.com/wp-content/uploads/2024/11/Celebrate-Recovery-Banner-2021-e1731513092622.png
END:VEVENT
END:VCALENDAR