BEGIN:VCALENDAR
VERSION:2.0
PRODID:-//Callahan First Baptist Church - ECPv6.15.20//NONSGML v1.0//EN
CALSCALE:GREGORIAN
METHOD:PUBLISH
X-ORIGINAL-URL:https://callahanfbc.com
X-WR-CALDESC:Events for Callahan First Baptist Church
REFRESH-INTERVAL;VALUE=DURATION:PT1H
X-Robots-Tag:noindex
X-PUBLISHED-TTL:PT1H
BEGIN:VTIMEZONE
TZID:UTC
BEGIN:STANDARD
TZOFFSETFROM:+0000
TZOFFSETTO:+0000
TZNAME:UTC
DTSTART:20260101T000000
END:STANDARD
END:VTIMEZONE
BEGIN:VEVENT
DTSTART;TZID=UTC:20270621T180000
DTEND;TZID=UTC:20270621T200000
DTSTAMP:20260425T120151
CREATED:20241113T205219Z
LAST-MODIFIED:20241113T205219Z
UID:10000932-1813600800-1813608000@callahanfbc.com
SUMMARY:Celebrate Recovery
DESCRIPTION:Looking for a safe space to find healing and freedom? Join us every Monday evening for Celebrate Recovery! This Christ-centered recovery program is designed to help people overcome life’s hurts\, habits\, and hang-ups. We start with a shared meal at 6:00 PM\, followed by an uplifting worship service at 6:30 PM. Come as you are\, and find support\, encouragement\, and the path to true freedom in a welcoming community.
URL:https://callahanfbc.com/event/celebrate-recovery/2027-06-21/
LOCATION:Gym\, 45090\, Callahan\, FL\, 32011\, United States
CATEGORIES:Community Impact
ATTACH;FMTTYPE=image/png:https://callahanfbc.com/wp-content/uploads/2024/11/Celebrate-Recovery-Banner-2021-e1731513092622.png
END:VEVENT
BEGIN:VEVENT
DTSTART;TZID=UTC:20270628T180000
DTEND;TZID=UTC:20270628T200000
DTSTAMP:20260425T120151
CREATED:20241113T205219Z
LAST-MODIFIED:20241113T205219Z
UID:10000933-1814205600-1814212800@callahanfbc.com
SUMMARY:Celebrate Recovery
DESCRIPTION:Looking for a safe space to find healing and freedom? Join us every Monday evening for Celebrate Recovery! This Christ-centered recovery program is designed to help people overcome life’s hurts\, habits\, and hang-ups. We start with a shared meal at 6:00 PM\, followed by an uplifting worship service at 6:30 PM. Come as you are\, and find support\, encouragement\, and the path to true freedom in a welcoming community.
URL:https://callahanfbc.com/event/celebrate-recovery/2027-06-28/
LOCATION:Gym\, 45090\, Callahan\, FL\, 32011\, United States
CATEGORIES:Community Impact
ATTACH;FMTTYPE=image/png:https://callahanfbc.com/wp-content/uploads/2024/11/Celebrate-Recovery-Banner-2021-e1731513092622.png
END:VEVENT
BEGIN:VEVENT
DTSTART;TZID=UTC:20270705T180000
DTEND;TZID=UTC:20270705T200000
DTSTAMP:20260425T120151
CREATED:20241113T205219Z
LAST-MODIFIED:20241113T205219Z
UID:10000934-1814810400-1814817600@callahanfbc.com
SUMMARY:Celebrate Recovery
DESCRIPTION:Looking for a safe space to find healing and freedom? Join us every Monday evening for Celebrate Recovery! This Christ-centered recovery program is designed to help people overcome life’s hurts\, habits\, and hang-ups. We start with a shared meal at 6:00 PM\, followed by an uplifting worship service at 6:30 PM. Come as you are\, and find support\, encouragement\, and the path to true freedom in a welcoming community.
URL:https://callahanfbc.com/event/celebrate-recovery/2027-07-05/
LOCATION:Gym\, 45090\, Callahan\, FL\, 32011\, United States
CATEGORIES:Community Impact
ATTACH;FMTTYPE=image/png:https://callahanfbc.com/wp-content/uploads/2024/11/Celebrate-Recovery-Banner-2021-e1731513092622.png
END:VEVENT
BEGIN:VEVENT
DTSTART;TZID=UTC:20270712T180000
DTEND;TZID=UTC:20270712T200000
DTSTAMP:20260425T120151
CREATED:20241113T205219Z
LAST-MODIFIED:20241113T205219Z
UID:10000935-1815415200-1815422400@callahanfbc.com
SUMMARY:Celebrate Recovery
DESCRIPTION:Looking for a safe space to find healing and freedom? Join us every Monday evening for Celebrate Recovery! This Christ-centered recovery program is designed to help people overcome life’s hurts\, habits\, and hang-ups. We start with a shared meal at 6:00 PM\, followed by an uplifting worship service at 6:30 PM. Come as you are\, and find support\, encouragement\, and the path to true freedom in a welcoming community.
URL:https://callahanfbc.com/event/celebrate-recovery/2027-07-12/
LOCATION:Gym\, 45090\, Callahan\, FL\, 32011\, United States
CATEGORIES:Community Impact
ATTACH;FMTTYPE=image/png:https://callahanfbc.com/wp-content/uploads/2024/11/Celebrate-Recovery-Banner-2021-e1731513092622.png
END:VEVENT
BEGIN:VEVENT
DTSTART;TZID=UTC:20270719T180000
DTEND;TZID=UTC:20270719T200000
DTSTAMP:20260425T120151
CREATED:20241113T205219Z
LAST-MODIFIED:20241113T205219Z
UID:10000936-1816020000-1816027200@callahanfbc.com
SUMMARY:Celebrate Recovery
DESCRIPTION:Looking for a safe space to find healing and freedom? Join us every Monday evening for Celebrate Recovery! This Christ-centered recovery program is designed to help people overcome life’s hurts\, habits\, and hang-ups. We start with a shared meal at 6:00 PM\, followed by an uplifting worship service at 6:30 PM. Come as you are\, and find support\, encouragement\, and the path to true freedom in a welcoming community.
URL:https://callahanfbc.com/event/celebrate-recovery/2027-07-19/
LOCATION:Gym\, 45090\, Callahan\, FL\, 32011\, United States
CATEGORIES:Community Impact
ATTACH;FMTTYPE=image/png:https://callahanfbc.com/wp-content/uploads/2024/11/Celebrate-Recovery-Banner-2021-e1731513092622.png
END:VEVENT
BEGIN:VEVENT
DTSTART;TZID=UTC:20270726T180000
DTEND;TZID=UTC:20270726T200000
DTSTAMP:20260425T120151
CREATED:20241113T205219Z
LAST-MODIFIED:20241113T205219Z
UID:10000937-1816624800-1816632000@callahanfbc.com
SUMMARY:Celebrate Recovery
DESCRIPTION:Looking for a safe space to find healing and freedom? Join us every Monday evening for Celebrate Recovery! This Christ-centered recovery program is designed to help people overcome life’s hurts\, habits\, and hang-ups. We start with a shared meal at 6:00 PM\, followed by an uplifting worship service at 6:30 PM. Come as you are\, and find support\, encouragement\, and the path to true freedom in a welcoming community.
URL:https://callahanfbc.com/event/celebrate-recovery/2027-07-26/
LOCATION:Gym\, 45090\, Callahan\, FL\, 32011\, United States
CATEGORIES:Community Impact
ATTACH;FMTTYPE=image/png:https://callahanfbc.com/wp-content/uploads/2024/11/Celebrate-Recovery-Banner-2021-e1731513092622.png
END:VEVENT
BEGIN:VEVENT
DTSTART;TZID=UTC:20270802T180000
DTEND;TZID=UTC:20270802T200000
DTSTAMP:20260425T120151
CREATED:20241113T205219Z
LAST-MODIFIED:20241113T205219Z
UID:10000938-1817229600-1817236800@callahanfbc.com
SUMMARY:Celebrate Recovery
DESCRIPTION:Looking for a safe space to find healing and freedom? Join us every Monday evening for Celebrate Recovery! This Christ-centered recovery program is designed to help people overcome life’s hurts\, habits\, and hang-ups. We start with a shared meal at 6:00 PM\, followed by an uplifting worship service at 6:30 PM. Come as you are\, and find support\, encouragement\, and the path to true freedom in a welcoming community.
URL:https://callahanfbc.com/event/celebrate-recovery/2027-08-02/
LOCATION:Gym\, 45090\, Callahan\, FL\, 32011\, United States
CATEGORIES:Community Impact
ATTACH;FMTTYPE=image/png:https://callahanfbc.com/wp-content/uploads/2024/11/Celebrate-Recovery-Banner-2021-e1731513092622.png
END:VEVENT
BEGIN:VEVENT
DTSTART;TZID=UTC:20270809T180000
DTEND;TZID=UTC:20270809T200000
DTSTAMP:20260425T120151
CREATED:20241113T205219Z
LAST-MODIFIED:20241113T205219Z
UID:10000939-1817834400-1817841600@callahanfbc.com
SUMMARY:Celebrate Recovery
DESCRIPTION:Looking for a safe space to find healing and freedom? Join us every Monday evening for Celebrate Recovery! This Christ-centered recovery program is designed to help people overcome life’s hurts\, habits\, and hang-ups. We start with a shared meal at 6:00 PM\, followed by an uplifting worship service at 6:30 PM. Come as you are\, and find support\, encouragement\, and the path to true freedom in a welcoming community.
URL:https://callahanfbc.com/event/celebrate-recovery/2027-08-09/
LOCATION:Gym\, 45090\, Callahan\, FL\, 32011\, United States
CATEGORIES:Community Impact
ATTACH;FMTTYPE=image/png:https://callahanfbc.com/wp-content/uploads/2024/11/Celebrate-Recovery-Banner-2021-e1731513092622.png
END:VEVENT
BEGIN:VEVENT
DTSTART;TZID=UTC:20270816T180000
DTEND;TZID=UTC:20270816T200000
DTSTAMP:20260425T120151
CREATED:20241113T205219Z
LAST-MODIFIED:20241113T205219Z
UID:10000940-1818439200-1818446400@callahanfbc.com
SUMMARY:Celebrate Recovery
DESCRIPTION:Looking for a safe space to find healing and freedom? Join us every Monday evening for Celebrate Recovery! This Christ-centered recovery program is designed to help people overcome life’s hurts\, habits\, and hang-ups. We start with a shared meal at 6:00 PM\, followed by an uplifting worship service at 6:30 PM. Come as you are\, and find support\, encouragement\, and the path to true freedom in a welcoming community.
URL:https://callahanfbc.com/event/celebrate-recovery/2027-08-16/
LOCATION:Gym\, 45090\, Callahan\, FL\, 32011\, United States
CATEGORIES:Community Impact
ATTACH;FMTTYPE=image/png:https://callahanfbc.com/wp-content/uploads/2024/11/Celebrate-Recovery-Banner-2021-e1731513092622.png
END:VEVENT
BEGIN:VEVENT
DTSTART;TZID=UTC:20270823T180000
DTEND;TZID=UTC:20270823T200000
DTSTAMP:20260425T120151
CREATED:20241113T205219Z
LAST-MODIFIED:20241113T205219Z
UID:10000941-1819044000-1819051200@callahanfbc.com
SUMMARY:Celebrate Recovery
DESCRIPTION:Looking for a safe space to find healing and freedom? Join us every Monday evening for Celebrate Recovery! This Christ-centered recovery program is designed to help people overcome life’s hurts\, habits\, and hang-ups. We start with a shared meal at 6:00 PM\, followed by an uplifting worship service at 6:30 PM. Come as you are\, and find support\, encouragement\, and the path to true freedom in a welcoming community.
URL:https://callahanfbc.com/event/celebrate-recovery/2027-08-23/
LOCATION:Gym\, 45090\, Callahan\, FL\, 32011\, United States
CATEGORIES:Community Impact
ATTACH;FMTTYPE=image/png:https://callahanfbc.com/wp-content/uploads/2024/11/Celebrate-Recovery-Banner-2021-e1731513092622.png
END:VEVENT
BEGIN:VEVENT
DTSTART;TZID=UTC:20270830T180000
DTEND;TZID=UTC:20270830T200000
DTSTAMP:20260425T120151
CREATED:20241113T205219Z
LAST-MODIFIED:20241113T205219Z
UID:10000942-1819648800-1819656000@callahanfbc.com
SUMMARY:Celebrate Recovery
DESCRIPTION:Looking for a safe space to find healing and freedom? Join us every Monday evening for Celebrate Recovery! This Christ-centered recovery program is designed to help people overcome life’s hurts\, habits\, and hang-ups. We start with a shared meal at 6:00 PM\, followed by an uplifting worship service at 6:30 PM. Come as you are\, and find support\, encouragement\, and the path to true freedom in a welcoming community.
URL:https://callahanfbc.com/event/celebrate-recovery/2027-08-30/
LOCATION:Gym\, 45090\, Callahan\, FL\, 32011\, United States
CATEGORIES:Community Impact
ATTACH;FMTTYPE=image/png:https://callahanfbc.com/wp-content/uploads/2024/11/Celebrate-Recovery-Banner-2021-e1731513092622.png
END:VEVENT
BEGIN:VEVENT
DTSTART;TZID=UTC:20270906T180000
DTEND;TZID=UTC:20270906T200000
DTSTAMP:20260425T120151
CREATED:20241113T205219Z
LAST-MODIFIED:20241113T205219Z
UID:10000943-1820253600-1820260800@callahanfbc.com
SUMMARY:Celebrate Recovery
DESCRIPTION:Looking for a safe space to find healing and freedom? Join us every Monday evening for Celebrate Recovery! This Christ-centered recovery program is designed to help people overcome life’s hurts\, habits\, and hang-ups. We start with a shared meal at 6:00 PM\, followed by an uplifting worship service at 6:30 PM. Come as you are\, and find support\, encouragement\, and the path to true freedom in a welcoming community.
URL:https://callahanfbc.com/event/celebrate-recovery/2027-09-06/
LOCATION:Gym\, 45090\, Callahan\, FL\, 32011\, United States
CATEGORIES:Community Impact
ATTACH;FMTTYPE=image/png:https://callahanfbc.com/wp-content/uploads/2024/11/Celebrate-Recovery-Banner-2021-e1731513092622.png
END:VEVENT
BEGIN:VEVENT
DTSTART;TZID=UTC:20270913T180000
DTEND;TZID=UTC:20270913T200000
DTSTAMP:20260425T120151
CREATED:20241113T205219Z
LAST-MODIFIED:20241113T205219Z
UID:10000944-1820858400-1820865600@callahanfbc.com
SUMMARY:Celebrate Recovery
DESCRIPTION:Looking for a safe space to find healing and freedom? Join us every Monday evening for Celebrate Recovery! This Christ-centered recovery program is designed to help people overcome life’s hurts\, habits\, and hang-ups. We start with a shared meal at 6:00 PM\, followed by an uplifting worship service at 6:30 PM. Come as you are\, and find support\, encouragement\, and the path to true freedom in a welcoming community.
URL:https://callahanfbc.com/event/celebrate-recovery/2027-09-13/
LOCATION:Gym\, 45090\, Callahan\, FL\, 32011\, United States
CATEGORIES:Community Impact
ATTACH;FMTTYPE=image/png:https://callahanfbc.com/wp-content/uploads/2024/11/Celebrate-Recovery-Banner-2021-e1731513092622.png
END:VEVENT
BEGIN:VEVENT
DTSTART;TZID=UTC:20270920T180000
DTEND;TZID=UTC:20270920T200000
DTSTAMP:20260425T120151
CREATED:20241113T205219Z
LAST-MODIFIED:20241113T205219Z
UID:10000945-1821463200-1821470400@callahanfbc.com
SUMMARY:Celebrate Recovery
DESCRIPTION:Looking for a safe space to find healing and freedom? Join us every Monday evening for Celebrate Recovery! This Christ-centered recovery program is designed to help people overcome life’s hurts\, habits\, and hang-ups. We start with a shared meal at 6:00 PM\, followed by an uplifting worship service at 6:30 PM. Come as you are\, and find support\, encouragement\, and the path to true freedom in a welcoming community.
URL:https://callahanfbc.com/event/celebrate-recovery/2027-09-20/
LOCATION:Gym\, 45090\, Callahan\, FL\, 32011\, United States
CATEGORIES:Community Impact
ATTACH;FMTTYPE=image/png:https://callahanfbc.com/wp-content/uploads/2024/11/Celebrate-Recovery-Banner-2021-e1731513092622.png
END:VEVENT
BEGIN:VEVENT
DTSTART;TZID=UTC:20270927T180000
DTEND;TZID=UTC:20270927T200000
DTSTAMP:20260425T120151
CREATED:20241113T205219Z
LAST-MODIFIED:20241113T205219Z
UID:10000946-1822068000-1822075200@callahanfbc.com
SUMMARY:Celebrate Recovery
DESCRIPTION:Looking for a safe space to find healing and freedom? Join us every Monday evening for Celebrate Recovery! This Christ-centered recovery program is designed to help people overcome life’s hurts\, habits\, and hang-ups. We start with a shared meal at 6:00 PM\, followed by an uplifting worship service at 6:30 PM. Come as you are\, and find support\, encouragement\, and the path to true freedom in a welcoming community.
URL:https://callahanfbc.com/event/celebrate-recovery/2027-09-27/
LOCATION:Gym\, 45090\, Callahan\, FL\, 32011\, United States
CATEGORIES:Community Impact
ATTACH;FMTTYPE=image/png:https://callahanfbc.com/wp-content/uploads/2024/11/Celebrate-Recovery-Banner-2021-e1731513092622.png
END:VEVENT
BEGIN:VEVENT
DTSTART;TZID=UTC:20271004T180000
DTEND;TZID=UTC:20271004T200000
DTSTAMP:20260425T120151
CREATED:20241113T205219Z
LAST-MODIFIED:20241113T205219Z
UID:10000947-1822672800-1822680000@callahanfbc.com
SUMMARY:Celebrate Recovery
DESCRIPTION:Looking for a safe space to find healing and freedom? Join us every Monday evening for Celebrate Recovery! This Christ-centered recovery program is designed to help people overcome life’s hurts\, habits\, and hang-ups. We start with a shared meal at 6:00 PM\, followed by an uplifting worship service at 6:30 PM. Come as you are\, and find support\, encouragement\, and the path to true freedom in a welcoming community.
URL:https://callahanfbc.com/event/celebrate-recovery/2027-10-04/
LOCATION:Gym\, 45090\, Callahan\, FL\, 32011\, United States
CATEGORIES:Community Impact
ATTACH;FMTTYPE=image/png:https://callahanfbc.com/wp-content/uploads/2024/11/Celebrate-Recovery-Banner-2021-e1731513092622.png
END:VEVENT
BEGIN:VEVENT
DTSTART;TZID=UTC:20271011T180000
DTEND;TZID=UTC:20271011T200000
DTSTAMP:20260425T120151
CREATED:20241113T205219Z
LAST-MODIFIED:20241113T205219Z
UID:10000948-1823277600-1823284800@callahanfbc.com
SUMMARY:Celebrate Recovery
DESCRIPTION:Looking for a safe space to find healing and freedom? Join us every Monday evening for Celebrate Recovery! This Christ-centered recovery program is designed to help people overcome life’s hurts\, habits\, and hang-ups. We start with a shared meal at 6:00 PM\, followed by an uplifting worship service at 6:30 PM. Come as you are\, and find support\, encouragement\, and the path to true freedom in a welcoming community.
URL:https://callahanfbc.com/event/celebrate-recovery/2027-10-11/
LOCATION:Gym\, 45090\, Callahan\, FL\, 32011\, United States
CATEGORIES:Community Impact
ATTACH;FMTTYPE=image/png:https://callahanfbc.com/wp-content/uploads/2024/11/Celebrate-Recovery-Banner-2021-e1731513092622.png
END:VEVENT
BEGIN:VEVENT
DTSTART;TZID=UTC:20271018T180000
DTEND;TZID=UTC:20271018T200000
DTSTAMP:20260425T120151
CREATED:20241113T205219Z
LAST-MODIFIED:20241113T205219Z
UID:10000949-1823882400-1823889600@callahanfbc.com
SUMMARY:Celebrate Recovery
DESCRIPTION:Looking for a safe space to find healing and freedom? Join us every Monday evening for Celebrate Recovery! This Christ-centered recovery program is designed to help people overcome life’s hurts\, habits\, and hang-ups. We start with a shared meal at 6:00 PM\, followed by an uplifting worship service at 6:30 PM. Come as you are\, and find support\, encouragement\, and the path to true freedom in a welcoming community.
URL:https://callahanfbc.com/event/celebrate-recovery/2027-10-18/
LOCATION:Gym\, 45090\, Callahan\, FL\, 32011\, United States
CATEGORIES:Community Impact
ATTACH;FMTTYPE=image/png:https://callahanfbc.com/wp-content/uploads/2024/11/Celebrate-Recovery-Banner-2021-e1731513092622.png
END:VEVENT
BEGIN:VEVENT
DTSTART;TZID=UTC:20271025T180000
DTEND;TZID=UTC:20271025T200000
DTSTAMP:20260425T120151
CREATED:20241113T205219Z
LAST-MODIFIED:20241113T205219Z
UID:10000950-1824487200-1824494400@callahanfbc.com
SUMMARY:Celebrate Recovery
DESCRIPTION:Looking for a safe space to find healing and freedom? Join us every Monday evening for Celebrate Recovery! This Christ-centered recovery program is designed to help people overcome life’s hurts\, habits\, and hang-ups. We start with a shared meal at 6:00 PM\, followed by an uplifting worship service at 6:30 PM. Come as you are\, and find support\, encouragement\, and the path to true freedom in a welcoming community.
URL:https://callahanfbc.com/event/celebrate-recovery/2027-10-25/
LOCATION:Gym\, 45090\, Callahan\, FL\, 32011\, United States
CATEGORIES:Community Impact
ATTACH;FMTTYPE=image/png:https://callahanfbc.com/wp-content/uploads/2024/11/Celebrate-Recovery-Banner-2021-e1731513092622.png
END:VEVENT
BEGIN:VEVENT
DTSTART;TZID=UTC:20271101T180000
DTEND;TZID=UTC:20271101T200000
DTSTAMP:20260425T120151
CREATED:20241113T205219Z
LAST-MODIFIED:20241113T205219Z
UID:10000951-1825092000-1825099200@callahanfbc.com
SUMMARY:Celebrate Recovery
DESCRIPTION:Looking for a safe space to find healing and freedom? Join us every Monday evening for Celebrate Recovery! This Christ-centered recovery program is designed to help people overcome life’s hurts\, habits\, and hang-ups. We start with a shared meal at 6:00 PM\, followed by an uplifting worship service at 6:30 PM. Come as you are\, and find support\, encouragement\, and the path to true freedom in a welcoming community.
URL:https://callahanfbc.com/event/celebrate-recovery/2027-11-01/
LOCATION:Gym\, 45090\, Callahan\, FL\, 32011\, United States
CATEGORIES:Community Impact
ATTACH;FMTTYPE=image/png:https://callahanfbc.com/wp-content/uploads/2024/11/Celebrate-Recovery-Banner-2021-e1731513092622.png
END:VEVENT
BEGIN:VEVENT
DTSTART;TZID=UTC:20271108T180000
DTEND;TZID=UTC:20271108T200000
DTSTAMP:20260425T120151
CREATED:20241113T205219Z
LAST-MODIFIED:20241113T205219Z
UID:10000952-1825696800-1825704000@callahanfbc.com
SUMMARY:Celebrate Recovery
DESCRIPTION:Looking for a safe space to find healing and freedom? Join us every Monday evening for Celebrate Recovery! This Christ-centered recovery program is designed to help people overcome life’s hurts\, habits\, and hang-ups. We start with a shared meal at 6:00 PM\, followed by an uplifting worship service at 6:30 PM. Come as you are\, and find support\, encouragement\, and the path to true freedom in a welcoming community.
URL:https://callahanfbc.com/event/celebrate-recovery/2027-11-08/
LOCATION:Gym\, 45090\, Callahan\, FL\, 32011\, United States
CATEGORIES:Community Impact
ATTACH;FMTTYPE=image/png:https://callahanfbc.com/wp-content/uploads/2024/11/Celebrate-Recovery-Banner-2021-e1731513092622.png
END:VEVENT
BEGIN:VEVENT
DTSTART;TZID=UTC:20271115T180000
DTEND;TZID=UTC:20271115T200000
DTSTAMP:20260425T120151
CREATED:20241113T205219Z
LAST-MODIFIED:20241113T205219Z
UID:10000953-1826301600-1826308800@callahanfbc.com
SUMMARY:Celebrate Recovery
DESCRIPTION:Looking for a safe space to find healing and freedom? Join us every Monday evening for Celebrate Recovery! This Christ-centered recovery program is designed to help people overcome life’s hurts\, habits\, and hang-ups. We start with a shared meal at 6:00 PM\, followed by an uplifting worship service at 6:30 PM. Come as you are\, and find support\, encouragement\, and the path to true freedom in a welcoming community.
URL:https://callahanfbc.com/event/celebrate-recovery/2027-11-15/
LOCATION:Gym\, 45090\, Callahan\, FL\, 32011\, United States
CATEGORIES:Community Impact
ATTACH;FMTTYPE=image/png:https://callahanfbc.com/wp-content/uploads/2024/11/Celebrate-Recovery-Banner-2021-e1731513092622.png
END:VEVENT
BEGIN:VEVENT
DTSTART;TZID=UTC:20271122T180000
DTEND;TZID=UTC:20271122T200000
DTSTAMP:20260425T120151
CREATED:20241113T205219Z
LAST-MODIFIED:20241113T205219Z
UID:10000954-1826906400-1826913600@callahanfbc.com
SUMMARY:Celebrate Recovery
DESCRIPTION:Looking for a safe space to find healing and freedom? Join us every Monday evening for Celebrate Recovery! This Christ-centered recovery program is designed to help people overcome life’s hurts\, habits\, and hang-ups. We start with a shared meal at 6:00 PM\, followed by an uplifting worship service at 6:30 PM. Come as you are\, and find support\, encouragement\, and the path to true freedom in a welcoming community.
URL:https://callahanfbc.com/event/celebrate-recovery/2027-11-22/
LOCATION:Gym\, 45090\, Callahan\, FL\, 32011\, United States
CATEGORIES:Community Impact
ATTACH;FMTTYPE=image/png:https://callahanfbc.com/wp-content/uploads/2024/11/Celebrate-Recovery-Banner-2021-e1731513092622.png
END:VEVENT
BEGIN:VEVENT
DTSTART;TZID=UTC:20271129T180000
DTEND;TZID=UTC:20271129T200000
DTSTAMP:20260425T120151
CREATED:20241113T205219Z
LAST-MODIFIED:20241113T205219Z
UID:10000955-1827511200-1827518400@callahanfbc.com
SUMMARY:Celebrate Recovery
DESCRIPTION:Looking for a safe space to find healing and freedom? Join us every Monday evening for Celebrate Recovery! This Christ-centered recovery program is designed to help people overcome life’s hurts\, habits\, and hang-ups. We start with a shared meal at 6:00 PM\, followed by an uplifting worship service at 6:30 PM. Come as you are\, and find support\, encouragement\, and the path to true freedom in a welcoming community.
URL:https://callahanfbc.com/event/celebrate-recovery/2027-11-29/
LOCATION:Gym\, 45090\, Callahan\, FL\, 32011\, United States
CATEGORIES:Community Impact
ATTACH;FMTTYPE=image/png:https://callahanfbc.com/wp-content/uploads/2024/11/Celebrate-Recovery-Banner-2021-e1731513092622.png
END:VEVENT
BEGIN:VEVENT
DTSTART;TZID=UTC:20271206T180000
DTEND;TZID=UTC:20271206T200000
DTSTAMP:20260425T120151
CREATED:20241113T205219Z
LAST-MODIFIED:20241113T205219Z
UID:10000956-1828116000-1828123200@callahanfbc.com
SUMMARY:Celebrate Recovery
DESCRIPTION:Looking for a safe space to find healing and freedom? Join us every Monday evening for Celebrate Recovery! This Christ-centered recovery program is designed to help people overcome life’s hurts\, habits\, and hang-ups. We start with a shared meal at 6:00 PM\, followed by an uplifting worship service at 6:30 PM. Come as you are\, and find support\, encouragement\, and the path to true freedom in a welcoming community.
URL:https://callahanfbc.com/event/celebrate-recovery/2027-12-06/
LOCATION:Gym\, 45090\, Callahan\, FL\, 32011\, United States
CATEGORIES:Community Impact
ATTACH;FMTTYPE=image/png:https://callahanfbc.com/wp-content/uploads/2024/11/Celebrate-Recovery-Banner-2021-e1731513092622.png
END:VEVENT
BEGIN:VEVENT
DTSTART;TZID=UTC:20271213T180000
DTEND;TZID=UTC:20271213T200000
DTSTAMP:20260425T120151
CREATED:20241113T205219Z
LAST-MODIFIED:20241113T205219Z
UID:10000957-1828720800-1828728000@callahanfbc.com
SUMMARY:Celebrate Recovery
DESCRIPTION:Looking for a safe space to find healing and freedom? Join us every Monday evening for Celebrate Recovery! This Christ-centered recovery program is designed to help people overcome life’s hurts\, habits\, and hang-ups. We start with a shared meal at 6:00 PM\, followed by an uplifting worship service at 6:30 PM. Come as you are\, and find support\, encouragement\, and the path to true freedom in a welcoming community.
URL:https://callahanfbc.com/event/celebrate-recovery/2027-12-13/
LOCATION:Gym\, 45090\, Callahan\, FL\, 32011\, United States
CATEGORIES:Community Impact
ATTACH;FMTTYPE=image/png:https://callahanfbc.com/wp-content/uploads/2024/11/Celebrate-Recovery-Banner-2021-e1731513092622.png
END:VEVENT
BEGIN:VEVENT
DTSTART;TZID=UTC:20271220T180000
DTEND;TZID=UTC:20271220T200000
DTSTAMP:20260425T120151
CREATED:20241113T205219Z
LAST-MODIFIED:20241113T205219Z
UID:10000958-1829325600-1829332800@callahanfbc.com
SUMMARY:Celebrate Recovery
DESCRIPTION:Looking for a safe space to find healing and freedom? Join us every Monday evening for Celebrate Recovery! This Christ-centered recovery program is designed to help people overcome life’s hurts\, habits\, and hang-ups. We start with a shared meal at 6:00 PM\, followed by an uplifting worship service at 6:30 PM. Come as you are\, and find support\, encouragement\, and the path to true freedom in a welcoming community.
URL:https://callahanfbc.com/event/celebrate-recovery/2027-12-20/
LOCATION:Gym\, 45090\, Callahan\, FL\, 32011\, United States
CATEGORIES:Community Impact
ATTACH;FMTTYPE=image/png:https://callahanfbc.com/wp-content/uploads/2024/11/Celebrate-Recovery-Banner-2021-e1731513092622.png
END:VEVENT
BEGIN:VEVENT
DTSTART;TZID=UTC:20271227T180000
DTEND;TZID=UTC:20271227T200000
DTSTAMP:20260425T120151
CREATED:20241113T205219Z
LAST-MODIFIED:20241113T205219Z
UID:10000959-1829930400-1829937600@callahanfbc.com
SUMMARY:Celebrate Recovery
DESCRIPTION:Looking for a safe space to find healing and freedom? Join us every Monday evening for Celebrate Recovery! This Christ-centered recovery program is designed to help people overcome life’s hurts\, habits\, and hang-ups. We start with a shared meal at 6:00 PM\, followed by an uplifting worship service at 6:30 PM. Come as you are\, and find support\, encouragement\, and the path to true freedom in a welcoming community.
URL:https://callahanfbc.com/event/celebrate-recovery/2027-12-27/
LOCATION:Gym\, 45090\, Callahan\, FL\, 32011\, United States
CATEGORIES:Community Impact
ATTACH;FMTTYPE=image/png:https://callahanfbc.com/wp-content/uploads/2024/11/Celebrate-Recovery-Banner-2021-e1731513092622.png
END:VEVENT
BEGIN:VEVENT
DTSTART;TZID=UTC:20280103T180000
DTEND;TZID=UTC:20280103T200000
DTSTAMP:20260425T120151
CREATED:20241113T205219Z
LAST-MODIFIED:20241113T205219Z
UID:10000960-1830535200-1830542400@callahanfbc.com
SUMMARY:Celebrate Recovery
DESCRIPTION:Looking for a safe space to find healing and freedom? Join us every Monday evening for Celebrate Recovery! This Christ-centered recovery program is designed to help people overcome life’s hurts\, habits\, and hang-ups. We start with a shared meal at 6:00 PM\, followed by an uplifting worship service at 6:30 PM. Come as you are\, and find support\, encouragement\, and the path to true freedom in a welcoming community.
URL:https://callahanfbc.com/event/celebrate-recovery/2028-01-03/
LOCATION:Gym\, 45090\, Callahan\, FL\, 32011\, United States
CATEGORIES:Community Impact
ATTACH;FMTTYPE=image/png:https://callahanfbc.com/wp-content/uploads/2024/11/Celebrate-Recovery-Banner-2021-e1731513092622.png
END:VEVENT
BEGIN:VEVENT
DTSTART;TZID=UTC:20280110T180000
DTEND;TZID=UTC:20280110T200000
DTSTAMP:20260425T120151
CREATED:20241113T205219Z
LAST-MODIFIED:20241113T205219Z
UID:10000961-1831140000-1831147200@callahanfbc.com
SUMMARY:Celebrate Recovery
DESCRIPTION:Looking for a safe space to find healing and freedom? Join us every Monday evening for Celebrate Recovery! This Christ-centered recovery program is designed to help people overcome life’s hurts\, habits\, and hang-ups. We start with a shared meal at 6:00 PM\, followed by an uplifting worship service at 6:30 PM. Come as you are\, and find support\, encouragement\, and the path to true freedom in a welcoming community.
URL:https://callahanfbc.com/event/celebrate-recovery/2028-01-10/
LOCATION:Gym\, 45090\, Callahan\, FL\, 32011\, United States
CATEGORIES:Community Impact
ATTACH;FMTTYPE=image/png:https://callahanfbc.com/wp-content/uploads/2024/11/Celebrate-Recovery-Banner-2021-e1731513092622.png
END:VEVENT
END:VCALENDAR