BEGIN:VCALENDAR
VERSION:2.0
PRODID:-//Callahan First Baptist Church - ECPv6.15.20//NONSGML v1.0//EN
CALSCALE:GREGORIAN
METHOD:PUBLISH
X-WR-CALNAME:Callahan First Baptist Church
X-ORIGINAL-URL:https://callahanfbc.com
X-WR-CALDESC:Events for Callahan First Baptist Church
REFRESH-INTERVAL;VALUE=DURATION:PT1H
X-Robots-Tag:noindex
X-PUBLISHED-TTL:PT1H
BEGIN:VTIMEZONE
TZID:UTC
BEGIN:STANDARD
TZOFFSETFROM:+0000
TZOFFSETTO:+0000
TZNAME:UTC
DTSTART:20230101T000000
END:STANDARD
END:VTIMEZONE
BEGIN:VEVENT
DTSTART;TZID=UTC:20250126T140000
DTEND;TZID=UTC:20250126T170000
DTSTAMP:20260424T032825
CREATED:20241119T201143Z
LAST-MODIFIED:20241119T201143Z
UID:10002400-1737900000-1737910800@callahanfbc.com
SUMMARY:FAM Year 2 Celebration
DESCRIPTION:Join us as we celebrate two years of God’s faithfulness in our Foster and Adoption Ministry! This special event will honor the families\, children\, and community that have been part of this journey. Come enjoy a time of worship\, testimonies\, and fellowship as we reflect on all that has been accomplished and look ahead to what God has in store. All are welcome!
URL:https://callahanfbc.com/event/fam-year-2-celebration/
LOCATION:Gym\, 45090\, Callahan\, FL\, 32011\, United States
CATEGORIES:Community Impact
ATTACH;FMTTYPE=image/jpeg:https://callahanfbc.com/wp-content/uploads/2024/11/3T6A0226.jpg
END:VEVENT
BEGIN:VEVENT
DTSTART;TZID=UTC:20250120T180000
DTEND;TZID=UTC:20250120T200000
DTSTAMP:20260424T032825
CREATED:20241113T205219Z
LAST-MODIFIED:20241113T205219Z
UID:10000806-1737396000-1737403200@callahanfbc.com
SUMMARY:Celebrate Recovery
DESCRIPTION:Looking for a safe space to find healing and freedom? Join us every Monday evening for Celebrate Recovery! This Christ-centered recovery program is designed to help people overcome life’s hurts\, habits\, and hang-ups. We start with a shared meal at 6:00 PM\, followed by an uplifting worship service at 6:30 PM. Come as you are\, and find support\, encouragement\, and the path to true freedom in a welcoming community.
URL:https://callahanfbc.com/event/celebrate-recovery/2025-01-20/
LOCATION:Gym\, 45090\, Callahan\, FL\, 32011\, United States
CATEGORIES:Community Impact
ATTACH;FMTTYPE=image/png:https://callahanfbc.com/wp-content/uploads/2024/11/Celebrate-Recovery-Banner-2021-e1731513092622.png
END:VEVENT
BEGIN:VEVENT
DTSTART;TZID=UTC:20250113T180000
DTEND;TZID=UTC:20250113T200000
DTSTAMP:20260424T032825
CREATED:20241113T205219Z
LAST-MODIFIED:20241113T205219Z
UID:10000805-1736791200-1736798400@callahanfbc.com
SUMMARY:Celebrate Recovery
DESCRIPTION:Looking for a safe space to find healing and freedom? Join us every Monday evening for Celebrate Recovery! This Christ-centered recovery program is designed to help people overcome life’s hurts\, habits\, and hang-ups. We start with a shared meal at 6:00 PM\, followed by an uplifting worship service at 6:30 PM. Come as you are\, and find support\, encouragement\, and the path to true freedom in a welcoming community.
URL:https://callahanfbc.com/event/celebrate-recovery/2025-01-13/
LOCATION:Gym\, 45090\, Callahan\, FL\, 32011\, United States
CATEGORIES:Community Impact
ATTACH;FMTTYPE=image/png:https://callahanfbc.com/wp-content/uploads/2024/11/Celebrate-Recovery-Banner-2021-e1731513092622.png
END:VEVENT
BEGIN:VEVENT
DTSTART;TZID=UTC:20250112T170000
DTEND;TZID=UTC:20250112T190000
DTSTAMP:20260424T032825
CREATED:20250108T001626Z
LAST-MODIFIED:20250108T181025Z
UID:10002940-1736701200-1736708400@callahanfbc.com
SUMMARY:Parent Vision Meeting
DESCRIPTION:Parent meeting – A parental kick-off to the year with all the youth ministry information you could need! Come meet leaders and other parents as we go over the 2025 vision of the student ministry. In the gym\, JAN 12th from 5-7PM.
URL:https://callahanfbc.com/event/parent-vision-meeting/
LOCATION:Gym\, 45090\, Callahan\, FL\, 32011\, United States
CATEGORIES:Students
ATTACH;FMTTYPE=image/jpeg:https://callahanfbc.com/wp-content/uploads/2025/01/Parent-meeting.jpg
END:VEVENT
BEGIN:VEVENT
DTSTART;TZID=UTC:20250112T160000
DTEND;TZID=UTC:20250112T190000
DTSTAMP:20260424T032825
CREATED:20241119T203559Z
LAST-MODIFIED:20241119T203559Z
UID:10002401-1736697600-1736708400@callahanfbc.com
SUMMARY:First Moves 101
DESCRIPTION:Join us for First Moves 101\, our class for new or potential members of the church. Learn about our mission\, beliefs\, and how to get connected. Whether you’re ready to commit or just exploring\, this class is the perfect first step in becoming part of our church family.
URL:https://callahanfbc.com/event/first-moves-101/
LOCATION:Gym\, 45090\, Callahan\, FL\, 32011\, United States
CATEGORIES:First Moves
ATTACH;FMTTYPE=image/jpeg:https://callahanfbc.com/wp-content/uploads/2024/11/Gym-Outside.jpg
END:VEVENT
BEGIN:VEVENT
DTSTART;TZID=UTC:20250106T180000
DTEND;TZID=UTC:20250106T200000
DTSTAMP:20260424T032825
CREATED:20241113T205219Z
LAST-MODIFIED:20241113T205219Z
UID:10000804-1736186400-1736193600@callahanfbc.com
SUMMARY:Celebrate Recovery
DESCRIPTION:Looking for a safe space to find healing and freedom? Join us every Monday evening for Celebrate Recovery! This Christ-centered recovery program is designed to help people overcome life’s hurts\, habits\, and hang-ups. We start with a shared meal at 6:00 PM\, followed by an uplifting worship service at 6:30 PM. Come as you are\, and find support\, encouragement\, and the path to true freedom in a welcoming community.
URL:https://callahanfbc.com/event/celebrate-recovery/2025-01-06/
LOCATION:Gym\, 45090\, Callahan\, FL\, 32011\, United States
CATEGORIES:Community Impact
ATTACH;FMTTYPE=image/png:https://callahanfbc.com/wp-content/uploads/2024/11/Celebrate-Recovery-Banner-2021-e1731513092622.png
END:VEVENT
BEGIN:VEVENT
DTSTART;TZID=UTC:20241230T180000
DTEND;TZID=UTC:20241230T200000
DTSTAMP:20260424T032825
CREATED:20241113T205219Z
LAST-MODIFIED:20241113T205219Z
UID:10000803-1735581600-1735588800@callahanfbc.com
SUMMARY:Celebrate Recovery
DESCRIPTION:Looking for a safe space to find healing and freedom? Join us every Monday evening for Celebrate Recovery! This Christ-centered recovery program is designed to help people overcome life’s hurts\, habits\, and hang-ups. We start with a shared meal at 6:00 PM\, followed by an uplifting worship service at 6:30 PM. Come as you are\, and find support\, encouragement\, and the path to true freedom in a welcoming community.
URL:https://callahanfbc.com/event/celebrate-recovery/2024-12-30/
LOCATION:Gym\, 45090\, Callahan\, FL\, 32011\, United States
CATEGORIES:Community Impact
ATTACH;FMTTYPE=image/png:https://callahanfbc.com/wp-content/uploads/2024/11/Celebrate-Recovery-Banner-2021-e1731513092622.png
END:VEVENT
BEGIN:VEVENT
DTSTART;TZID=UTC:20241223T180000
DTEND;TZID=UTC:20241223T200000
DTSTAMP:20260424T032825
CREATED:20241113T205219Z
LAST-MODIFIED:20241113T205219Z
UID:10000802-1734976800-1734984000@callahanfbc.com
SUMMARY:Celebrate Recovery
DESCRIPTION:Looking for a safe space to find healing and freedom? Join us every Monday evening for Celebrate Recovery! This Christ-centered recovery program is designed to help people overcome life’s hurts\, habits\, and hang-ups. We start with a shared meal at 6:00 PM\, followed by an uplifting worship service at 6:30 PM. Come as you are\, and find support\, encouragement\, and the path to true freedom in a welcoming community.
URL:https://callahanfbc.com/event/celebrate-recovery/2024-12-23/
LOCATION:Gym\, 45090\, Callahan\, FL\, 32011\, United States
CATEGORIES:Community Impact
ATTACH;FMTTYPE=image/png:https://callahanfbc.com/wp-content/uploads/2024/11/Celebrate-Recovery-Banner-2021-e1731513092622.png
END:VEVENT
BEGIN:VEVENT
DTSTART;TZID=UTC:20241216T180000
DTEND;TZID=UTC:20241216T200000
DTSTAMP:20260424T032825
CREATED:20241113T205219Z
LAST-MODIFIED:20241113T205219Z
UID:10000801-1734372000-1734379200@callahanfbc.com
SUMMARY:Celebrate Recovery
DESCRIPTION:Looking for a safe space to find healing and freedom? Join us every Monday evening for Celebrate Recovery! This Christ-centered recovery program is designed to help people overcome life’s hurts\, habits\, and hang-ups. We start with a shared meal at 6:00 PM\, followed by an uplifting worship service at 6:30 PM. Come as you are\, and find support\, encouragement\, and the path to true freedom in a welcoming community.
URL:https://callahanfbc.com/event/celebrate-recovery/2024-12-16/
LOCATION:Gym\, 45090\, Callahan\, FL\, 32011\, United States
CATEGORIES:Community Impact
ATTACH;FMTTYPE=image/png:https://callahanfbc.com/wp-content/uploads/2024/11/Celebrate-Recovery-Banner-2021-e1731513092622.png
END:VEVENT
BEGIN:VEVENT
DTSTART;TZID=UTC:20241209T180000
DTEND;TZID=UTC:20241209T200000
DTSTAMP:20260424T032825
CREATED:20241113T205219Z
LAST-MODIFIED:20241113T205219Z
UID:10000800-1733767200-1733774400@callahanfbc.com
SUMMARY:Celebrate Recovery
DESCRIPTION:Looking for a safe space to find healing and freedom? Join us every Monday evening for Celebrate Recovery! This Christ-centered recovery program is designed to help people overcome life’s hurts\, habits\, and hang-ups. We start with a shared meal at 6:00 PM\, followed by an uplifting worship service at 6:30 PM. Come as you are\, and find support\, encouragement\, and the path to true freedom in a welcoming community.
URL:https://callahanfbc.com/event/celebrate-recovery/2024-12-09/
LOCATION:Gym\, 45090\, Callahan\, FL\, 32011\, United States
CATEGORIES:Community Impact
ATTACH;FMTTYPE=image/png:https://callahanfbc.com/wp-content/uploads/2024/11/Celebrate-Recovery-Banner-2021-e1731513092622.png
END:VEVENT
BEGIN:VEVENT
DTSTART;TZID=UTC:20241202T180000
DTEND;TZID=UTC:20241202T200000
DTSTAMP:20260424T032825
CREATED:20241113T205219Z
LAST-MODIFIED:20241113T205219Z
UID:10000799-1733162400-1733169600@callahanfbc.com
SUMMARY:Celebrate Recovery
DESCRIPTION:Looking for a safe space to find healing and freedom? Join us every Monday evening for Celebrate Recovery! This Christ-centered recovery program is designed to help people overcome life’s hurts\, habits\, and hang-ups. We start with a shared meal at 6:00 PM\, followed by an uplifting worship service at 6:30 PM. Come as you are\, and find support\, encouragement\, and the path to true freedom in a welcoming community.
URL:https://callahanfbc.com/event/celebrate-recovery/2024-12-02/
LOCATION:Gym\, 45090\, Callahan\, FL\, 32011\, United States
CATEGORIES:Community Impact
ATTACH;FMTTYPE=image/png:https://callahanfbc.com/wp-content/uploads/2024/11/Celebrate-Recovery-Banner-2021-e1731513092622.png
END:VEVENT
BEGIN:VEVENT
DTSTART;TZID=UTC:20241125T180000
DTEND;TZID=UTC:20241125T200000
DTSTAMP:20260424T032825
CREATED:20241113T205219Z
LAST-MODIFIED:20241113T205219Z
UID:10000798-1732557600-1732564800@callahanfbc.com
SUMMARY:Celebrate Recovery
DESCRIPTION:Looking for a safe space to find healing and freedom? Join us every Monday evening for Celebrate Recovery! This Christ-centered recovery program is designed to help people overcome life’s hurts\, habits\, and hang-ups. We start with a shared meal at 6:00 PM\, followed by an uplifting worship service at 6:30 PM. Come as you are\, and find support\, encouragement\, and the path to true freedom in a welcoming community.
URL:https://callahanfbc.com/event/celebrate-recovery/2024-11-25/
LOCATION:Gym\, 45090\, Callahan\, FL\, 32011\, United States
CATEGORIES:Community Impact
ATTACH;FMTTYPE=image/png:https://callahanfbc.com/wp-content/uploads/2024/11/Celebrate-Recovery-Banner-2021-e1731513092622.png
END:VEVENT
BEGIN:VEVENT
DTSTART;TZID=UTC:20241118T180000
DTEND;TZID=UTC:20241118T200000
DTSTAMP:20260424T032825
CREATED:20241113T205219Z
LAST-MODIFIED:20241113T205219Z
UID:10000797-1731952800-1731960000@callahanfbc.com
SUMMARY:Celebrate Recovery
DESCRIPTION:Looking for a safe space to find healing and freedom? Join us every Monday evening for Celebrate Recovery! This Christ-centered recovery program is designed to help people overcome life’s hurts\, habits\, and hang-ups. We start with a shared meal at 6:00 PM\, followed by an uplifting worship service at 6:30 PM. Come as you are\, and find support\, encouragement\, and the path to true freedom in a welcoming community.
URL:https://callahanfbc.com/event/celebrate-recovery/2024-11-18/
LOCATION:Gym\, 45090\, Callahan\, FL\, 32011\, United States
CATEGORIES:Community Impact
ATTACH;FMTTYPE=image/png:https://callahanfbc.com/wp-content/uploads/2024/11/Celebrate-Recovery-Banner-2021-e1731513092622.png
END:VEVENT
BEGIN:VEVENT
DTSTART;TZID=UTC:20241114T180000
DTEND;TZID=UTC:20241114T200000
DTSTAMP:20260424T032825
CREATED:20241112T210245Z
LAST-MODIFIED:20241112T210454Z
UID:10000264-1731607200-1731614400@callahanfbc.com
SUMMARY:Cards and Coffee
DESCRIPTION:Join us for a cozy evening of fellowship and encouragement as we write uplifting messages to our Ministry partners! Bring a dessert to share and blank cards with envelopes. Coffee\, tea\, and water will be provided. This is a wonderful opportunity to connect\, reflect\, and support others through heartfelt words. We hope to see you there!
URL:https://callahanfbc.com/event/cards-and-coffee/
LOCATION:Gym\, 45090\, Callahan\, FL\, 32011\, United States
CATEGORIES:Missions
ATTACH;FMTTYPE=image/jpeg:https://callahanfbc.com/wp-content/uploads/2024/11/AdobeStock_471253133.jpg
END:VEVENT
END:VCALENDAR