BEGIN:VCALENDAR
VERSION:2.0
PRODID:-//Callahan First Baptist Church - ECPv6.15.20//NONSGML v1.0//EN
CALSCALE:GREGORIAN
METHOD:PUBLISH
X-ORIGINAL-URL:https://callahanfbc.com
X-WR-CALDESC:Events for Callahan First Baptist Church
REFRESH-INTERVAL;VALUE=DURATION:PT1H
X-Robots-Tag:noindex
X-PUBLISHED-TTL:PT1H
BEGIN:VTIMEZONE
TZID:UTC
BEGIN:STANDARD
TZOFFSETFROM:+0000
TZOFFSETTO:+0000
TZNAME:UTC
DTSTART:20240101T000000
END:STANDARD
END:VTIMEZONE
BEGIN:VTIMEZONE
TZID:America/New_York
BEGIN:DAYLIGHT
TZOFFSETFROM:-0500
TZOFFSETTO:-0400
TZNAME:EDT
DTSTART:20240310T070000
END:DAYLIGHT
BEGIN:STANDARD
TZOFFSETFROM:-0400
TZOFFSETTO:-0500
TZNAME:EST
DTSTART:20241103T060000
END:STANDARD
BEGIN:DAYLIGHT
TZOFFSETFROM:-0500
TZOFFSETTO:-0400
TZNAME:EDT
DTSTART:20250309T070000
END:DAYLIGHT
BEGIN:STANDARD
TZOFFSETFROM:-0400
TZOFFSETTO:-0500
TZNAME:EST
DTSTART:20251102T060000
END:STANDARD
BEGIN:DAYLIGHT
TZOFFSETFROM:-0500
TZOFFSETTO:-0400
TZNAME:EDT
DTSTART:20260308T070000
END:DAYLIGHT
BEGIN:STANDARD
TZOFFSETFROM:-0400
TZOFFSETTO:-0500
TZNAME:EST
DTSTART:20261101T060000
END:STANDARD
END:VTIMEZONE
BEGIN:VEVENT
DTSTART;TZID=UTC:20251011T190000
DTEND;TZID=UTC:20251011T213000
DTSTAMP:20260424T180423
CREATED:20250130T015509Z
LAST-MODIFIED:20250812T202332Z
UID:10002976-1760209200-1760218200@callahanfbc.com
SUMMARY:Fresh Ground Faith
DESCRIPTION:We’ll serve up a venti-sized portion of fresh\, grounded encouragement and biblical wisdom that will freshen up your faith and ground you more deeply in God’s love! \nGet ready to experience a time of refreshment\, learn practical truths from Scripture\, and laugh out loud with other women in your area. \nThis two day event kicks off   Friday 7:00 – 9:30 pm   |    Saturday 9:00 am – 12:30 pm
URL:https://callahanfbc.com/event/fresh-ground-faith/2025-10-11/
LOCATION:Worship Center
ATTACH;FMTTYPE=image/jpeg:https://callahanfbc.com/wp-content/uploads/2025/01/FGF_SAVE_THE_DATE_CallahanFL_25.jpg
END:VEVENT
BEGIN:VEVENT
DTSTART;TZID=UTC:20251010T190000
DTEND;TZID=UTC:20251010T213000
DTSTAMP:20260424T180423
CREATED:20250130T015509Z
LAST-MODIFIED:20250812T202332Z
UID:10002975-1760122800-1760131800@callahanfbc.com
SUMMARY:Fresh Ground Faith
DESCRIPTION:We’ll serve up a venti-sized portion of fresh\, grounded encouragement and biblical wisdom that will freshen up your faith and ground you more deeply in God’s love! \nGet ready to experience a time of refreshment\, learn practical truths from Scripture\, and laugh out loud with other women in your area. \nThis two day event kicks off   Friday 7:00 – 9:30 pm   |    Saturday 9:00 am – 12:30 pm
URL:https://callahanfbc.com/event/fresh-ground-faith/2025-10-10/
LOCATION:Worship Center
ATTACH;FMTTYPE=image/jpeg:https://callahanfbc.com/wp-content/uploads/2025/01/FGF_SAVE_THE_DATE_CallahanFL_25.jpg
END:VEVENT
BEGIN:VEVENT
DTSTART;TZID=UTC:20251005T103000
DTEND;TZID=UTC:20251005T110000
DTSTAMP:20260424T180423
CREATED:20250130T014819Z
LAST-MODIFIED:20250130T015700Z
UID:10003342-1759660200-1759662000@callahanfbc.com
SUMMARY:First Grade Bible Presentation
DESCRIPTION:Join us for a special ceremony for our First Grade students. Join use\, as we present our new readers with their own copy of God’s word. Come let your 1st Grade Bible Fellowship Group students join us for this special occasion that we will have during the Sunday worship service.
URL:https://callahanfbc.com/event/first-grade-bible-presentation/
LOCATION:Worship Center
ATTACH;FMTTYPE=image/jpeg:https://callahanfbc.com/wp-content/uploads/2024/11/CF-Kids-Check-In.jpg
END:VEVENT
BEGIN:VEVENT
DTSTART;TZID=UTC:20250615T100000
DTEND;TZID=UTC:20250615T110000
DTSTAMP:20260424T180423
CREATED:20250130T020138Z
LAST-MODIFIED:20250130T020138Z
UID:10003349-1749981600-1749985200@callahanfbc.com
SUMMARY:Family Dedication
DESCRIPTION:Come be part of a beautiful moment as we dedicate our families to the church in a spirit of love and faith. This special event is a time to celebrate the importance of family\, strengthen our bonds\, and commit to raising our loved ones in God’s grace. Together\, we’ll lift each other up in prayer\, support\, and hope for the future.
URL:https://callahanfbc.com/event/family-dedication/
LOCATION:Worship Center
ATTACH;FMTTYPE=image/jpeg:https://callahanfbc.com/wp-content/uploads/2024/04/3T6A1410-1.jpg
END:VEVENT
BEGIN:VEVENT
DTSTART;TZID=America/New_York:20250603T180000
DTEND;TZID=America/New_York:20250603T200000
DTSTAMP:20260424T180423
CREATED:20250328T183252Z
LAST-MODIFIED:20250516T193404Z
UID:10003353-1748973600-1748980800@callahanfbc.com
SUMMARY:Fresh Grounded Faith Volunteer
DESCRIPTION:  \nAt these meetings\, you’ll find out how you and your church can get FREE tickets\, become a Co-Host Church\, and get FREE use of one of Jennifer’s popular Bible Study Curriculum Kits. Plus\, learn how you can volunteer and be part of a special meet and greet at the FGF Conference. \nIf you plan to attend any of the meeting dates listed above\, please RSVP below: \nhttps://sp241.infusionsoft.app/app/form/rsvp-callahan-fl
URL:https://callahanfbc.com/event/1182/
LOCATION:Worship Center
ATTACH;FMTTYPE=image/jpeg:https://callahanfbc.com/wp-content/uploads/2025/03/FGF_CallahanFL_25_web1200x690_NEW.jpg
END:VEVENT
END:VCALENDAR